BEGIN:VCALENDAR
VERSION:2.0
PRODID:-//Ariton Baptist Church - ECPv6.15.13.1//NONSGML v1.0//EN
CALSCALE:GREGORIAN
METHOD:PUBLISH
X-ORIGINAL-URL:https://aritonbc.org
X-WR-CALDESC:Events for Ariton Baptist Church
REFRESH-INTERVAL;VALUE=DURATION:PT1H
X-Robots-Tag:noindex
X-PUBLISHED-TTL:PT1H
BEGIN:VTIMEZONE
TZID:America/Chicago
BEGIN:DAYLIGHT
TZOFFSETFROM:-0600
TZOFFSETTO:-0500
TZNAME:CDT
DTSTART:20250309T080000
END:DAYLIGHT
BEGIN:STANDARD
TZOFFSETFROM:-0500
TZOFFSETTO:-0600
TZNAME:CST
DTSTART:20251102T070000
END:STANDARD
BEGIN:DAYLIGHT
TZOFFSETFROM:-0600
TZOFFSETTO:-0500
TZNAME:CDT
DTSTART:20260308T080000
END:DAYLIGHT
BEGIN:STANDARD
TZOFFSETFROM:-0500
TZOFFSETTO:-0600
TZNAME:CST
DTSTART:20261101T070000
END:STANDARD
BEGIN:DAYLIGHT
TZOFFSETFROM:-0600
TZOFFSETTO:-0500
TZNAME:CDT
DTSTART:20270314T080000
END:DAYLIGHT
BEGIN:STANDARD
TZOFFSETFROM:-0500
TZOFFSETTO:-0600
TZNAME:CST
DTSTART:20271107T070000
END:STANDARD
END:VTIMEZONE
BEGIN:VEVENT
DTSTART;TZID=America/Chicago:20261213T080000
DTEND;TZID=America/Chicago:20261213T090000
DTSTAMP:20260424T054621
CREATED:20260218T203854Z
LAST-MODIFIED:20260303T210856Z
UID:11718-1797148800-1797152400@aritonbc.org
SUMMARY:Brotherhood Breakfast
DESCRIPTION:
URL:https://aritonbc.org/event/brotherhood-breakfast-59/
END:VEVENT
BEGIN:VEVENT
DTSTART;TZID=America/Chicago:20261213T094500
DTEND;TZID=America/Chicago:20261213T104500
DTSTAMP:20260424T054621
CREATED:20260218T203854Z
LAST-MODIFIED:20260303T210856Z
UID:11719-1797155100-1797158700@aritonbc.org
SUMMARY:In-House Sunday School
DESCRIPTION:Large Group Adult\, Youth\, Children & Toddler SS Classes. Nursery Provided.
URL:https://aritonbc.org/event/in-house-sunday-school-206/
END:VEVENT
BEGIN:VEVENT
DTSTART;TZID=America/Chicago:20261213T110000
DTEND;TZID=America/Chicago:20261213T120000
DTSTAMP:20260424T054621
CREATED:20260219T203900Z
LAST-MODIFIED:20260303T210856Z
UID:11723-1797159600-1797163200@aritonbc.org
SUMMARY:Worship Service In-House & Posted to Facebook Later
DESCRIPTION:
URL:https://aritonbc.org/event/worship-service-in-house-posted-to-facebook-later-207/
END:VEVENT
BEGIN:VEVENT
DTSTART;TZID=America/Chicago:20261213T180000
DTEND;TZID=America/Chicago:20261213T190000
DTSTAMP:20260424T054621
CREATED:20260219T203901Z
LAST-MODIFIED:20260303T210856Z
UID:11724-1797184800-1797188400@aritonbc.org
SUMMARY:Sunday Evening Service
DESCRIPTION:
URL:https://aritonbc.org/event/sunday-evening-service-101/
END:VEVENT
BEGIN:VEVENT
DTSTART;VALUE=DATE:20261215
DTEND;VALUE=DATE:20261216
DTSTAMP:20260424T054621
CREATED:20260219T203901Z
LAST-MODIFIED:20260303T210856Z
UID:11725-1797292800-1797379199@aritonbc.org
SUMMARY:Pack BROWN BAGS
DESCRIPTION:
URL:https://aritonbc.org/event/pack-brown-bags-25/
END:VEVENT
BEGIN:VEVENT
DTSTART;TZID=America/Chicago:20261216T093000
DTEND;TZID=America/Chicago:20261216T130000
DTSTAMP:20260424T054621
CREATED:20260222T205358Z
LAST-MODIFIED:20260303T210856Z
UID:11732-1797413400-1797426000@aritonbc.org
SUMMARY:BROWN BAG MINISTRY Pick-up
DESCRIPTION:
URL:https://aritonbc.org/event/brown-bag-ministry-pick-up-47/
END:VEVENT
BEGIN:VEVENT
DTSTART;TZID=America/Chicago:20261216T173000
DTEND;TZID=America/Chicago:20261216T183000
DTSTAMP:20260424T054621
CREATED:20260222T205358Z
LAST-MODIFIED:20260303T210856Z
UID:11733-1797442200-1797445800@aritonbc.org
SUMMARY:Wednesday Meal
DESCRIPTION:
URL:https://aritonbc.org/event/wednesday-meal-76/
END:VEVENT
BEGIN:VEVENT
DTSTART;TZID=America/Chicago:20261216T183000
DTEND;TZID=America/Chicago:20261216T193000
DTSTAMP:20260424T054621
CREATED:20260223T205400Z
LAST-MODIFIED:20260303T210856Z
UID:11740-1797445800-1797449400@aritonbc.org
SUMMARY:Wednesday Night Service
DESCRIPTION:Check Ariton Baptist Facebook page for instructions
URL:https://aritonbc.org/event/wednesday-night-service-206/
END:VEVENT
BEGIN:VEVENT
DTSTART;TZID=America/Chicago:20261217T110000
DTEND;TZID=America/Chicago:20261217T130000
DTSTAMP:20260424T054621
CREATED:20260223T205400Z
LAST-MODIFIED:20260303T210856Z
UID:11742-1797505200-1797512400@aritonbc.org
SUMMARY:Wonderful Widows Luncheon
DESCRIPTION:
URL:https://aritonbc.org/event/wonderful-widows-luncheon-38/
END:VEVENT
BEGIN:VEVENT
DTSTART;TZID=America/Chicago:20261220T094500
DTEND;TZID=America/Chicago:20261220T104500
DTSTAMP:20260424T054621
CREATED:20260225T205402Z
LAST-MODIFIED:20260303T210856Z
UID:11762-1797759900-1797763500@aritonbc.org
SUMMARY:In-House Sunday School
DESCRIPTION:Large Group Adult\, Youth\, Children & Toddler SS Classes. Nursery Provided.
URL:https://aritonbc.org/event/in-house-sunday-school-207/
END:VEVENT
BEGIN:VEVENT
DTSTART;TZID=America/Chicago:20261220T110000
DTEND;TZID=America/Chicago:20261220T120000
DTSTAMP:20260424T054621
CREATED:20260226T205353Z
LAST-MODIFIED:20260303T210856Z
UID:11765-1797764400-1797768000@aritonbc.org
SUMMARY:Worship Service In-House & Posted to Facebook Later
DESCRIPTION:
URL:https://aritonbc.org/event/worship-service-in-house-posted-to-facebook-later-208/
END:VEVENT
BEGIN:VEVENT
DTSTART;TZID=America/Chicago:20261220T180000
DTEND;TZID=America/Chicago:20261220T190000
DTSTAMP:20260424T054621
CREATED:20260226T205353Z
LAST-MODIFIED:20260303T210856Z
UID:11766-1797789600-1797793200@aritonbc.org
SUMMARY:Sunday Evening Service
DESCRIPTION:
URL:https://aritonbc.org/event/sunday-evening-service-102/
END:VEVENT
BEGIN:VEVENT
DTSTART;VALUE=DATE:20261222
DTEND;VALUE=DATE:20261223
DTSTAMP:20260424T054621
CREATED:20260227T205400Z
LAST-MODIFIED:20260303T210856Z
UID:11770-1797897600-1797983999@aritonbc.org
SUMMARY:Magazines Out
DESCRIPTION:
URL:https://aritonbc.org/event/magazines-out-49/
END:VEVENT
BEGIN:VEVENT
DTSTART;TZID=America/Chicago:20261223T173000
DTEND;TZID=America/Chicago:20261223T183000
DTSTAMP:20260424T054621
CREATED:20260301T210858Z
LAST-MODIFIED:20260303T210856Z
UID:11774-1798047000-1798050600@aritonbc.org
SUMMARY:Wednesday Meal
DESCRIPTION:
URL:https://aritonbc.org/event/wednesday-meal-77/
END:VEVENT
BEGIN:VEVENT
DTSTART;TZID=America/Chicago:20261223T183000
DTEND;TZID=America/Chicago:20261223T193000
DTSTAMP:20260424T054621
CREATED:20260301T210858Z
LAST-MODIFIED:20260303T210856Z
UID:11775-1798050600-1798054200@aritonbc.org
SUMMARY:Wednesday Night Service
DESCRIPTION:Check Ariton Baptist Facebook page for instructions
URL:https://aritonbc.org/event/wednesday-night-service-207/
END:VEVENT
BEGIN:VEVENT
DTSTART;TZID=America/Chicago:20261227T094500
DTEND;TZID=America/Chicago:20261227T104500
DTSTAMP:20260424T054621
CREATED:20260302T210856Z
LAST-MODIFIED:20260303T210856Z
UID:11782-1798364700-1798368300@aritonbc.org
SUMMARY:In-House Sunday School
DESCRIPTION:Large Group Adult\, Youth\, Children & Toddler SS Classes. Nursery Provided.
URL:https://aritonbc.org/event/in-house-sunday-school-208/
END:VEVENT
END:VCALENDAR