BEGIN:VCALENDAR
VERSION:2.0
PRODID:-//Ariton Baptist Church - ECPv6.15.13.1//NONSGML v1.0//EN
CALSCALE:GREGORIAN
METHOD:PUBLISH
X-WR-CALNAME:Ariton Baptist Church
X-ORIGINAL-URL:https://aritonbc.org
X-WR-CALDESC:Events for Ariton Baptist Church
REFRESH-INTERVAL;VALUE=DURATION:PT1H
X-Robots-Tag:noindex
X-PUBLISHED-TTL:PT1H
BEGIN:VTIMEZONE
TZID:America/Chicago
BEGIN:DAYLIGHT
TZOFFSETFROM:-0600
TZOFFSETTO:-0500
TZNAME:CDT
DTSTART:20220313T080000
END:DAYLIGHT
BEGIN:STANDARD
TZOFFSETFROM:-0500
TZOFFSETTO:-0600
TZNAME:CST
DTSTART:20221106T070000
END:STANDARD
BEGIN:DAYLIGHT
TZOFFSETFROM:-0600
TZOFFSETTO:-0500
TZNAME:CDT
DTSTART:20230312T080000
END:DAYLIGHT
BEGIN:STANDARD
TZOFFSETFROM:-0500
TZOFFSETTO:-0600
TZNAME:CST
DTSTART:20231105T070000
END:STANDARD
BEGIN:DAYLIGHT
TZOFFSETFROM:-0600
TZOFFSETTO:-0500
TZNAME:CDT
DTSTART:20240310T080000
END:DAYLIGHT
BEGIN:STANDARD
TZOFFSETFROM:-0500
TZOFFSETTO:-0600
TZNAME:CST
DTSTART:20241103T070000
END:STANDARD
END:VTIMEZONE
BEGIN:VEVENT
DTSTART;TZID=America/Chicago:20230918T183000
DTEND;TZID=America/Chicago:20230918T193000
DTSTAMP:20260423T203800
CREATED:20230119T214115Z
LAST-MODIFIED:20230122T221746Z
UID:3516-1695061800-1695065400@aritonbc.org
SUMMARY:MEN'S PRAYER GROUP
DESCRIPTION:
URL:https://aritonbc.org/event/mens-prayer-group-18/
END:VEVENT
BEGIN:VEVENT
DTSTART;TZID=America/Chicago:20230917T180000
DTEND;TZID=America/Chicago:20230917T190000
DTSTAMP:20260423T203800
CREATED:20230109T192235Z
LAST-MODIFIED:20230813T183432Z
UID:3076-1694973600-1694977200@aritonbc.org
SUMMARY:Evening Service: In-House
DESCRIPTION:
URL:https://aritonbc.org/event/evening-service-in-house-37/
END:VEVENT
BEGIN:VEVENT
DTSTART;TZID=America/Chicago:20230917T170000
DTEND;TZID=America/Chicago:20230917T180000
DTSTAMP:20260423T203800
CREATED:20230109T192235Z
LAST-MODIFIED:20230813T183432Z
UID:3075-1694970000-1694973600@aritonbc.org
SUMMARY:Discipleship Training
DESCRIPTION:
URL:https://aritonbc.org/event/discipleship-training-37/
END:VEVENT
BEGIN:VEVENT
DTSTART;TZID=America/Chicago:20230917T110000
DTEND;TZID=America/Chicago:20230917T120000
DTSTAMP:20260423T203800
CREATED:20230109T192235Z
LAST-MODIFIED:20230813T183432Z
UID:3074-1694948400-1694952000@aritonbc.org
SUMMARY:Worship Service In-House & Posted to Facebook Later
DESCRIPTION:
URL:https://aritonbc.org/event/worship-service-in-house-posted-to-facebook-later-38/
END:VEVENT
BEGIN:VEVENT
DTSTART;TZID=America/Chicago:20230917T094500
DTEND;TZID=America/Chicago:20230917T104500
DTSTAMP:20260423T203800
CREATED:20230108T191859Z
LAST-MODIFIED:20230813T183432Z
UID:3069-1694943900-1694947500@aritonbc.org
SUMMARY:In-House Sunday School
DESCRIPTION:Large Group Adult\, Youth\, Children & Toddler SS Classes. Nursery Provided.
URL:https://aritonbc.org/event/in-house-sunday-school-37/
END:VEVENT
BEGIN:VEVENT
DTSTART;TZID=America/Chicago:20230913T183000
DTEND;TZID=America/Chicago:20230913T193000
DTSTAMP:20260423T203800
CREATED:20230108T191859Z
LAST-MODIFIED:20230813T183432Z
UID:3068-1694629800-1694633400@aritonbc.org
SUMMARY:Wednesday Night Service
DESCRIPTION:Check Ariton Baptist Facebook page for instructions
URL:https://aritonbc.org/event/wednesday-night-service-38/
END:VEVENT
BEGIN:VEVENT
DTSTART;TZID=America/Chicago:20230913T173000
DTEND;TZID=America/Chicago:20230913T183000
DTSTAMP:20260423T203800
CREATED:20230108T191858Z
LAST-MODIFIED:20230813T183432Z
UID:3067-1694626200-1694629800@aritonbc.org
SUMMARY:Wednesday Night Meal
DESCRIPTION:
URL:https://aritonbc.org/event/wednesday-night-meal-37/
END:VEVENT
BEGIN:VEVENT
DTSTART;TZID=America/Chicago:20230911T183000
DTEND;TZID=America/Chicago:20230911T193000
DTSTAMP:20260423T203800
CREATED:20230126T225104Z
LAST-MODIFIED:20230606T180645Z
UID:3609-1694457000-1694460600@aritonbc.org
SUMMARY:MEN'S BIBLE STUDY
DESCRIPTION:
URL:https://aritonbc.org/event/mens-bible-study-27/
END:VEVENT
BEGIN:VEVENT
DTSTART;TZID=America/Chicago:20230910T180000
DTEND;TZID=America/Chicago:20230910T190000
DTSTAMP:20260423T203800
CREATED:20230102T183608Z
LAST-MODIFIED:20230813T183432Z
UID:3048-1694368800-1694372400@aritonbc.org
SUMMARY:Evening Service: In-House
DESCRIPTION:
URL:https://aritonbc.org/event/evening-service-in-house-36/
END:VEVENT
BEGIN:VEVENT
DTSTART;TZID=America/Chicago:20230910T170000
DTEND;TZID=America/Chicago:20230910T180000
DTSTAMP:20260423T203800
CREATED:20230103T184823Z
LAST-MODIFIED:20230813T183432Z
UID:3053-1694365200-1694368800@aritonbc.org
SUMMARY:Discipleship Training
DESCRIPTION:
URL:https://aritonbc.org/event/discipleship-training-36/
END:VEVENT
BEGIN:VEVENT
DTSTART;TZID=America/Chicago:20230910T110000
DTEND;TZID=America/Chicago:20230910T120000
DTSTAMP:20260423T203800
CREATED:20230102T183608Z
LAST-MODIFIED:20230813T183432Z
UID:3047-1694343600-1694347200@aritonbc.org
SUMMARY:Worship Service In-House & Posted to Facebook Later
DESCRIPTION:
URL:https://aritonbc.org/event/worship-service-in-house-posted-to-facebook-later-37/
END:VEVENT
BEGIN:VEVENT
DTSTART;TZID=America/Chicago:20230910T094500
DTEND;TZID=America/Chicago:20230910T104500
DTSTAMP:20260423T203800
CREATED:20230102T183608Z
LAST-MODIFIED:20230813T183432Z
UID:3046-1694339100-1694342700@aritonbc.org
SUMMARY:In-House Sunday School
DESCRIPTION:Large Group Adult\, Youth\, Children & Toddler SS Classes. Nursery Provided.
URL:https://aritonbc.org/event/in-house-sunday-school-36/
END:VEVENT
BEGIN:VEVENT
DTSTART;TZID=America/Chicago:20230910T080000
DTEND;TZID=America/Chicago:20230910T090000
DTSTAMP:20260423T203800
CREATED:20230102T183608Z
LAST-MODIFIED:20230813T183432Z
UID:3045-1694332800-1694336400@aritonbc.org
SUMMARY:Brotherhood Breakfast
DESCRIPTION:
URL:https://aritonbc.org/event/brotherhood-breakfast-9/
END:VEVENT
BEGIN:VEVENT
DTSTART;TZID=America/Chicago:20230906T183000
DTEND;TZID=America/Chicago:20230906T193000
DTSTAMP:20260423T203800
CREATED:20221229T182256Z
LAST-MODIFIED:20230813T183432Z
UID:3037-1694025000-1694028600@aritonbc.org
SUMMARY:Wednesday Night Service
DESCRIPTION:Check Ariton Baptist Facebook page for instructions
URL:https://aritonbc.org/event/wednesday-night-service-37/
END:VEVENT
BEGIN:VEVENT
DTSTART;TZID=America/Chicago:20230906T173000
DTEND;TZID=America/Chicago:20230906T183000
DTSTAMP:20260423T203800
CREATED:20221230T182222Z
LAST-MODIFIED:20230813T183432Z
UID:3039-1694021400-1694025000@aritonbc.org
SUMMARY:Wednesday Night Meal
DESCRIPTION:
URL:https://aritonbc.org/event/wednesday-night-meal-36/
END:VEVENT
BEGIN:VEVENT
DTSTART;TZID=America/Chicago:20230904T183000
DTEND;TZID=America/Chicago:20230904T193000
DTSTAMP:20260423T203800
CREATED:20230123T222035Z
LAST-MODIFIED:20230606T180645Z
UID:3561-1693852200-1693855800@aritonbc.org
SUMMARY:MEN'S BIBLE STUDY
DESCRIPTION:
URL:https://aritonbc.org/event/mens-bible-study-26/
END:VEVENT
BEGIN:VEVENT
DTSTART;TZID=America/Chicago:20230904T183000
DTEND;TZID=America/Chicago:20230904T193000
DTSTAMP:20260423T203800
CREATED:20221228T181658Z
LAST-MODIFIED:20230122T221746Z
UID:3033-1693852200-1693855800@aritonbc.org
SUMMARY:MEN'S PRAYER GROUP
DESCRIPTION:
URL:https://aritonbc.org/event/mens-prayer-group-17/
END:VEVENT
BEGIN:VEVENT
DTSTART;VALUE=DATE:20230904
DTEND;VALUE=DATE:20230905
DTSTAMP:20260423T203800
CREATED:20230607T182118Z
LAST-MODIFIED:20230813T183432Z
UID:5699-1693785600-1693871999@aritonbc.org
SUMMARY:Labor Day
DESCRIPTION:
URL:https://aritonbc.org/event/labor-day/
END:VEVENT
BEGIN:VEVENT
DTSTART;TZID=America/Chicago:20230903T180000
DTEND;TZID=America/Chicago:20230903T190000
DTSTAMP:20260423T203800
CREATED:20221227T180733Z
LAST-MODIFIED:20230813T183432Z
UID:3029-1693764000-1693767600@aritonbc.org
SUMMARY:Evening Service: In-House
DESCRIPTION:
URL:https://aritonbc.org/event/evening-service-in-house-35/
END:VEVENT
BEGIN:VEVENT
DTSTART;TZID=America/Chicago:20230903T170000
DTEND;TZID=America/Chicago:20230903T180000
DTSTAMP:20260423T203800
CREATED:20221228T181658Z
LAST-MODIFIED:20230813T183432Z
UID:3032-1693760400-1693764000@aritonbc.org
SUMMARY:Discipleship Training
DESCRIPTION:
URL:https://aritonbc.org/event/discipleship-training-35/
END:VEVENT
BEGIN:VEVENT
DTSTART;TZID=America/Chicago:20230903T110000
DTEND;TZID=America/Chicago:20230903T120000
DTSTAMP:20260423T203800
CREATED:20221225T180414Z
LAST-MODIFIED:20230813T183432Z
UID:3024-1693738800-1693742400@aritonbc.org
SUMMARY:Worship Service In-House & Posted to Facebook Later
DESCRIPTION:
URL:https://aritonbc.org/event/worship-service-in-house-posted-to-facebook-later-36/
END:VEVENT
BEGIN:VEVENT
DTSTART;TZID=America/Chicago:20230903T094500
DTEND;TZID=America/Chicago:20230903T104500
DTSTAMP:20260423T203800
CREATED:20221225T180414Z
LAST-MODIFIED:20230813T183432Z
UID:3023-1693734300-1693737900@aritonbc.org
SUMMARY:In-House Sunday School
DESCRIPTION:Large Group Adult\, Youth\, Children & Toddler SS Classes. Nursery Provided.
URL:https://aritonbc.org/event/in-house-sunday-school-35/
END:VEVENT
BEGIN:VEVENT
DTSTART;TZID=America/Chicago:20230901T180000
DTEND;TZID=America/Chicago:20230901T220000
DTSTAMP:20260423T203800
CREATED:20230630T201943Z
LAST-MODIFIED:20230813T183432Z
UID:5890-1693591200-1693605600@aritonbc.org
SUMMARY:AHS Concessions
DESCRIPTION:
URL:https://aritonbc.org/event/ahs-concessions/
END:VEVENT
BEGIN:VEVENT
DTSTART;TZID=America/Chicago:20230830T183000
DTEND;TZID=America/Chicago:20230830T193000
DTSTAMP:20260423T203800
CREATED:20221222T235441Z
LAST-MODIFIED:20230813T183432Z
UID:3015-1693420200-1693423800@aritonbc.org
SUMMARY:Wednesday Night Service
DESCRIPTION:Check Ariton Baptist Facebook page for instructions
URL:https://aritonbc.org/event/wednesday-night-service-36/
END:VEVENT
BEGIN:VEVENT
DTSTART;TZID=America/Chicago:20230830T173000
DTEND;TZID=America/Chicago:20230830T183000
DTSTAMP:20260423T203800
CREATED:20221222T235441Z
LAST-MODIFIED:20230813T183432Z
UID:3016-1693416600-1693420200@aritonbc.org
SUMMARY:Wednesday Night Meal
DESCRIPTION:
URL:https://aritonbc.org/event/wednesday-night-meal-35/
END:VEVENT
BEGIN:VEVENT
DTSTART;VALUE=DATE:20230830
DTEND;VALUE=DATE:20230831
DTSTAMP:20260423T203800
CREATED:20221222T235441Z
LAST-MODIFIED:20230813T183432Z
UID:3017-1693353600-1693439999@aritonbc.org
SUMMARY:Special Called Meeting-NomCom
DESCRIPTION:
URL:https://aritonbc.org/event/special-called-meeting-nomcom/
END:VEVENT
BEGIN:VEVENT
DTSTART;TZID=America/Chicago:20230828T183000
DTEND;TZID=America/Chicago:20230828T193000
DTSTAMP:20260423T203800
CREATED:20230123T222035Z
LAST-MODIFIED:20230606T180645Z
UID:3560-1693247400-1693251000@aritonbc.org
SUMMARY:MEN'S BIBLE STUDY
DESCRIPTION:
URL:https://aritonbc.org/event/mens-bible-study-25/
END:VEVENT
BEGIN:VEVENT
DTSTART;TZID=America/Chicago:20230827T180000
DTEND;TZID=America/Chicago:20230827T190000
DTSTAMP:20260423T203800
CREATED:20221221T233304Z
LAST-MODIFIED:20230813T183432Z
UID:2701-1693159200-1693162800@aritonbc.org
SUMMARY:Evening Service: In-House
DESCRIPTION:
URL:https://aritonbc.org/event/evening-service-in-house-34/
END:VEVENT
BEGIN:VEVENT
DTSTART;TZID=America/Chicago:20230827T170000
DTEND;TZID=America/Chicago:20230827T180000
DTSTAMP:20260423T203800
CREATED:20221221T233304Z
LAST-MODIFIED:20230813T183432Z
UID:2702-1693155600-1693159200@aritonbc.org
SUMMARY:Discipleship Training
DESCRIPTION:
URL:https://aritonbc.org/event/discipleship-training-34/
END:VEVENT
BEGIN:VEVENT
DTSTART;TZID=America/Chicago:20230827T110000
DTEND;TZID=America/Chicago:20230827T120000
DTSTAMP:20260423T203800
CREATED:20221221T233304Z
LAST-MODIFIED:20230813T183432Z
UID:2700-1693134000-1693137600@aritonbc.org
SUMMARY:Worship Service In-House & Posted to Facebook Later
DESCRIPTION:
URL:https://aritonbc.org/event/worship-service-in-house-posted-to-facebook-later-35/
END:VEVENT
END:VCALENDAR