BEGIN:VCALENDAR
VERSION:2.0
PRODID:-//Ariton Baptist Church - ECPv6.15.13.1//NONSGML v1.0//EN
CALSCALE:GREGORIAN
METHOD:PUBLISH
X-WR-CALNAME:Ariton Baptist Church
X-ORIGINAL-URL:https://aritonbc.org
X-WR-CALDESC:Events for Ariton Baptist Church
REFRESH-INTERVAL;VALUE=DURATION:PT1H
X-Robots-Tag:noindex
X-PUBLISHED-TTL:PT1H
BEGIN:VTIMEZONE
TZID:America/Chicago
BEGIN:DAYLIGHT
TZOFFSETFROM:-0600
TZOFFSETTO:-0500
TZNAME:CDT
DTSTART:20240310T080000
END:DAYLIGHT
BEGIN:STANDARD
TZOFFSETFROM:-0500
TZOFFSETTO:-0600
TZNAME:CST
DTSTART:20241103T070000
END:STANDARD
BEGIN:DAYLIGHT
TZOFFSETFROM:-0600
TZOFFSETTO:-0500
TZNAME:CDT
DTSTART:20250309T080000
END:DAYLIGHT
BEGIN:STANDARD
TZOFFSETFROM:-0500
TZOFFSETTO:-0600
TZNAME:CST
DTSTART:20251102T070000
END:STANDARD
BEGIN:DAYLIGHT
TZOFFSETFROM:-0600
TZOFFSETTO:-0500
TZNAME:CDT
DTSTART:20260308T080000
END:DAYLIGHT
BEGIN:STANDARD
TZOFFSETFROM:-0500
TZOFFSETTO:-0600
TZNAME:CST
DTSTART:20261101T070000
END:STANDARD
END:VTIMEZONE
BEGIN:VEVENT
DTSTART;VALUE=DATE:20251104
DTEND;VALUE=DATE:20251105
DTSTAMP:20260419T140108
CREATED:20250916T222432Z
LAST-MODIFIED:20251104T173849Z
UID:10451-1762214400-1762300799@aritonbc.org
SUMMARY:Election Day
DESCRIPTION:
URL:https://aritonbc.org/event/election-day-2/
END:VEVENT
BEGIN:VEVENT
DTSTART;TZID=America/Chicago:20251105T173000
DTEND;TZID=America/Chicago:20251105T183000
DTSTAMP:20260419T140108
CREATED:20250213T191822Z
LAST-MODIFIED:20250703T180854Z
UID:9369-1762363800-1762367400@aritonbc.org
SUMMARY:Wednesday Night Meal
DESCRIPTION:
URL:https://aritonbc.org/event/wednesday-night-meal-147/
END:VEVENT
BEGIN:VEVENT
DTSTART;TZID=America/Chicago:20251105T173000
DTEND;TZID=America/Chicago:20251105T183000
DTSTAMP:20260419T140108
CREATED:20250707T180902Z
LAST-MODIFIED:20251105T173921Z
UID:10176-1762363800-1762367400@aritonbc.org
SUMMARY:Wednesday Meal
DESCRIPTION:
URL:https://aritonbc.org/event/wednesday-meal-18/
END:VEVENT
BEGIN:VEVENT
DTSTART;TZID=America/Chicago:20251105T183000
DTEND;TZID=America/Chicago:20251105T193000
DTSTAMP:20260419T140108
CREATED:20250214T191904Z
LAST-MODIFIED:20251105T173921Z
UID:9373-1762367400-1762371000@aritonbc.org
SUMMARY:Wednesday Night Service
DESCRIPTION:Check Ariton Baptist Facebook page for instructions
URL:https://aritonbc.org/event/wednesday-night-service-148/
END:VEVENT
BEGIN:VEVENT
DTSTART;VALUE=DATE:20251109
DTEND;VALUE=DATE:20251110
DTSTAMP:20260419T140108
CREATED:20250916T222433Z
LAST-MODIFIED:20251109T175348Z
UID:10452-1762646400-1762732799@aritonbc.org
SUMMARY:⛪️ABC Homecoming
DESCRIPTION:
URL:https://aritonbc.org/event/homecoming/
END:VEVENT
BEGIN:VEVENT
DTSTART;VALUE=DATE:20251109
DTEND;VALUE=DATE:20251110
DTSTAMP:20260419T140108
CREATED:20251029T173847Z
LAST-MODIFIED:20251108T175345Z
UID:10641-1762646400-1762732799@aritonbc.org
SUMMARY:NO EVENING SERVICES
DESCRIPTION:
URL:https://aritonbc.org/event/no-evening-services-7/
END:VEVENT
BEGIN:VEVENT
DTSTART;VALUE=DATE:20251109
DTEND;VALUE=DATE:20251110
DTSTAMP:20260419T140108
CREATED:20251029T173847Z
LAST-MODIFIED:20251109T175349Z
UID:10642-1762646400-1762732799@aritonbc.org
SUMMARY:NO EVENING SERVICES
DESCRIPTION:
URL:https://aritonbc.org/event/no-evening-services-8/
END:VEVENT
BEGIN:VEVENT
DTSTART;VALUE=DATE:20251109
DTEND;VALUE=DATE:20251110
DTSTAMP:20260419T140108
CREATED:20251029T173847Z
LAST-MODIFIED:20251109T175349Z
UID:10640-1762646400-1762732799@aritonbc.org
SUMMARY:NO SUNDAY SCHOOL
DESCRIPTION:Large Group Adult\, Youth\, Children & Toddler SS Classes. Nursery Provided.
URL:https://aritonbc.org/event/no-sunday-school-3/
END:VEVENT
BEGIN:VEVENT
DTSTART;TZID=America/Chicago:20251109T080000
DTEND;TZID=America/Chicago:20251109T090000
DTSTAMP:20260419T140108
CREATED:20250216T191647Z
LAST-MODIFIED:20250915T220905Z
UID:9378-1762675200-1762678800@aritonbc.org
SUMMARY:Brotherhood Breakfast
DESCRIPTION:
URL:https://aritonbc.org/event/brotherhood-breakfast-46/
END:VEVENT
BEGIN:VEVENT
DTSTART;TZID=America/Chicago:20251109T094500
DTEND;TZID=America/Chicago:20251109T104500
DTSTAMP:20260419T140108
CREATED:20250216T191647Z
LAST-MODIFIED:20251028T173857Z
UID:9379-1762681500-1762685100@aritonbc.org
SUMMARY:In-House Sunday School
DESCRIPTION:Large Group Adult\, Youth\, Children & Toddler SS Classes. Nursery Provided.
URL:https://aritonbc.org/event/in-house-sunday-school-149/
END:VEVENT
BEGIN:VEVENT
DTSTART;TZID=America/Chicago:20251109T103000
DTEND;TZID=America/Chicago:20251109T120000
DTSTAMP:20260419T140108
CREATED:20250217T191655Z
LAST-MODIFIED:20251109T175349Z
UID:9383-1762684200-1762689600@aritonbc.org
SUMMARY:Worship Service In-House & Posted to Facebook Later
DESCRIPTION:
URL:https://aritonbc.org/event/worship-service-in-house-posted-to-facebook-later-150/
END:VEVENT
BEGIN:VEVENT
DTSTART;TZID=America/Chicago:20251109T120000
DTEND;TZID=America/Chicago:20251109T140000
DTSTAMP:20260419T140108
CREATED:20251029T173846Z
LAST-MODIFIED:20251109T175349Z
UID:10639-1762689600-1762696800@aritonbc.org
SUMMARY:Fellowship Lunch
DESCRIPTION:
URL:https://aritonbc.org/event/fellowship-lunch/
END:VEVENT
BEGIN:VEVENT
DTSTART;TZID=America/Chicago:20251109T170000
DTEND;TZID=America/Chicago:20251109T180000
DTSTAMP:20260419T140108
CREATED:20250219T191646Z
LAST-MODIFIED:20251028T173858Z
UID:9389-1762707600-1762711200@aritonbc.org
SUMMARY:Bible Recap Bible Study
DESCRIPTION:
URL:https://aritonbc.org/event/bible-recap-bible-study-147/
END:VEVENT
BEGIN:VEVENT
DTSTART;TZID=America/Chicago:20251109T173000
DTEND;TZID=America/Chicago:20251109T193000
DTSTAMP:20260419T140108
CREATED:20251029T173847Z
LAST-MODIFIED:20251109T175349Z
UID:10643-1762709400-1762716600@aritonbc.org
SUMMARY:Beautification-Christmas Prep
DESCRIPTION:
URL:https://aritonbc.org/event/beautification-christmas-prep/
END:VEVENT
BEGIN:VEVENT
DTSTART;TZID=America/Chicago:20251109T180000
DTEND;TZID=America/Chicago:20251109T190000
DTSTAMP:20260419T140108
CREATED:20250217T191655Z
LAST-MODIFIED:20251028T173858Z
UID:9384-1762711200-1762714800@aritonbc.org
SUMMARY:Sunday Evening Service
DESCRIPTION:
URL:https://aritonbc.org/event/sunday-evening-service-44/
END:VEVENT
BEGIN:VEVENT
DTSTART;VALUE=DATE:20251111
DTEND;VALUE=DATE:20251112
DTSTAMP:20260419T140108
CREATED:20250916T222433Z
LAST-MODIFIED:20251111T175346Z
UID:10453-1762819200-1762905599@aritonbc.org
SUMMARY:Veteran's Day
DESCRIPTION:
URL:https://aritonbc.org/event/veterans-day-3/
END:VEVENT
BEGIN:VEVENT
DTSTART;TZID=America/Chicago:20251112T173000
DTEND;TZID=America/Chicago:20251112T183000
DTSTAMP:20260419T140108
CREATED:20250219T191646Z
LAST-MODIFIED:20250703T180855Z
UID:9390-1762968600-1762972200@aritonbc.org
SUMMARY:Wednesday Night Meal
DESCRIPTION:
URL:https://aritonbc.org/event/wednesday-night-meal-148/
END:VEVENT
BEGIN:VEVENT
DTSTART;TZID=America/Chicago:20251112T173000
DTEND;TZID=America/Chicago:20251112T183000
DTSTAMP:20260419T140108
CREATED:20250707T180902Z
LAST-MODIFIED:20251112T175357Z
UID:10177-1762968600-1762972200@aritonbc.org
SUMMARY:Wednesday Meal
DESCRIPTION:
URL:https://aritonbc.org/event/wednesday-meal-19/
END:VEVENT
BEGIN:VEVENT
DTSTART;TZID=America/Chicago:20251112T183000
DTEND;TZID=America/Chicago:20251112T193000
DTSTAMP:20260419T140108
CREATED:20250220T191806Z
LAST-MODIFIED:20251112T175357Z
UID:9393-1762972200-1762975800@aritonbc.org
SUMMARY:Wednesday Night Service
DESCRIPTION:Check Ariton Baptist Facebook page for instructions
URL:https://aritonbc.org/event/wednesday-night-service-149/
END:VEVENT
BEGIN:VEVENT
DTSTART;VALUE=DATE:20251115
DTEND;VALUE=DATE:20251116
DTSTAMP:20260419T140108
CREATED:20250220T191806Z
LAST-MODIFIED:20251115T175359Z
UID:9395-1763164800-1763251199@aritonbc.org
SUMMARY:Second Chance Youth Hunt
DESCRIPTION:
URL:https://aritonbc.org/event/second-chance-youth-hunt/
END:VEVENT
BEGIN:VEVENT
DTSTART;TZID=America/Chicago:20251116T094500
DTEND;TZID=America/Chicago:20251116T104500
DTSTAMP:20260419T140108
CREATED:20250220T191806Z
LAST-MODIFIED:20251115T175359Z
UID:9396-1763286300-1763289900@aritonbc.org
SUMMARY:In-House Sunday School
DESCRIPTION:Large Group Adult\, Youth\, Children & Toddler SS Classes. Nursery Provided.
URL:https://aritonbc.org/event/in-house-sunday-school-150/
END:VEVENT
BEGIN:VEVENT
DTSTART;TZID=America/Chicago:20251116T110000
DTEND;TZID=America/Chicago:20251116T120000
DTSTAMP:20260419T140108
CREATED:20250223T193157Z
LAST-MODIFIED:20251116T175344Z
UID:9405-1763290800-1763294400@aritonbc.org
SUMMARY:Worship Service In-House & Posted to Facebook Later
DESCRIPTION:
URL:https://aritonbc.org/event/worship-service-in-house-posted-to-facebook-later-151/
END:VEVENT
BEGIN:VEVENT
DTSTART;TZID=America/Chicago:20251116T170000
DTEND;TZID=America/Chicago:20251116T180000
DTSTAMP:20260419T140108
CREATED:20250224T193206Z
LAST-MODIFIED:20251116T175344Z
UID:9409-1763312400-1763316000@aritonbc.org
SUMMARY:Bible Recap Bible Study
DESCRIPTION:
URL:https://aritonbc.org/event/bible-recap-bible-study-148/
END:VEVENT
BEGIN:VEVENT
DTSTART;TZID=America/Chicago:20251116T180000
DTEND;TZID=America/Chicago:20251116T190000
DTSTAMP:20260419T140108
CREATED:20250224T193206Z
LAST-MODIFIED:20251116T175344Z
UID:9408-1763316000-1763319600@aritonbc.org
SUMMARY:Sunday Evening Service
DESCRIPTION:
URL:https://aritonbc.org/event/sunday-evening-service-45/
END:VEVENT
BEGIN:VEVENT
DTSTART;VALUE=DATE:20251118
DTEND;VALUE=DATE:20251119
DTSTAMP:20260419T140108
CREATED:20250226T193235Z
LAST-MODIFIED:20251118T180857Z
UID:9414-1763424000-1763510399@aritonbc.org
SUMMARY:Pack BROWN BAGS
DESCRIPTION:
URL:https://aritonbc.org/event/pack-brown-bags-12/
END:VEVENT
BEGIN:VEVENT
DTSTART;VALUE=DATE:20251119
DTEND;VALUE=DATE:20251120
DTSTAMP:20260419T140108
CREATED:20250916T222433Z
LAST-MODIFIED:20251119T180849Z
UID:10454-1763510400-1763596799@aritonbc.org
SUMMARY:Youth Friendsgiving Feast
DESCRIPTION:
URL:https://aritonbc.org/event/youth-friendsgiving-feast/
END:VEVENT
BEGIN:VEVENT
DTSTART;TZID=America/Chicago:20251119T093000
DTEND;TZID=America/Chicago:20251119T130000
DTSTAMP:20260419T140108
CREATED:20250227T193203Z
LAST-MODIFIED:20251119T180849Z
UID:9417-1763544600-1763557200@aritonbc.org
SUMMARY:BROWN BAG MINISTRY Pick-up
DESCRIPTION:
URL:https://aritonbc.org/event/brown-bag-ministry-pick-up-33/
END:VEVENT
BEGIN:VEVENT
DTSTART;TZID=America/Chicago:20251119T173000
DTEND;TZID=America/Chicago:20251119T183000
DTSTAMP:20260419T140108
CREATED:20250228T193236Z
LAST-MODIFIED:20250703T180855Z
UID:9422-1763573400-1763577000@aritonbc.org
SUMMARY:Wednesday Night Meal
DESCRIPTION:
URL:https://aritonbc.org/event/wednesday-night-meal-149/
END:VEVENT
BEGIN:VEVENT
DTSTART;TZID=America/Chicago:20251119T173000
DTEND;TZID=America/Chicago:20251119T183000
DTSTAMP:20260419T140108
CREATED:20250707T180903Z
LAST-MODIFIED:20251119T180849Z
UID:10178-1763573400-1763577000@aritonbc.org
SUMMARY:Wednesday Meal
DESCRIPTION:
URL:https://aritonbc.org/event/wednesday-meal-20/
END:VEVENT
BEGIN:VEVENT
DTSTART;TZID=America/Chicago:20251119T183000
DTEND;TZID=America/Chicago:20251119T193000
DTSTAMP:20260419T140108
CREATED:20250227T193203Z
LAST-MODIFIED:20251119T180849Z
UID:9418-1763577000-1763580600@aritonbc.org
SUMMARY:Wednesday Night Service
DESCRIPTION:Check Ariton Baptist Facebook page for instructions
URL:https://aritonbc.org/event/wednesday-night-service-150/
END:VEVENT
END:VCALENDAR