BEGIN:VCALENDAR
VERSION:2.0
PRODID:-//Ariton Baptist Church - ECPv6.15.13.1//NONSGML v1.0//EN
CALSCALE:GREGORIAN
METHOD:PUBLISH
X-ORIGINAL-URL:https://aritonbc.org
X-WR-CALDESC:Events for Ariton Baptist Church
REFRESH-INTERVAL;VALUE=DURATION:PT1H
X-Robots-Tag:noindex
X-PUBLISHED-TTL:PT1H
BEGIN:VTIMEZONE
TZID:America/Chicago
BEGIN:DAYLIGHT
TZOFFSETFROM:-0600
TZOFFSETTO:-0500
TZNAME:CDT
DTSTART:20250309T080000
END:DAYLIGHT
BEGIN:STANDARD
TZOFFSETFROM:-0500
TZOFFSETTO:-0600
TZNAME:CST
DTSTART:20251102T070000
END:STANDARD
BEGIN:DAYLIGHT
TZOFFSETFROM:-0600
TZOFFSETTO:-0500
TZNAME:CDT
DTSTART:20260308T080000
END:DAYLIGHT
BEGIN:STANDARD
TZOFFSETFROM:-0500
TZOFFSETTO:-0600
TZNAME:CST
DTSTART:20261101T070000
END:STANDARD
BEGIN:DAYLIGHT
TZOFFSETFROM:-0600
TZOFFSETTO:-0500
TZNAME:CDT
DTSTART:20270314T080000
END:DAYLIGHT
BEGIN:STANDARD
TZOFFSETFROM:-0500
TZOFFSETTO:-0600
TZNAME:CST
DTSTART:20271107T070000
END:STANDARD
END:VTIMEZONE
BEGIN:VEVENT
DTSTART;TZID=America/Chicago:20260916T183000
DTEND;TZID=America/Chicago:20260916T193000
DTSTAMP:20260423T185645
CREATED:20260105T185356Z
LAST-MODIFIED:20260303T210853Z
UID:11460-1789583400-1789587000@aritonbc.org
SUMMARY:Wednesday Night Service
DESCRIPTION:Check Ariton Baptist Facebook page for instructions
URL:https://aritonbc.org/event/wednesday-night-service-193/
END:VEVENT
BEGIN:VEVENT
DTSTART;TZID=America/Chicago:20260917T110000
DTEND;TZID=America/Chicago:20260917T130000
DTSTAMP:20260423T185645
CREATED:20260106T185354Z
LAST-MODIFIED:20260303T210854Z
UID:11465-1789642800-1789650000@aritonbc.org
SUMMARY:Wonderful Widows Luncheon
DESCRIPTION:
URL:https://aritonbc.org/event/wonderful-widows-luncheon-35/
END:VEVENT
BEGIN:VEVENT
DTSTART;TZID=America/Chicago:20260920T094500
DTEND;TZID=America/Chicago:20260920T104500
DTSTAMP:20260423T185645
CREATED:20260108T185406Z
LAST-MODIFIED:20260303T210854Z
UID:11469-1789897500-1789901100@aritonbc.org
SUMMARY:In-House Sunday School
DESCRIPTION:Large Group Adult\, Youth\, Children & Toddler SS Classes. Nursery Provided.
URL:https://aritonbc.org/event/in-house-sunday-school-194/
END:VEVENT
BEGIN:VEVENT
DTSTART;TZID=America/Chicago:20260920T110000
DTEND;TZID=America/Chicago:20260920T120000
DTSTAMP:20260423T185645
CREATED:20260108T185406Z
LAST-MODIFIED:20260303T210854Z
UID:11470-1789902000-1789905600@aritonbc.org
SUMMARY:Worship Service In-House & Posted to Facebook Later
DESCRIPTION:
URL:https://aritonbc.org/event/worship-service-in-house-posted-to-facebook-later-195/
END:VEVENT
BEGIN:VEVENT
DTSTART;TZID=America/Chicago:20260920T170000
DTEND;TZID=America/Chicago:20260920T180000
DTSTAMP:20260423T185645
CREATED:20260111T190853Z
LAST-MODIFIED:20260125T192355Z
UID:11477-1789923600-1789927200@aritonbc.org
SUMMARY:Bible Recap Bible Study
DESCRIPTION:
URL:https://aritonbc.org/event/bible-recap-bible-study-192/
END:VEVENT
BEGIN:VEVENT
DTSTART;TZID=America/Chicago:20260920T180000
DTEND;TZID=America/Chicago:20260920T190000
DTSTAMP:20260423T185645
CREATED:20260111T190853Z
LAST-MODIFIED:20260303T210854Z
UID:11476-1789927200-1789930800@aritonbc.org
SUMMARY:Sunday Evening Service
DESCRIPTION:
URL:https://aritonbc.org/event/sunday-evening-service-89/
END:VEVENT
BEGIN:VEVENT
DTSTART;VALUE=DATE:20260922
DTEND;VALUE=DATE:20260923
DTSTAMP:20260423T185645
CREATED:20260111T190853Z
LAST-MODIFIED:20260303T210854Z
UID:11478-1790035200-1790121599@aritonbc.org
SUMMARY:Magazines Out
DESCRIPTION:
URL:https://aritonbc.org/event/magazines-out-46/
END:VEVENT
BEGIN:VEVENT
DTSTART;TZID=America/Chicago:20260923T173000
DTEND;TZID=America/Chicago:20260923T183000
DTSTAMP:20260423T185645
CREATED:20260112T190931Z
LAST-MODIFIED:20260303T210854Z
UID:11485-1790184600-1790188200@aritonbc.org
SUMMARY:Wednesday Meal
DESCRIPTION:
URL:https://aritonbc.org/event/wednesday-meal-64/
END:VEVENT
BEGIN:VEVENT
DTSTART;TZID=America/Chicago:20260923T183000
DTEND;TZID=America/Chicago:20260923T193000
DTSTAMP:20260423T185645
CREATED:20260111T190854Z
LAST-MODIFIED:20260303T210854Z
UID:11479-1790188200-1790191800@aritonbc.org
SUMMARY:Wednesday Night Service
DESCRIPTION:Check Ariton Baptist Facebook page for instructions
URL:https://aritonbc.org/event/wednesday-night-service-194/
END:VEVENT
BEGIN:VEVENT
DTSTART;TZID=America/Chicago:20260927T094500
DTEND;TZID=America/Chicago:20260927T104500
DTSTAMP:20260423T185645
CREATED:20260112T190931Z
LAST-MODIFIED:20260303T210854Z
UID:11487-1790502300-1790505900@aritonbc.org
SUMMARY:In-House Sunday School
DESCRIPTION:Large Group Adult\, Youth\, Children & Toddler SS Classes. Nursery Provided.
URL:https://aritonbc.org/event/in-house-sunday-school-195/
END:VEVENT
BEGIN:VEVENT
DTSTART;TZID=America/Chicago:20260927T110000
DTEND;TZID=America/Chicago:20260927T120000
DTSTAMP:20260423T185645
CREATED:20260115T190858Z
LAST-MODIFIED:20260303T210854Z
UID:11500-1790506800-1790510400@aritonbc.org
SUMMARY:Worship Service In-House & Posted to Facebook Later
DESCRIPTION:
URL:https://aritonbc.org/event/worship-service-in-house-posted-to-facebook-later-196/
END:VEVENT
BEGIN:VEVENT
DTSTART;TZID=America/Chicago:20260927T170000
DTEND;TZID=America/Chicago:20260927T180000
DTSTAMP:20260423T185645
CREATED:20260118T190855Z
LAST-MODIFIED:20260125T192355Z
UID:11507-1790528400-1790532000@aritonbc.org
SUMMARY:Bible Recap Bible Study
DESCRIPTION:
URL:https://aritonbc.org/event/bible-recap-bible-study-193/
END:VEVENT
BEGIN:VEVENT
DTSTART;TZID=America/Chicago:20260927T180000
DTEND;TZID=America/Chicago:20260927T190000
DTSTAMP:20260423T185645
CREATED:20260118T190855Z
LAST-MODIFIED:20260303T210854Z
UID:11508-1790532000-1790535600@aritonbc.org
SUMMARY:Sunday Evening Service
DESCRIPTION:
URL:https://aritonbc.org/event/sunday-evening-service-90/
END:VEVENT
BEGIN:VEVENT
DTSTART;TZID=America/Chicago:20260930T173000
DTEND;TZID=America/Chicago:20260930T183000
DTSTAMP:20260423T185645
CREATED:20260119T190925Z
LAST-MODIFIED:20260303T210854Z
UID:11515-1790789400-1790793000@aritonbc.org
SUMMARY:Wednesday Meal
DESCRIPTION:
URL:https://aritonbc.org/event/wednesday-meal-65/
END:VEVENT
BEGIN:VEVENT
DTSTART;TZID=America/Chicago:20260930T183000
DTEND;TZID=America/Chicago:20260930T193000
DTSTAMP:20260423T185645
CREATED:20260119T190925Z
LAST-MODIFIED:20260303T210854Z
UID:11516-1790793000-1790796600@aritonbc.org
SUMMARY:Wednesday Night Service
DESCRIPTION:Check Ariton Baptist Facebook page for instructions
URL:https://aritonbc.org/event/wednesday-night-service-195/
END:VEVENT
BEGIN:VEVENT
DTSTART;TZID=America/Chicago:20261004T083000
DTEND;TZID=America/Chicago:20261004T093000
DTSTAMP:20260423T185645
CREATED:20260120T190859Z
LAST-MODIFIED:20260303T210854Z
UID:11520-1791102600-1791106200@aritonbc.org
SUMMARY:Deacon's Meeting
DESCRIPTION:
URL:https://aritonbc.org/event/deacons-meeting-28/
END:VEVENT
BEGIN:VEVENT
DTSTART;TZID=America/Chicago:20261004T094500
DTEND;TZID=America/Chicago:20261004T104500
DTSTAMP:20260423T185645
CREATED:20260121T190853Z
LAST-MODIFIED:20260303T210854Z
UID:11523-1791107100-1791110700@aritonbc.org
SUMMARY:In-House Sunday School
DESCRIPTION:Large Group Adult\, Youth\, Children & Toddler SS Classes. Nursery Provided.
URL:https://aritonbc.org/event/in-house-sunday-school-196/
END:VEVENT
BEGIN:VEVENT
DTSTART;TZID=America/Chicago:20261004T110000
DTEND;TZID=America/Chicago:20261004T120000
DTSTAMP:20260423T185645
CREATED:20260121T190853Z
LAST-MODIFIED:20260303T210854Z
UID:11524-1791111600-1791115200@aritonbc.org
SUMMARY:Worship Service In-House & Posted to Facebook Later
DESCRIPTION:
URL:https://aritonbc.org/event/worship-service-in-house-posted-to-facebook-later-197/
END:VEVENT
BEGIN:VEVENT
DTSTART;TZID=America/Chicago:20261004T170000
DTEND;TZID=America/Chicago:20261004T180000
DTSTAMP:20260423T185645
CREATED:20260122T190910Z
LAST-MODIFIED:20260125T192355Z
UID:11531-1791133200-1791136800@aritonbc.org
SUMMARY:Bible Recap Bible Study
DESCRIPTION:
URL:https://aritonbc.org/event/bible-recap-bible-study-194/
END:VEVENT
BEGIN:VEVENT
DTSTART;TZID=America/Chicago:20261004T180000
DTEND;TZID=America/Chicago:20261004T190000
DTSTAMP:20260423T185645
CREATED:20260122T190910Z
LAST-MODIFIED:20260303T210854Z
UID:11530-1791136800-1791140400@aritonbc.org
SUMMARY:Sunday Evening Service
DESCRIPTION:
URL:https://aritonbc.org/event/sunday-evening-service-91/
END:VEVENT
BEGIN:VEVENT
DTSTART;TZID=America/Chicago:20261007T173000
DTEND;TZID=America/Chicago:20261007T183000
DTSTAMP:20260423T185645
CREATED:20260125T192355Z
LAST-MODIFIED:20260303T210854Z
UID:11539-1791394200-1791397800@aritonbc.org
SUMMARY:Wednesday Meal
DESCRIPTION:
URL:https://aritonbc.org/event/wednesday-meal-66/
END:VEVENT
BEGIN:VEVENT
DTSTART;TZID=America/Chicago:20261007T183000
DTEND;TZID=America/Chicago:20261007T193000
DTSTAMP:20260423T185645
CREATED:20260122T190910Z
LAST-MODIFIED:20260303T210854Z
UID:11532-1791397800-1791401400@aritonbc.org
SUMMARY:Wednesday Night Service
DESCRIPTION:Check Ariton Baptist Facebook page for instructions
URL:https://aritonbc.org/event/wednesday-night-service-196/
END:VEVENT
BEGIN:VEVENT
DTSTART;TZID=America/Chicago:20261011T080000
DTEND;TZID=America/Chicago:20261011T090000
DTSTAMP:20260423T185645
CREATED:20260125T192355Z
LAST-MODIFIED:20260303T210854Z
UID:11540-1791705600-1791709200@aritonbc.org
SUMMARY:Brotherhood Breakfast
DESCRIPTION:
URL:https://aritonbc.org/event/brotherhood-breakfast-57/
END:VEVENT
BEGIN:VEVENT
DTSTART;TZID=America/Chicago:20261011T094500
DTEND;TZID=America/Chicago:20261011T104500
DTSTAMP:20260423T185645
CREATED:20260126T192400Z
LAST-MODIFIED:20260303T210854Z
UID:11549-1791711900-1791715500@aritonbc.org
SUMMARY:In-House Sunday School
DESCRIPTION:Large Group Adult\, Youth\, Children & Toddler SS Classes. Nursery Provided.
URL:https://aritonbc.org/event/in-house-sunday-school-197/
END:VEVENT
BEGIN:VEVENT
DTSTART;TZID=America/Chicago:20261011T110000
DTEND;TZID=America/Chicago:20261011T120000
DTSTAMP:20260423T185645
CREATED:20260126T192400Z
LAST-MODIFIED:20260303T210854Z
UID:11550-1791716400-1791720000@aritonbc.org
SUMMARY:Worship Service In-House & Posted to Facebook Later
DESCRIPTION:
URL:https://aritonbc.org/event/worship-service-in-house-posted-to-facebook-later-198/
END:VEVENT
BEGIN:VEVENT
DTSTART;TZID=America/Chicago:20261011T180000
DTEND;TZID=America/Chicago:20261011T190000
DTSTAMP:20260423T185645
CREATED:20260126T192400Z
LAST-MODIFIED:20260303T210854Z
UID:11551-1791741600-1791745200@aritonbc.org
SUMMARY:Sunday Evening Service
DESCRIPTION:
URL:https://aritonbc.org/event/sunday-evening-service-92/
END:VEVENT
BEGIN:VEVENT
DTSTART;TZID=America/Chicago:20261014T173000
DTEND;TZID=America/Chicago:20261014T183000
DTSTAMP:20260423T185645
CREATED:20260126T192400Z
LAST-MODIFIED:20260303T210854Z
UID:11552-1791999000-1792002600@aritonbc.org
SUMMARY:Wednesday Meal
DESCRIPTION:
URL:https://aritonbc.org/event/wednesday-meal-67/
END:VEVENT
BEGIN:VEVENT
DTSTART;TZID=America/Chicago:20261014T183000
DTEND;TZID=America/Chicago:20261014T193000
DTSTAMP:20260423T185645
CREATED:20260126T192401Z
LAST-MODIFIED:20260303T210854Z
UID:11553-1792002600-1792006200@aritonbc.org
SUMMARY:Wednesday Night Service
DESCRIPTION:Check Ariton Baptist Facebook page for instructions
URL:https://aritonbc.org/event/wednesday-night-service-197/
END:VEVENT
BEGIN:VEVENT
DTSTART;TZID=America/Chicago:20261015T110000
DTEND;TZID=America/Chicago:20261015T130000
DTSTAMP:20260423T185645
CREATED:20260126T192401Z
LAST-MODIFIED:20260303T210854Z
UID:11554-1792062000-1792069200@aritonbc.org
SUMMARY:Wonderful Widows Luncheon
DESCRIPTION:
URL:https://aritonbc.org/event/wonderful-widows-luncheon-36/
END:VEVENT
BEGIN:VEVENT
DTSTART;TZID=America/Chicago:20261018T094500
DTEND;TZID=America/Chicago:20261018T104500
DTSTAMP:20260423T185645
CREATED:20260126T192401Z
LAST-MODIFIED:20260303T210854Z
UID:11555-1792316700-1792320300@aritonbc.org
SUMMARY:In-House Sunday School
DESCRIPTION:Large Group Adult\, Youth\, Children & Toddler SS Classes. Nursery Provided.
URL:https://aritonbc.org/event/in-house-sunday-school-198/
END:VEVENT
END:VCALENDAR