BEGIN:VCALENDAR
VERSION:2.0
PRODID:-//Ariton Baptist Church - ECPv6.15.13.1//NONSGML v1.0//EN
CALSCALE:GREGORIAN
METHOD:PUBLISH
X-WR-CALNAME:Ariton Baptist Church
X-ORIGINAL-URL:https://aritonbc.org
X-WR-CALDESC:Events for Ariton Baptist Church
REFRESH-INTERVAL;VALUE=DURATION:PT1H
X-Robots-Tag:noindex
X-PUBLISHED-TTL:PT1H
BEGIN:VTIMEZONE
TZID:America/Chicago
BEGIN:DAYLIGHT
TZOFFSETFROM:-0600
TZOFFSETTO:-0500
TZNAME:CDT
DTSTART:20220313T080000
END:DAYLIGHT
BEGIN:STANDARD
TZOFFSETFROM:-0500
TZOFFSETTO:-0600
TZNAME:CST
DTSTART:20221106T070000
END:STANDARD
BEGIN:DAYLIGHT
TZOFFSETFROM:-0600
TZOFFSETTO:-0500
TZNAME:CDT
DTSTART:20230312T080000
END:DAYLIGHT
BEGIN:STANDARD
TZOFFSETFROM:-0500
TZOFFSETTO:-0600
TZNAME:CST
DTSTART:20231105T070000
END:STANDARD
BEGIN:DAYLIGHT
TZOFFSETFROM:-0600
TZOFFSETTO:-0500
TZNAME:CDT
DTSTART:20240310T080000
END:DAYLIGHT
BEGIN:STANDARD
TZOFFSETFROM:-0500
TZOFFSETTO:-0600
TZNAME:CST
DTSTART:20241103T070000
END:STANDARD
END:VTIMEZONE
BEGIN:VEVENT
DTSTART;TZID=America/Chicago:20231015T180000
DTEND;TZID=America/Chicago:20231015T190000
DTSTAMP:20260423T164156
CREATED:20230220T190036Z
LAST-MODIFIED:20230813T183433Z
UID:3721-1697392800-1697396400@aritonbc.org
SUMMARY:Evening Service: In-House
DESCRIPTION:
URL:https://aritonbc.org/event/evening-service-in-house-41/
END:VEVENT
BEGIN:VEVENT
DTSTART;TZID=America/Chicago:20231015T170000
DTEND;TZID=America/Chicago:20231015T180000
DTSTAMP:20260423T164156
CREATED:20230220T190036Z
LAST-MODIFIED:20230813T183433Z
UID:3720-1697389200-1697392800@aritonbc.org
SUMMARY:Discipleship Training
DESCRIPTION:
URL:https://aritonbc.org/event/discipleship-training-41/
END:VEVENT
BEGIN:VEVENT
DTSTART;TZID=America/Chicago:20231015T110000
DTEND;TZID=America/Chicago:20231015T120000
DTSTAMP:20260423T164156
CREATED:20230219T183904Z
LAST-MODIFIED:20230813T183433Z
UID:3716-1697367600-1697371200@aritonbc.org
SUMMARY:Worship Service In-House & Posted to Facebook Later
DESCRIPTION:
URL:https://aritonbc.org/event/worship-service-in-house-posted-to-facebook-later-42/
END:VEVENT
BEGIN:VEVENT
DTSTART;TZID=America/Chicago:20231015T094500
DTEND;TZID=America/Chicago:20231015T104500
DTSTAMP:20260423T164156
CREATED:20230219T183904Z
LAST-MODIFIED:20230813T183433Z
UID:3715-1697363100-1697366700@aritonbc.org
SUMMARY:In-House Sunday School
DESCRIPTION:Large Group Adult\, Youth\, Children & Toddler SS Classes. Nursery Provided.
URL:https://aritonbc.org/event/in-house-sunday-school-41/
END:VEVENT
BEGIN:VEVENT
DTSTART;TZID=America/Chicago:20231011T183000
DTEND;TZID=America/Chicago:20231011T193000
DTSTAMP:20260423T164156
CREATED:20230216T181716Z
LAST-MODIFIED:20230813T183433Z
UID:3708-1697049000-1697052600@aritonbc.org
SUMMARY:Wednesday Night Service
DESCRIPTION:Check Ariton Baptist Facebook page for instructions
URL:https://aritonbc.org/event/wednesday-night-service-42/
END:VEVENT
BEGIN:VEVENT
DTSTART;TZID=America/Chicago:20231011T173000
DTEND;TZID=America/Chicago:20231011T183000
DTSTAMP:20260423T164156
CREATED:20230215T181438Z
LAST-MODIFIED:20230813T183433Z
UID:3704-1697045400-1697049000@aritonbc.org
SUMMARY:Wednesday Night Meal
DESCRIPTION:
URL:https://aritonbc.org/event/wednesday-night-meal-41/
END:VEVENT
BEGIN:VEVENT
DTSTART;TZID=America/Chicago:20231009T183000
DTEND;TZID=America/Chicago:20231009T193000
DTSTAMP:20260423T164156
CREATED:20230215T181438Z
LAST-MODIFIED:20230606T180646Z
UID:3703-1696876200-1696879800@aritonbc.org
SUMMARY:MEN'S BIBLE STUDY
DESCRIPTION:
URL:https://aritonbc.org/event/mens-bible-study-31/
END:VEVENT
BEGIN:VEVENT
DTSTART;VALUE=DATE:20231009
DTEND;VALUE=DATE:20231010
DTSTAMP:20260423T164156
CREATED:20230607T182119Z
LAST-MODIFIED:20230813T183432Z
UID:5700-1696809600-1696895999@aritonbc.org
SUMMARY:Columbus Day
DESCRIPTION:
URL:https://aritonbc.org/event/columbus-day/
END:VEVENT
BEGIN:VEVENT
DTSTART;TZID=America/Chicago:20231008T180000
DTEND;TZID=America/Chicago:20231008T190000
DTSTAMP:20260423T164156
CREATED:20230214T180536Z
LAST-MODIFIED:20230813T183432Z
UID:3700-1696788000-1696791600@aritonbc.org
SUMMARY:Evening Service: In-House
DESCRIPTION:
URL:https://aritonbc.org/event/evening-service-in-house-40/
END:VEVENT
BEGIN:VEVENT
DTSTART;TZID=America/Chicago:20231008T170000
DTEND;TZID=America/Chicago:20231008T180000
DTSTAMP:20260423T164156
CREATED:20230213T175226Z
LAST-MODIFIED:20230813T183432Z
UID:3689-1696784400-1696788000@aritonbc.org
SUMMARY:Discipleship Training
DESCRIPTION:
URL:https://aritonbc.org/event/discipleship-training-40/
END:VEVENT
BEGIN:VEVENT
DTSTART;TZID=America/Chicago:20231008T110000
DTEND;TZID=America/Chicago:20231008T120000
DTSTAMP:20260423T164156
CREATED:20230213T175226Z
LAST-MODIFIED:20230813T183432Z
UID:3688-1696762800-1696766400@aritonbc.org
SUMMARY:Worship Service In-House & Posted to Facebook Later
DESCRIPTION:
URL:https://aritonbc.org/event/worship-service-in-house-posted-to-facebook-later-41/
END:VEVENT
BEGIN:VEVENT
DTSTART;TZID=America/Chicago:20231008T094500
DTEND;TZID=America/Chicago:20231008T104500
DTSTAMP:20260423T164156
CREATED:20230213T175226Z
LAST-MODIFIED:20230813T183432Z
UID:3687-1696758300-1696761900@aritonbc.org
SUMMARY:In-House Sunday School
DESCRIPTION:Large Group Adult\, Youth\, Children & Toddler SS Classes. Nursery Provided.
URL:https://aritonbc.org/event/in-house-sunday-school-40/
END:VEVENT
BEGIN:VEVENT
DTSTART;TZID=America/Chicago:20231008T080000
DTEND;TZID=America/Chicago:20231008T090000
DTSTAMP:20260423T164156
CREATED:20230213T175226Z
LAST-MODIFIED:20230813T183432Z
UID:3686-1696752000-1696755600@aritonbc.org
SUMMARY:Brotherhood Breakfast
DESCRIPTION:
URL:https://aritonbc.org/event/brotherhood-breakfast-10/
END:VEVENT
BEGIN:VEVENT
DTSTART;TZID=America/Chicago:20231004T183000
DTEND;TZID=America/Chicago:20231004T193000
DTSTAMP:20260423T164156
CREATED:20230213T175226Z
LAST-MODIFIED:20230813T183432Z
UID:3685-1696444200-1696447800@aritonbc.org
SUMMARY:Wednesday Night Service
DESCRIPTION:Check Ariton Baptist Facebook page for instructions
URL:https://aritonbc.org/event/wednesday-night-service-41/
END:VEVENT
BEGIN:VEVENT
DTSTART;TZID=America/Chicago:20231004T173000
DTEND;TZID=America/Chicago:20231004T183000
DTSTAMP:20260423T164156
CREATED:20230212T174915Z
LAST-MODIFIED:20230813T183432Z
UID:3680-1696440600-1696444200@aritonbc.org
SUMMARY:Wednesday Night Meal
DESCRIPTION:
URL:https://aritonbc.org/event/wednesday-night-meal-40/
END:VEVENT
BEGIN:VEVENT
DTSTART;TZID=America/Chicago:20231002T183000
DTEND;TZID=America/Chicago:20231002T193000
DTSTAMP:20260423T164156
CREATED:20230212T174915Z
LAST-MODIFIED:20230606T180646Z
UID:3679-1696271400-1696275000@aritonbc.org
SUMMARY:MEN'S BIBLE STUDY
DESCRIPTION:
URL:https://aritonbc.org/event/mens-bible-study-30/
END:VEVENT
BEGIN:VEVENT
DTSTART;TZID=America/Chicago:20231001T180000
DTEND;TZID=America/Chicago:20231001T190000
DTSTAMP:20260423T164156
CREATED:20230209T174838Z
LAST-MODIFIED:20230813T183432Z
UID:3672-1696183200-1696186800@aritonbc.org
SUMMARY:Evening Service: In-House
DESCRIPTION:
URL:https://aritonbc.org/event/evening-service-in-house-39/
END:VEVENT
BEGIN:VEVENT
DTSTART;TZID=America/Chicago:20231001T170000
DTEND;TZID=America/Chicago:20231001T180000
DTSTAMP:20260423T164156
CREATED:20230207T174937Z
LAST-MODIFIED:20230813T183432Z
UID:3650-1696179600-1696183200@aritonbc.org
SUMMARY:Discipleship Training
DESCRIPTION:
URL:https://aritonbc.org/event/discipleship-training-39/
END:VEVENT
BEGIN:VEVENT
DTSTART;TZID=America/Chicago:20231001T110000
DTEND;TZID=America/Chicago:20231001T120000
DTSTAMP:20260423T164156
CREATED:20230206T174000Z
LAST-MODIFIED:20230813T183432Z
UID:3638-1696158000-1696161600@aritonbc.org
SUMMARY:Worship Service In-House & Posted to Facebook Later
DESCRIPTION:
URL:https://aritonbc.org/event/worship-service-in-house-posted-to-facebook-later-40/
END:VEVENT
BEGIN:VEVENT
DTSTART;TZID=America/Chicago:20231001T094500
DTEND;TZID=America/Chicago:20231001T104500
DTSTAMP:20260423T164156
CREATED:20230206T174000Z
LAST-MODIFIED:20230813T183432Z
UID:3637-1696153500-1696157100@aritonbc.org
SUMMARY:In-House Sunday School
DESCRIPTION:Large Group Adult\, Youth\, Children & Toddler SS Classes. Nursery Provided.
URL:https://aritonbc.org/event/in-house-sunday-school-39/
END:VEVENT
BEGIN:VEVENT
DTSTART;TZID=America/Chicago:20231001T080000
DTEND;TZID=America/Chicago:20231001T090000
DTSTAMP:20260423T164156
CREATED:20230206T174000Z
LAST-MODIFIED:20230813T183432Z
UID:3636-1696147200-1696150800@aritonbc.org
SUMMARY:Deacon's Meeting
DESCRIPTION:
URL:https://aritonbc.org/event/deacons-meeting-5/
END:VEVENT
BEGIN:VEVENT
DTSTART;TZID=America/Chicago:20230929T180000
DTEND;TZID=America/Chicago:20230929T220000
DTSTAMP:20260423T164156
CREATED:20230630T201943Z
LAST-MODIFIED:20230813T183432Z
UID:5891-1696010400-1696024800@aritonbc.org
SUMMARY:AHS Homecoming
DESCRIPTION:
URL:https://aritonbc.org/event/ahs-homecoming/
END:VEVENT
BEGIN:VEVENT
DTSTART;TZID=America/Chicago:20230927T183000
DTEND;TZID=America/Chicago:20230927T193000
DTSTAMP:20260423T164156
CREATED:20230206T174000Z
LAST-MODIFIED:20230813T183432Z
UID:3635-1695839400-1695843000@aritonbc.org
SUMMARY:Wednesday Night Service
DESCRIPTION:Check Ariton Baptist Facebook page for instructions
URL:https://aritonbc.org/event/wednesday-night-service-40/
END:VEVENT
BEGIN:VEVENT
DTSTART;TZID=America/Chicago:20230927T173000
DTEND;TZID=America/Chicago:20230927T183000
DTSTAMP:20260423T164156
CREATED:20230206T174000Z
LAST-MODIFIED:20230813T183432Z
UID:3634-1695835800-1695839400@aritonbc.org
SUMMARY:Wednesday Night Meal
DESCRIPTION:
URL:https://aritonbc.org/event/wednesday-night-meal-39/
END:VEVENT
BEGIN:VEVENT
DTSTART;VALUE=DATE:20230926
DTEND;VALUE=DATE:20230927
DTSTAMP:20260423T164156
CREATED:20230206T174000Z
LAST-MODIFIED:20230813T183432Z
UID:3633-1695686400-1695772799@aritonbc.org
SUMMARY:Magazines Out
DESCRIPTION:
URL:https://aritonbc.org/event/magazines-out-10/
END:VEVENT
BEGIN:VEVENT
DTSTART;TZID=America/Chicago:20230925T183000
DTEND;TZID=America/Chicago:20230925T193000
DTSTAMP:20260423T164156
CREATED:20230206T173959Z
LAST-MODIFIED:20230606T180646Z
UID:3632-1695666600-1695670200@aritonbc.org
SUMMARY:MEN'S BIBLE STUDY
DESCRIPTION:
URL:https://aritonbc.org/event/mens-bible-study-29/
END:VEVENT
BEGIN:VEVENT
DTSTART;TZID=America/Chicago:20230924T180000
DTEND;TZID=America/Chicago:20230924T190000
DTSTAMP:20260423T164156
CREATED:20230203T232453Z
LAST-MODIFIED:20230813T183432Z
UID:3627-1695578400-1695582000@aritonbc.org
SUMMARY:Evening Service: In-House
DESCRIPTION:
URL:https://aritonbc.org/event/evening-service-in-house-38/
END:VEVENT
BEGIN:VEVENT
DTSTART;TZID=America/Chicago:20230924T170000
DTEND;TZID=America/Chicago:20230924T180000
DTSTAMP:20260423T164156
CREATED:20230202T231452Z
LAST-MODIFIED:20230813T183432Z
UID:3624-1695574800-1695578400@aritonbc.org
SUMMARY:Discipleship Training
DESCRIPTION:
URL:https://aritonbc.org/event/discipleship-training-38/
END:VEVENT
BEGIN:VEVENT
DTSTART;TZID=America/Chicago:20230924T110000
DTEND;TZID=America/Chicago:20230924T120000
DTSTAMP:20260423T164156
CREATED:20230202T231452Z
LAST-MODIFIED:20230813T183432Z
UID:3623-1695553200-1695556800@aritonbc.org
SUMMARY:Worship Service In-House & Posted to Facebook Later
DESCRIPTION:
URL:https://aritonbc.org/event/worship-service-in-house-posted-to-facebook-later-39/
END:VEVENT
BEGIN:VEVENT
DTSTART;TZID=America/Chicago:20230924T094500
DTEND;TZID=America/Chicago:20230924T104500
DTSTAMP:20260423T164156
CREATED:20230122T221746Z
LAST-MODIFIED:20230813T183432Z
UID:3528-1695548700-1695552300@aritonbc.org
SUMMARY:In-House Sunday School
DESCRIPTION:Large Group Adult\, Youth\, Children & Toddler SS Classes. Nursery Provided.
URL:https://aritonbc.org/event/in-house-sunday-school-38/
END:VEVENT
END:VCALENDAR