BEGIN:VCALENDAR
VERSION:2.0
PRODID:-//Ariton Baptist Church - ECPv6.15.13.1//NONSGML v1.0//EN
CALSCALE:GREGORIAN
METHOD:PUBLISH
X-WR-CALNAME:Ariton Baptist Church
X-ORIGINAL-URL:https://aritonbc.org
X-WR-CALDESC:Events for Ariton Baptist Church
REFRESH-INTERVAL;VALUE=DURATION:PT1H
X-Robots-Tag:noindex
X-PUBLISHED-TTL:PT1H
BEGIN:VTIMEZONE
TZID:America/Chicago
BEGIN:DAYLIGHT
TZOFFSETFROM:-0600
TZOFFSETTO:-0500
TZNAME:CDT
DTSTART:20220313T080000
END:DAYLIGHT
BEGIN:STANDARD
TZOFFSETFROM:-0500
TZOFFSETTO:-0600
TZNAME:CST
DTSTART:20221106T070000
END:STANDARD
BEGIN:DAYLIGHT
TZOFFSETFROM:-0600
TZOFFSETTO:-0500
TZNAME:CDT
DTSTART:20230312T080000
END:DAYLIGHT
BEGIN:STANDARD
TZOFFSETFROM:-0500
TZOFFSETTO:-0600
TZNAME:CST
DTSTART:20231105T070000
END:STANDARD
BEGIN:DAYLIGHT
TZOFFSETFROM:-0600
TZOFFSETTO:-0500
TZNAME:CDT
DTSTART:20240310T080000
END:DAYLIGHT
BEGIN:STANDARD
TZOFFSETFROM:-0500
TZOFFSETTO:-0600
TZNAME:CST
DTSTART:20241103T070000
END:STANDARD
END:VTIMEZONE
BEGIN:VEVENT
DTSTART;TZID=America/Chicago:20231201T170000
DTEND;TZID=America/Chicago:20231201T190000
DTSTAMP:20260423T090011
CREATED:20231127T185005Z
LAST-MODIFIED:20231201T190526Z
UID:6469-1701450000-1701457200@aritonbc.org
SUMMARY:Women's Com Meeting
DESCRIPTION:
URL:https://aritonbc.org/event/womens-com-meeting/
END:VEVENT
BEGIN:VEVENT
DTSTART;TZID=America/Chicago:20231130T173000
DTEND;TZID=America/Chicago:20231130T203000
DTSTAMP:20260423T090011
CREATED:20231127T185005Z
LAST-MODIFIED:20231130T184933Z
UID:6468-1701365400-1701376200@aritonbc.org
SUMMARY:Hanging of Greens-Beautification Com
DESCRIPTION:
URL:https://aritonbc.org/event/hanging-of-greens-beautification-com/
END:VEVENT
BEGIN:VEVENT
DTSTART;TZID=America/Chicago:20231129T183000
DTEND;TZID=America/Chicago:20231129T193000
DTSTAMP:20260423T090011
CREATED:20230417T181913Z
LAST-MODIFIED:20231129T184941Z
UID:5371-1701282600-1701286200@aritonbc.org
SUMMARY:Wednesday Night Service
DESCRIPTION:Check Ariton Baptist Facebook page for instructions
URL:https://aritonbc.org/event/wednesday-night-service-49/
END:VEVENT
BEGIN:VEVENT
DTSTART;TZID=America/Chicago:20231129T173000
DTEND;TZID=America/Chicago:20231129T183000
DTSTAMP:20260423T090011
CREATED:20230413T173623Z
LAST-MODIFIED:20231129T184941Z
UID:5355-1701279000-1701282600@aritonbc.org
SUMMARY:Wednesday Night Meal
DESCRIPTION:
URL:https://aritonbc.org/event/wednesday-night-meal-48/
END:VEVENT
BEGIN:VEVENT
DTSTART;VALUE=DATE:20231129
DTEND;VALUE=DATE:20231130
DTSTAMP:20260423T090011
CREATED:20230416T181656Z
LAST-MODIFIED:20231129T184941Z
UID:5364-1701216000-1701302399@aritonbc.org
SUMMARY:Schedule A Budget Meeting
DESCRIPTION:
URL:https://aritonbc.org/event/schedule-a-budget-meeting/
END:VEVENT
BEGIN:VEVENT
DTSTART;VALUE=DATE:20231128
DTEND;VALUE=DATE:20231129
DTSTAMP:20260423T090011
CREATED:20230416T181655Z
LAST-MODIFIED:20231128T184938Z
UID:5362-1701129600-1701215999@aritonbc.org
SUMMARY:Magazines Out
DESCRIPTION:
URL:https://aritonbc.org/event/magazines-out-12/
END:VEVENT
BEGIN:VEVENT
DTSTART;TZID=America/Chicago:20231127T183000
DTEND;TZID=America/Chicago:20231127T193000
DTSTAMP:20260423T090011
CREATED:20230415T175158Z
LAST-MODIFIED:20230606T180648Z
UID:5360-1701109800-1701113400@aritonbc.org
SUMMARY:MEN'S BIBLE STUDY
DESCRIPTION:
URL:https://aritonbc.org/event/mens-bible-study-38/
END:VEVENT
BEGIN:VEVENT
DTSTART;TZID=America/Chicago:20231126T180000
DTEND;TZID=America/Chicago:20231126T190000
DTSTAMP:20260423T090011
CREATED:20230413T173623Z
LAST-MODIFIED:20230813T183434Z
UID:5354-1701021600-1701025200@aritonbc.org
SUMMARY:Evening Service: In-House
DESCRIPTION:
URL:https://aritonbc.org/event/evening-service-in-house-47/
END:VEVENT
BEGIN:VEVENT
DTSTART;TZID=America/Chicago:20231126T170000
DTEND;TZID=America/Chicago:20231126T180000
DTSTAMP:20260423T090011
CREATED:20230412T165302Z
LAST-MODIFIED:20231115T180528Z
UID:5351-1701018000-1701021600@aritonbc.org
SUMMARY:Discipleship Training
DESCRIPTION:
URL:https://aritonbc.org/event/discipleship-training-47/
END:VEVENT
BEGIN:VEVENT
DTSTART;TZID=America/Chicago:20231126T110000
DTEND;TZID=America/Chicago:20231126T120000
DTSTAMP:20260423T090011
CREATED:20230411T233745Z
LAST-MODIFIED:20231125T185039Z
UID:5346-1700996400-1701000000@aritonbc.org
SUMMARY:Worship Service In-House & Posted to Facebook Later
DESCRIPTION:
URL:https://aritonbc.org/event/worship-service-in-house-posted-to-facebook-later-48/
END:VEVENT
BEGIN:VEVENT
DTSTART;TZID=America/Chicago:20231126T094500
DTEND;TZID=America/Chicago:20231126T104500
DTSTAMP:20260423T090011
CREATED:20230411T233745Z
LAST-MODIFIED:20231125T185039Z
UID:5345-1700991900-1700995500@aritonbc.org
SUMMARY:In-House Sunday School
DESCRIPTION:Large Group Adult\, Youth\, Children & Toddler SS Classes. Nursery Provided.
URL:https://aritonbc.org/event/in-house-sunday-school-47/
END:VEVENT
BEGIN:VEVENT
DTSTART;VALUE=DATE:20231123
DTEND;VALUE=DATE:20231124
DTSTAMP:20260423T090011
CREATED:20230607T182120Z
LAST-MODIFIED:20231123T185007Z
UID:5706-1700697600-1700783999@aritonbc.org
SUMMARY:Thanksgiving Day
DESCRIPTION:
URL:https://aritonbc.org/event/thanksgiving-day/
END:VEVENT
BEGIN:VEVENT
DTSTART;VALUE=DATE:20231123
DTEND;VALUE=DATE:20231124
DTSTAMP:20260423T090011
CREATED:20230408T232202Z
LAST-MODIFIED:20231123T185007Z
UID:5322-1700697600-1700783999@aritonbc.org
SUMMARY:Pass Out New Literature
DESCRIPTION:
URL:https://aritonbc.org/event/pass-out-new-literature-4/
END:VEVENT
BEGIN:VEVENT
DTSTART;TZID=America/Chicago:20231122T183000
DTEND;TZID=America/Chicago:20231122T193000
DTSTAMP:20260423T090011
CREATED:20230409T232246Z
LAST-MODIFIED:20230813T183434Z
UID:5324-1700677800-1700681400@aritonbc.org
SUMMARY:Wednesday Night Service
DESCRIPTION:Check Ariton Baptist Facebook page for instructions
URL:https://aritonbc.org/event/wednesday-night-service-48/
END:VEVENT
BEGIN:VEVENT
DTSTART;TZID=America/Chicago:20231122T173000
DTEND;TZID=America/Chicago:20231122T183000
DTSTAMP:20260423T090011
CREATED:20230409T232248Z
LAST-MODIFIED:20230813T183433Z
UID:5326-1700674200-1700677800@aritonbc.org
SUMMARY:Wednesday Night Meal
DESCRIPTION:
URL:https://aritonbc.org/event/wednesday-night-meal-47/
END:VEVENT
BEGIN:VEVENT
DTSTART;VALUE=DATE:20231122
DTEND;VALUE=DATE:20231123
DTSTAMP:20260423T090011
CREATED:20231116T180525Z
LAST-MODIFIED:20231122T185021Z
UID:6407-1700611200-1700697599@aritonbc.org
SUMMARY:NO Wednesday Night Meal
DESCRIPTION:
URL:https://aritonbc.org/event/no-wednesday-night-meal/
END:VEVENT
BEGIN:VEVENT
DTSTART;TZID=America/Chicago:20231120T183000
DTEND;TZID=America/Chicago:20231120T193000
DTSTAMP:20260423T090011
CREATED:20230406T225958Z
LAST-MODIFIED:20230606T180648Z
UID:5316-1700505000-1700508600@aritonbc.org
SUMMARY:MEN'S BIBLE STUDY
DESCRIPTION:
URL:https://aritonbc.org/event/mens-bible-study-37/
END:VEVENT
BEGIN:VEVENT
DTSTART;TZID=America/Chicago:20231119T180000
DTEND;TZID=America/Chicago:20231119T190000
DTSTAMP:20260423T090011
CREATED:20230406T225957Z
LAST-MODIFIED:20230813T183433Z
UID:5314-1700416800-1700420400@aritonbc.org
SUMMARY:Evening Service: In-House
DESCRIPTION:
URL:https://aritonbc.org/event/evening-service-in-house-46/
END:VEVENT
BEGIN:VEVENT
DTSTART;TZID=America/Chicago:20231119T170000
DTEND;TZID=America/Chicago:20231119T180000
DTSTAMP:20260423T090011
CREATED:20230406T225958Z
LAST-MODIFIED:20231115T180530Z
UID:5315-1700413200-1700416800@aritonbc.org
SUMMARY:Discipleship Training
DESCRIPTION:
URL:https://aritonbc.org/event/discipleship-training-46/
END:VEVENT
BEGIN:VEVENT
DTSTART;TZID=America/Chicago:20231119T110000
DTEND;TZID=America/Chicago:20231119T120000
DTSTAMP:20260423T090011
CREATED:20230405T225504Z
LAST-MODIFIED:20231118T182153Z
UID:5311-1700391600-1700395200@aritonbc.org
SUMMARY:Worship Service In-House & Posted to Facebook Later
DESCRIPTION:
URL:https://aritonbc.org/event/worship-service-in-house-posted-to-facebook-later-47/
END:VEVENT
BEGIN:VEVENT
DTSTART;TZID=America/Chicago:20231119T094500
DTEND;TZID=America/Chicago:20231119T104500
DTSTAMP:20260423T090011
CREATED:20230403T224343Z
LAST-MODIFIED:20231118T182153Z
UID:5295-1700387100-1700390700@aritonbc.org
SUMMARY:In-House Sunday School
DESCRIPTION:Large Group Adult\, Youth\, Children & Toddler SS Classes. Nursery Provided.
URL:https://aritonbc.org/event/in-house-sunday-school-46/
END:VEVENT
BEGIN:VEVENT
DTSTART;TZID=America/Chicago:20231116T110000
DTEND;TZID=America/Chicago:20231116T130000
DTSTAMP:20260423T090011
CREATED:20231105T060448Z
LAST-MODIFIED:20231115T180530Z
UID:6111-1700132400-1700139600@aritonbc.org
SUMMARY:Wonderful Widows Luncheon
DESCRIPTION:
URL:https://aritonbc.org/event/wonderful-widows-luncheon/
END:VEVENT
BEGIN:VEVENT
DTSTART;TZID=America/Chicago:20231115T183000
DTEND;TZID=America/Chicago:20231115T193000
DTSTAMP:20260423T090011
CREATED:20230402T223401Z
LAST-MODIFIED:20231115T180530Z
UID:5285-1700073000-1700076600@aritonbc.org
SUMMARY:Wednesday Night Service
DESCRIPTION:Check Ariton Baptist Facebook page for instructions
URL:https://aritonbc.org/event/wednesday-night-service-47/
END:VEVENT
BEGIN:VEVENT
DTSTART;TZID=America/Chicago:20231115T173000
DTEND;TZID=America/Chicago:20231115T183000
DTSTAMP:20260423T090011
CREATED:20230403T224343Z
LAST-MODIFIED:20231115T180530Z
UID:5294-1700069400-1700073000@aritonbc.org
SUMMARY:Wednesday Night Meal
DESCRIPTION:
URL:https://aritonbc.org/event/wednesday-night-meal-46/
END:VEVENT
BEGIN:VEVENT
DTSTART;TZID=America/Chicago:20231115T093000
DTEND;TZID=America/Chicago:20231115T130000
DTSTAMP:20260423T090011
CREATED:20230402T223401Z
LAST-MODIFIED:20231115T180529Z
UID:5284-1700040600-1700053200@aritonbc.org
SUMMARY:BROWN BAG MINISTRY Pick-up
DESCRIPTION:
URL:https://aritonbc.org/event/brown-bag-ministry-pick-up-9/
END:VEVENT
BEGIN:VEVENT
DTSTART;VALUE=DATE:20231114
DTEND;VALUE=DATE:20231115
DTSTAMP:20260423T090011
CREATED:20230402T223400Z
LAST-MODIFIED:20231114T174944Z
UID:5283-1699920000-1700006399@aritonbc.org
SUMMARY:Pack BROWN BAGS after 2PM
DESCRIPTION:
URL:https://aritonbc.org/event/pack-brown-bags-after-2pm-9/
END:VEVENT
BEGIN:VEVENT
DTSTART;TZID=America/Chicago:20231113T183000
DTEND;TZID=America/Chicago:20231113T193000
DTSTAMP:20260423T090011
CREATED:20230402T223400Z
LAST-MODIFIED:20230606T180647Z
UID:5282-1699900200-1699903800@aritonbc.org
SUMMARY:MEN'S BIBLE STUDY
DESCRIPTION:
URL:https://aritonbc.org/event/mens-bible-study-36/
END:VEVENT
BEGIN:VEVENT
DTSTART;TZID=America/Chicago:20231112T180000
DTEND;TZID=America/Chicago:20231112T190000
DTSTAMP:20260423T090011
CREATED:20230401T222443Z
LAST-MODIFIED:20230813T183433Z
UID:5278-1699812000-1699815600@aritonbc.org
SUMMARY:Evening Service: In-House
DESCRIPTION:
URL:https://aritonbc.org/event/evening-service-in-house-45/
END:VEVENT
BEGIN:VEVENT
DTSTART;TZID=America/Chicago:20231112T170000
DTEND;TZID=America/Chicago:20231112T180000
DTSTAMP:20260423T090011
CREATED:20230402T223400Z
LAST-MODIFIED:20231112T174940Z
UID:5280-1699808400-1699812000@aritonbc.org
SUMMARY:Discipleship Training
DESCRIPTION:
URL:https://aritonbc.org/event/discipleship-training-45/
END:VEVENT
BEGIN:VEVENT
DTSTART;TZID=America/Chicago:20231112T110000
DTEND;TZID=America/Chicago:20231112T120000
DTSTAMP:20260423T090011
CREATED:20230330T222417Z
LAST-MODIFIED:20231112T174939Z
UID:5273-1699786800-1699790400@aritonbc.org
SUMMARY:Worship Service In-House & Posted to Facebook Later
DESCRIPTION:
URL:https://aritonbc.org/event/worship-service-in-house-posted-to-facebook-later-46/
END:VEVENT
END:VCALENDAR