BEGIN:VCALENDAR
VERSION:2.0
PRODID:-//Ariton Baptist Church - ECPv6.15.13.1//NONSGML v1.0//EN
CALSCALE:GREGORIAN
METHOD:PUBLISH
X-WR-CALNAME:Ariton Baptist Church
X-ORIGINAL-URL:https://aritonbc.org
X-WR-CALDESC:Events for Ariton Baptist Church
REFRESH-INTERVAL;VALUE=DURATION:PT1H
X-Robots-Tag:noindex
X-PUBLISHED-TTL:PT1H
BEGIN:VTIMEZONE
TZID:America/Chicago
BEGIN:DAYLIGHT
TZOFFSETFROM:-0600
TZOFFSETTO:-0500
TZNAME:CDT
DTSTART:20220313T080000
END:DAYLIGHT
BEGIN:STANDARD
TZOFFSETFROM:-0500
TZOFFSETTO:-0600
TZNAME:CST
DTSTART:20221106T070000
END:STANDARD
BEGIN:DAYLIGHT
TZOFFSETFROM:-0600
TZOFFSETTO:-0500
TZNAME:CDT
DTSTART:20230312T080000
END:DAYLIGHT
BEGIN:STANDARD
TZOFFSETFROM:-0500
TZOFFSETTO:-0600
TZNAME:CST
DTSTART:20231105T070000
END:STANDARD
BEGIN:DAYLIGHT
TZOFFSETFROM:-0600
TZOFFSETTO:-0500
TZNAME:CDT
DTSTART:20240310T080000
END:DAYLIGHT
BEGIN:STANDARD
TZOFFSETFROM:-0500
TZOFFSETTO:-0600
TZNAME:CST
DTSTART:20241103T070000
END:STANDARD
END:VTIMEZONE
BEGIN:VEVENT
DTSTART;TZID=America/Chicago:20230726T183000
DTEND;TZID=America/Chicago:20230726T193000
DTSTAMP:20260424T215347
CREATED:20221221T233302Z
LAST-MODIFIED:20230726T180526Z
UID:2665-1690396200-1690399800@aritonbc.org
SUMMARY:Wednesday Night Service
DESCRIPTION:Check Ariton Baptist Facebook page for instructions
URL:https://aritonbc.org/event/wednesday-night-service-31/
END:VEVENT
BEGIN:VEVENT
DTSTART;TZID=America/Chicago:20230726T173000
DTEND;TZID=America/Chicago:20230726T183000
DTSTAMP:20260424T215347
CREATED:20221221T233302Z
LAST-MODIFIED:20230726T180526Z
UID:2664-1690392600-1690396200@aritonbc.org
SUMMARY:Wednesday Night Meal
DESCRIPTION:
URL:https://aritonbc.org/event/wednesday-night-meal-30/
END:VEVENT
BEGIN:VEVENT
DTSTART;VALUE=DATE:20230726
DTEND;VALUE=DATE:20230727
DTSTAMP:20260424T215347
CREATED:20221221T233302Z
LAST-MODIFIED:20230726T180526Z
UID:2666-1690329600-1690415999@aritonbc.org
SUMMARY:Quarterly Business Meeting
DESCRIPTION:
URL:https://aritonbc.org/event/quarterly-business-meeting-3/
END:VEVENT
BEGIN:VEVENT
DTSTART;VALUE=DATE:20230725
DTEND;VALUE=DATE:20230726
DTSTAMP:20260424T215347
CREATED:20221221T233302Z
LAST-MODIFIED:20230725T175320Z
UID:2663-1690243200-1690329599@aritonbc.org
SUMMARY:Magazines Out
DESCRIPTION:
URL:https://aritonbc.org/event/magazines-out-8/
END:VEVENT
BEGIN:VEVENT
DTSTART;TZID=America/Chicago:20230724T183000
DTEND;TZID=America/Chicago:20230724T193000
DTSTAMP:20260424T215347
CREATED:20230123T222034Z
LAST-MODIFIED:20230606T180644Z
UID:3555-1690223400-1690227000@aritonbc.org
SUMMARY:MEN'S BIBLE STUDY
DESCRIPTION:
URL:https://aritonbc.org/event/mens-bible-study-20/
END:VEVENT
BEGIN:VEVENT
DTSTART;TZID=America/Chicago:20230723T180000
DTEND;TZID=America/Chicago:20230723T190000
DTSTAMP:20260424T215347
CREATED:20221221T233302Z
LAST-MODIFIED:20230723T174950Z
UID:2662-1690135200-1690138800@aritonbc.org
SUMMARY:Evening Service: In-House
DESCRIPTION:
URL:https://aritonbc.org/event/evening-service-in-house-29/
END:VEVENT
BEGIN:VEVENT
DTSTART;TZID=America/Chicago:20230723T170000
DTEND;TZID=America/Chicago:20230723T180000
DTSTAMP:20260424T215347
CREATED:20221221T233302Z
LAST-MODIFIED:20230723T174950Z
UID:2661-1690131600-1690135200@aritonbc.org
SUMMARY:Discipleship Training
DESCRIPTION:
URL:https://aritonbc.org/event/discipleship-training-29/
END:VEVENT
BEGIN:VEVENT
DTSTART;TZID=America/Chicago:20230723T110000
DTEND;TZID=America/Chicago:20230723T120000
DTSTAMP:20260424T215347
CREATED:20221221T233302Z
LAST-MODIFIED:20230722T175101Z
UID:2660-1690110000-1690113600@aritonbc.org
SUMMARY:Worship Service In-House & Posted to Facebook Later
DESCRIPTION:
URL:https://aritonbc.org/event/worship-service-in-house-posted-to-facebook-later-30/
END:VEVENT
BEGIN:VEVENT
DTSTART;TZID=America/Chicago:20230723T094500
DTEND;TZID=America/Chicago:20230723T104500
DTSTAMP:20260424T215347
CREATED:20221221T233302Z
LAST-MODIFIED:20230722T175101Z
UID:2659-1690105500-1690109100@aritonbc.org
SUMMARY:In-House Sunday School
DESCRIPTION:Large Group Adult\, Youth\, Children & Toddler SS Classes. Nursery Provided.
URL:https://aritonbc.org/event/in-house-sunday-school-29/
END:VEVENT
BEGIN:VEVENT
DTSTART;TZID=America/Chicago:20230720T110000
DTEND;TZID=America/Chicago:20230720T130000
DTSTAMP:20260424T215347
CREATED:20230629T201946Z
LAST-MODIFIED:20230720T174947Z
UID:5880-1689850800-1689858000@aritonbc.org
SUMMARY:Widow's Luncheon
DESCRIPTION:
URL:https://aritonbc.org/event/widows-luncheon/
END:VEVENT
BEGIN:VEVENT
DTSTART;TZID=America/Chicago:20230719T183000
DTEND;TZID=America/Chicago:20230719T193000
DTSTAMP:20260424T215347
CREATED:20221221T233302Z
LAST-MODIFIED:20230719T173447Z
UID:2657-1689791400-1689795000@aritonbc.org
SUMMARY:Wednesday Night Service
DESCRIPTION:Check Ariton Baptist Facebook page for instructions
URL:https://aritonbc.org/event/wednesday-night-service-30/
END:VEVENT
BEGIN:VEVENT
DTSTART;TZID=America/Chicago:20230719T173000
DTEND;TZID=America/Chicago:20230719T183000
DTSTAMP:20260424T215347
CREATED:20221221T233302Z
LAST-MODIFIED:20230719T173447Z
UID:2656-1689787800-1689791400@aritonbc.org
SUMMARY:Wednesday Night Meal
DESCRIPTION:
URL:https://aritonbc.org/event/wednesday-night-meal-29/
END:VEVENT
BEGIN:VEVENT
DTSTART;TZID=America/Chicago:20230719T093000
DTEND;TZID=America/Chicago:20230719T130000
DTSTAMP:20260424T215347
CREATED:20230302T194009Z
LAST-MODIFIED:20230719T173447Z
UID:4460-1689759000-1689771600@aritonbc.org
SUMMARY:BROWN BAG MINISTRY Pick-up
DESCRIPTION:
URL:https://aritonbc.org/event/brown-bag-ministry-pick-up-5/
END:VEVENT
BEGIN:VEVENT
DTSTART;VALUE=DATE:20230719
DTEND;VALUE=DATE:20230720
DTSTAMP:20260424T215347
CREATED:20221221T233302Z
LAST-MODIFIED:20230719T173447Z
UID:2658-1689724800-1689811199@aritonbc.org
SUMMARY:Finance Committee Meeting
DESCRIPTION:
URL:https://aritonbc.org/event/finance-committee-meeting-3/
END:VEVENT
BEGIN:VEVENT
DTSTART;TZID=America/Chicago:20230718T130000
DTEND;TZID=America/Chicago:20230718T160000
DTSTAMP:20260424T215347
CREATED:20230112T194703Z
LAST-MODIFIED:20230301T194053Z
UID:3458-1689685200-1689696000@aritonbc.org
SUMMARY:BROWN BAG MINISTRY
DESCRIPTION:Helpers: Shalene Schmidt\, Sandra Cruikshank
URL:https://aritonbc.org/event/brown-bag-ministry-15/
END:VEVENT
BEGIN:VEVENT
DTSTART;TZID=America/Chicago:20230718T130000
DTEND;TZID=America/Chicago:20230718T160000
DTSTAMP:20260424T215347
CREATED:20221221T233302Z
LAST-MODIFIED:20230111T193314Z
UID:2655-1689685200-1689696000@aritonbc.org
SUMMARY:BROWN BAG MINISTRY
DESCRIPTION:Helpers: Shalene Schmidt\, Sandra Cruikshank
URL:https://aritonbc.org/event/brown-bag-ministry-7/
END:VEVENT
BEGIN:VEVENT
DTSTART;VALUE=DATE:20230718
DTEND;VALUE=DATE:20230719
DTSTAMP:20260424T215347
CREATED:20230302T194009Z
LAST-MODIFIED:20230717T210447Z
UID:4461-1689638400-1689724799@aritonbc.org
SUMMARY:Pack BROWN BAGS after 2PM
DESCRIPTION:
URL:https://aritonbc.org/event/pack-brown-bags-after-2pm-5/
END:VEVENT
BEGIN:VEVENT
DTSTART;TZID=America/Chicago:20230717T183000
DTEND;TZID=America/Chicago:20230717T193000
DTSTAMP:20260424T215347
CREATED:20230123T222034Z
LAST-MODIFIED:20230606T180644Z
UID:3554-1689618600-1689622200@aritonbc.org
SUMMARY:MEN'S BIBLE STUDY
DESCRIPTION:
URL:https://aritonbc.org/event/mens-bible-study-19/
END:VEVENT
BEGIN:VEVENT
DTSTART;TZID=America/Chicago:20230717T183000
DTEND;TZID=America/Chicago:20230717T193000
DTSTAMP:20260424T215347
CREATED:20221221T233302Z
LAST-MODIFIED:20230122T221745Z
UID:2654-1689618600-1689622200@aritonbc.org
SUMMARY:MEN'S PRAYER GROUP
DESCRIPTION:
URL:https://aritonbc.org/event/mens-prayer-group-14/
END:VEVENT
BEGIN:VEVENT
DTSTART;TZID=America/Chicago:20230716T180000
DTEND;TZID=America/Chicago:20230716T190000
DTSTAMP:20260424T215347
CREATED:20230608T183507Z
LAST-MODIFIED:20230716T210444Z
UID:5739-1689530400-1689534000@aritonbc.org
SUMMARY:ABC Kids-Team Kid
DESCRIPTION:
URL:https://aritonbc.org/event/abc-kids-team-kid-3/
END:VEVENT
BEGIN:VEVENT
DTSTART;TZID=America/Chicago:20230716T180000
DTEND;TZID=America/Chicago:20230716T190000
DTSTAMP:20260424T215347
CREATED:20221221T233302Z
LAST-MODIFIED:20230716T210445Z
UID:2652-1689530400-1689534000@aritonbc.org
SUMMARY:Evening Service: In-House
DESCRIPTION:
URL:https://aritonbc.org/event/evening-service-in-house-28/
END:VEVENT
BEGIN:VEVENT
DTSTART;TZID=America/Chicago:20230716T170000
DTEND;TZID=America/Chicago:20230716T180000
DTSTAMP:20260424T215347
CREATED:20221221T233302Z
LAST-MODIFIED:20230716T210443Z
UID:2653-1689526800-1689530400@aritonbc.org
SUMMARY:Discipleship Training
DESCRIPTION:
URL:https://aritonbc.org/event/discipleship-training-28/
END:VEVENT
BEGIN:VEVENT
DTSTART;TZID=America/Chicago:20230716T110000
DTEND;TZID=America/Chicago:20230716T120000
DTSTAMP:20260424T215347
CREATED:20221221T233302Z
LAST-MODIFIED:20230715T210450Z
UID:2651-1689505200-1689508800@aritonbc.org
SUMMARY:Worship Service In-House & Posted to Facebook Later
DESCRIPTION:
URL:https://aritonbc.org/event/worship-service-in-house-posted-to-facebook-later-29/
END:VEVENT
BEGIN:VEVENT
DTSTART;TZID=America/Chicago:20230716T094500
DTEND;TZID=America/Chicago:20230716T104500
DTSTAMP:20260424T215347
CREATED:20221221T233302Z
LAST-MODIFIED:20230715T210450Z
UID:2650-1689500700-1689504300@aritonbc.org
SUMMARY:In-House Sunday School
DESCRIPTION:Large Group Adult\, Youth\, Children & Toddler SS Classes. Nursery Provided.
URL:https://aritonbc.org/event/in-house-sunday-school-28/
END:VEVENT
BEGIN:VEVENT
DTSTART;VALUE=DATE:20230715
DTEND;VALUE=DATE:20230716
DTSTAMP:20260424T215347
CREATED:20230621T200320Z
LAST-MODIFIED:20230715T210450Z
UID:5829-1689379200-1689465599@aritonbc.org
SUMMARY:ASP Work Day
DESCRIPTION:
URL:https://aritonbc.org/event/asp-work-day-3/
END:VEVENT
BEGIN:VEVENT
DTSTART;VALUE=DATE:20230713
DTEND;VALUE=DATE:20230714
DTSTAMP:20260424T215347
CREATED:20230618T195056Z
LAST-MODIFIED:20230713T210441Z
UID:5818-1689206400-1689292799@aritonbc.org
SUMMARY:Andrea-Off
DESCRIPTION:
URL:https://aritonbc.org/event/andrea-off-3/
END:VEVENT
BEGIN:VEVENT
DTSTART;TZID=America/Chicago:20230712T183000
DTEND;TZID=America/Chicago:20230712T193000
DTSTAMP:20260424T215347
CREATED:20221221T233302Z
LAST-MODIFIED:20230712T205200Z
UID:2649-1689186600-1689190200@aritonbc.org
SUMMARY:Wednesday Night Service
DESCRIPTION:Check Ariton Baptist Facebook page for instructions
URL:https://aritonbc.org/event/wednesday-night-service-29/
END:VEVENT
BEGIN:VEVENT
DTSTART;TZID=America/Chicago:20230712T173000
DTEND;TZID=America/Chicago:20230712T193000
DTSTAMP:20260424T215347
CREATED:20230629T201946Z
LAST-MODIFIED:20230712T205155Z
UID:5879-1689183000-1689190200@aritonbc.org
SUMMARY:RA/GAs Commencement Pool Party
DESCRIPTION:Etheredges…Food from Mission’s Lessons
URL:https://aritonbc.org/event/ra-gas-commencement-pool-party/
END:VEVENT
BEGIN:VEVENT
DTSTART;TZID=America/Chicago:20230712T173000
DTEND;TZID=America/Chicago:20230712T183000
DTSTAMP:20260424T215347
CREATED:20221221T233302Z
LAST-MODIFIED:20230712T205158Z
UID:2648-1689183000-1689186600@aritonbc.org
SUMMARY:Wednesday Night Meal
DESCRIPTION:
URL:https://aritonbc.org/event/wednesday-night-meal-28/
END:VEVENT
BEGIN:VEVENT
DTSTART;TZID=America/Chicago:20230711T113000
DTEND;TZID=America/Chicago:20230711T130000
DTSTAMP:20260424T215347
CREATED:20230623T200312Z
LAST-MODIFIED:20230710T204953Z
UID:5840-1689075000-1689080400@aritonbc.org
SUMMARY:Women's Committee Meeting
DESCRIPTION:Future Event Planning
URL:https://aritonbc.org/event/womens-committee-meeting/
END:VEVENT
END:VCALENDAR