BEGIN:VCALENDAR
VERSION:2.0
PRODID:-//Ariton Baptist Church - ECPv6.15.13.1//NONSGML v1.0//EN
CALSCALE:GREGORIAN
METHOD:PUBLISH
X-WR-CALNAME:Ariton Baptist Church
X-ORIGINAL-URL:https://aritonbc.org
X-WR-CALDESC:Events for Ariton Baptist Church
REFRESH-INTERVAL;VALUE=DURATION:PT1H
X-Robots-Tag:noindex
X-PUBLISHED-TTL:PT1H
BEGIN:VTIMEZONE
TZID:America/Chicago
BEGIN:DAYLIGHT
TZOFFSETFROM:-0600
TZOFFSETTO:-0500
TZNAME:CDT
DTSTART:20250309T080000
END:DAYLIGHT
BEGIN:STANDARD
TZOFFSETFROM:-0500
TZOFFSETTO:-0600
TZNAME:CST
DTSTART:20251102T070000
END:STANDARD
BEGIN:DAYLIGHT
TZOFFSETFROM:-0600
TZOFFSETTO:-0500
TZNAME:CDT
DTSTART:20260308T080000
END:DAYLIGHT
BEGIN:STANDARD
TZOFFSETFROM:-0500
TZOFFSETTO:-0600
TZNAME:CST
DTSTART:20261101T070000
END:STANDARD
BEGIN:DAYLIGHT
TZOFFSETFROM:-0600
TZOFFSETTO:-0500
TZNAME:CDT
DTSTART:20270314T080000
END:DAYLIGHT
BEGIN:STANDARD
TZOFFSETFROM:-0500
TZOFFSETTO:-0600
TZNAME:CST
DTSTART:20271107T070000
END:STANDARD
END:VTIMEZONE
BEGIN:VEVENT
DTSTART;TZID=America/Chicago:20261018T180000
DTEND;TZID=America/Chicago:20261018T190000
DTSTAMP:20260425T062227
CREATED:20260126T192401Z
LAST-MODIFIED:20260303T210854Z
UID:11557-1792346400-1792350000@aritonbc.org
SUMMARY:Sunday Evening Service
DESCRIPTION:
URL:https://aritonbc.org/event/sunday-evening-service-93/
END:VEVENT
BEGIN:VEVENT
DTSTART;VALUE=DATE:20261020
DTEND;VALUE=DATE:20261021
DTSTAMP:20260425T062227
CREATED:20260126T192401Z
LAST-MODIFIED:20260303T210854Z
UID:11558-1792454400-1792540799@aritonbc.org
SUMMARY:Pack BROWN BAGS
DESCRIPTION:
URL:https://aritonbc.org/event/pack-brown-bags-23/
END:VEVENT
BEGIN:VEVENT
DTSTART;VALUE=DATE:20261021
DTEND;VALUE=DATE:20261022
DTSTAMP:20260425T062227
CREATED:20260126T192401Z
LAST-MODIFIED:20260303T210854Z
UID:11562-1792540800-1792627199@aritonbc.org
SUMMARY:Finance Committee Meeting
DESCRIPTION:
URL:https://aritonbc.org/event/finance-committee-meeting-17/
END:VEVENT
BEGIN:VEVENT
DTSTART;TZID=America/Chicago:20261021T093000
DTEND;TZID=America/Chicago:20261021T130000
DTSTAMP:20260425T062227
CREATED:20260126T192401Z
LAST-MODIFIED:20260303T210854Z
UID:11559-1792575000-1792587600@aritonbc.org
SUMMARY:BROWN BAG MINISTRY Pick-up
DESCRIPTION:
URL:https://aritonbc.org/event/brown-bag-ministry-pick-up-45/
END:VEVENT
BEGIN:VEVENT
DTSTART;TZID=America/Chicago:20261021T173000
DTEND;TZID=America/Chicago:20261021T183000
DTSTAMP:20260425T062227
CREATED:20260126T192401Z
LAST-MODIFIED:20260303T210854Z
UID:11560-1792603800-1792607400@aritonbc.org
SUMMARY:Wednesday Meal
DESCRIPTION:
URL:https://aritonbc.org/event/wednesday-meal-68/
END:VEVENT
BEGIN:VEVENT
DTSTART;TZID=America/Chicago:20261021T183000
DTEND;TZID=America/Chicago:20261021T193000
DTSTAMP:20260425T062227
CREATED:20260126T192401Z
LAST-MODIFIED:20260303T210854Z
UID:11561-1792607400-1792611000@aritonbc.org
SUMMARY:Wednesday Night Service
DESCRIPTION:Check Ariton Baptist Facebook page for instructions
URL:https://aritonbc.org/event/wednesday-night-service-198/
END:VEVENT
BEGIN:VEVENT
DTSTART;TZID=America/Chicago:20261025T094500
DTEND;TZID=America/Chicago:20261025T104500
DTSTAMP:20260425T062227
CREATED:20260126T192401Z
LAST-MODIFIED:20260303T210854Z
UID:11563-1792921500-1792925100@aritonbc.org
SUMMARY:In-House Sunday School
DESCRIPTION:Large Group Adult\, Youth\, Children & Toddler SS Classes. Nursery Provided.
URL:https://aritonbc.org/event/in-house-sunday-school-199/
END:VEVENT
BEGIN:VEVENT
DTSTART;TZID=America/Chicago:20261025T110000
DTEND;TZID=America/Chicago:20261025T120000
DTSTAMP:20260425T062227
CREATED:20260126T192401Z
LAST-MODIFIED:20260303T210855Z
UID:11564-1792926000-1792929600@aritonbc.org
SUMMARY:Worship Service In-House & Posted to Facebook Later
DESCRIPTION:
URL:https://aritonbc.org/event/worship-service-in-house-posted-to-facebook-later-200/
END:VEVENT
BEGIN:VEVENT
DTSTART;TZID=America/Chicago:20261025T180000
DTEND;TZID=America/Chicago:20261025T190000
DTSTAMP:20260425T062227
CREATED:20260126T192401Z
LAST-MODIFIED:20260303T210855Z
UID:11565-1792951200-1792954800@aritonbc.org
SUMMARY:Sunday Evening Service
DESCRIPTION:
URL:https://aritonbc.org/event/sunday-evening-service-94/
END:VEVENT
BEGIN:VEVENT
DTSTART;VALUE=DATE:20261027
DTEND;VALUE=DATE:20261028
DTSTAMP:20260425T062227
CREATED:20260126T192401Z
LAST-MODIFIED:20260303T210855Z
UID:11568-1793059200-1793145599@aritonbc.org
SUMMARY:Magazines Out
DESCRIPTION:
URL:https://aritonbc.org/event/magazines-out-47/
END:VEVENT
BEGIN:VEVENT
DTSTART;VALUE=DATE:20261028
DTEND;VALUE=DATE:20261029
DTSTAMP:20260425T062227
CREATED:20260126T192401Z
LAST-MODIFIED:20260303T210855Z
UID:11567-1793145600-1793231999@aritonbc.org
SUMMARY:Quarterly Business Meeting
DESCRIPTION:
URL:https://aritonbc.org/event/quarterly-business-meeting-16/
END:VEVENT
BEGIN:VEVENT
DTSTART;TZID=America/Chicago:20261028T173000
DTEND;TZID=America/Chicago:20261028T183000
DTSTAMP:20260425T062227
CREATED:20260126T192401Z
LAST-MODIFIED:20260303T210855Z
UID:11569-1793208600-1793212200@aritonbc.org
SUMMARY:Wednesday Meal
DESCRIPTION:
URL:https://aritonbc.org/event/wednesday-meal-69/
END:VEVENT
BEGIN:VEVENT
DTSTART;TZID=America/Chicago:20261028T183000
DTEND;TZID=America/Chicago:20261028T193000
DTSTAMP:20260425T062227
CREATED:20260126T192401Z
LAST-MODIFIED:20260303T210855Z
UID:11566-1793212200-1793215800@aritonbc.org
SUMMARY:Wednesday Night Service
DESCRIPTION:Check Ariton Baptist Facebook page for instructions
URL:https://aritonbc.org/event/wednesday-night-service-199/
END:VEVENT
BEGIN:VEVENT
DTSTART;TZID=America/Chicago:20261101T094500
DTEND;TZID=America/Chicago:20261101T104500
DTSTAMP:20260425T062227
CREATED:20260126T192402Z
LAST-MODIFIED:20260303T210855Z
UID:11570-1793526300-1793529900@aritonbc.org
SUMMARY:In-House Sunday School
DESCRIPTION:Large Group Adult\, Youth\, Children & Toddler SS Classes. Nursery Provided.
URL:https://aritonbc.org/event/in-house-sunday-school-200/
END:VEVENT
BEGIN:VEVENT
DTSTART;TZID=America/Chicago:20261101T110000
DTEND;TZID=America/Chicago:20261101T120000
DTSTAMP:20260425T062227
CREATED:20260126T192402Z
LAST-MODIFIED:20260303T210855Z
UID:11571-1793530800-1793534400@aritonbc.org
SUMMARY:Worship Service In-House & Posted to Facebook Later
DESCRIPTION:
URL:https://aritonbc.org/event/worship-service-in-house-posted-to-facebook-later-201/
END:VEVENT
BEGIN:VEVENT
DTSTART;TZID=America/Chicago:20261101T180000
DTEND;TZID=America/Chicago:20261101T190000
DTSTAMP:20260425T062227
CREATED:20260126T192402Z
LAST-MODIFIED:20260303T210855Z
UID:11572-1793556000-1793559600@aritonbc.org
SUMMARY:Sunday Evening Service
DESCRIPTION:
URL:https://aritonbc.org/event/sunday-evening-service-95/
END:VEVENT
BEGIN:VEVENT
DTSTART;TZID=America/Chicago:20261104T173000
DTEND;TZID=America/Chicago:20261104T183000
DTSTAMP:20260425T062227
CREATED:20260126T192402Z
LAST-MODIFIED:20260303T210855Z
UID:11574-1793813400-1793817000@aritonbc.org
SUMMARY:Wednesday Meal
DESCRIPTION:
URL:https://aritonbc.org/event/wednesday-meal-70/
END:VEVENT
BEGIN:VEVENT
DTSTART;TZID=America/Chicago:20261104T183000
DTEND;TZID=America/Chicago:20261104T193000
DTSTAMP:20260425T062227
CREATED:20260126T192402Z
LAST-MODIFIED:20260303T210855Z
UID:11573-1793817000-1793820600@aritonbc.org
SUMMARY:Wednesday Night Service
DESCRIPTION:Check Ariton Baptist Facebook page for instructions
URL:https://aritonbc.org/event/wednesday-night-service-200/
END:VEVENT
BEGIN:VEVENT
DTSTART;TZID=America/Chicago:20261108T080000
DTEND;TZID=America/Chicago:20261108T090000
DTSTAMP:20260425T062227
CREATED:20260126T192402Z
LAST-MODIFIED:20260303T210855Z
UID:11575-1794124800-1794128400@aritonbc.org
SUMMARY:Brotherhood Breakfast
DESCRIPTION:
URL:https://aritonbc.org/event/brotherhood-breakfast-58/
END:VEVENT
BEGIN:VEVENT
DTSTART;TZID=America/Chicago:20261108T094500
DTEND;TZID=America/Chicago:20261108T104500
DTSTAMP:20260425T062227
CREATED:20260126T192402Z
LAST-MODIFIED:20260303T210855Z
UID:11576-1794131100-1794134700@aritonbc.org
SUMMARY:In-House Sunday School
DESCRIPTION:Large Group Adult\, Youth\, Children & Toddler SS Classes. Nursery Provided.
URL:https://aritonbc.org/event/in-house-sunday-school-201/
END:VEVENT
BEGIN:VEVENT
DTSTART;TZID=America/Chicago:20261108T110000
DTEND;TZID=America/Chicago:20261108T120000
DTSTAMP:20260425T062227
CREATED:20260126T192402Z
LAST-MODIFIED:20260303T210855Z
UID:11577-1794135600-1794139200@aritonbc.org
SUMMARY:Worship Service In-House & Posted to Facebook Later
DESCRIPTION:
URL:https://aritonbc.org/event/worship-service-in-house-posted-to-facebook-later-202/
END:VEVENT
BEGIN:VEVENT
DTSTART;TZID=America/Chicago:20261108T180000
DTEND;TZID=America/Chicago:20261108T190000
DTSTAMP:20260425T062227
CREATED:20260126T192402Z
LAST-MODIFIED:20260303T210855Z
UID:11578-1794160800-1794164400@aritonbc.org
SUMMARY:Sunday Evening Service
DESCRIPTION:
URL:https://aritonbc.org/event/sunday-evening-service-96/
END:VEVENT
BEGIN:VEVENT
DTSTART;TZID=America/Chicago:20261111T173000
DTEND;TZID=America/Chicago:20261111T183000
DTSTAMP:20260425T062227
CREATED:20260126T192402Z
LAST-MODIFIED:20260303T210855Z
UID:11579-1794418200-1794421800@aritonbc.org
SUMMARY:Wednesday Meal
DESCRIPTION:
URL:https://aritonbc.org/event/wednesday-meal-71/
END:VEVENT
BEGIN:VEVENT
DTSTART;TZID=America/Chicago:20261111T183000
DTEND;TZID=America/Chicago:20261111T193000
DTSTAMP:20260425T062227
CREATED:20260126T192402Z
LAST-MODIFIED:20260303T210855Z
UID:11580-1794421800-1794425400@aritonbc.org
SUMMARY:Wednesday Night Service
DESCRIPTION:Check Ariton Baptist Facebook page for instructions
URL:https://aritonbc.org/event/wednesday-night-service-201/
END:VEVENT
BEGIN:VEVENT
DTSTART;TZID=America/Chicago:20261115T094500
DTEND;TZID=America/Chicago:20261115T104500
DTSTAMP:20260425T062227
CREATED:20260126T192402Z
LAST-MODIFIED:20260303T210855Z
UID:11581-1794735900-1794739500@aritonbc.org
SUMMARY:In-House Sunday School
DESCRIPTION:Large Group Adult\, Youth\, Children & Toddler SS Classes. Nursery Provided.
URL:https://aritonbc.org/event/in-house-sunday-school-202/
END:VEVENT
BEGIN:VEVENT
DTSTART;TZID=America/Chicago:20261115T110000
DTEND;TZID=America/Chicago:20261115T120000
DTSTAMP:20260425T062227
CREATED:20260126T192402Z
LAST-MODIFIED:20260303T210855Z
UID:11582-1794740400-1794744000@aritonbc.org
SUMMARY:Worship Service In-House & Posted to Facebook Later
DESCRIPTION:
URL:https://aritonbc.org/event/worship-service-in-house-posted-to-facebook-later-203/
END:VEVENT
BEGIN:VEVENT
DTSTART;TZID=America/Chicago:20261115T180000
DTEND;TZID=America/Chicago:20261115T190000
DTSTAMP:20260425T062227
CREATED:20260126T192402Z
LAST-MODIFIED:20260303T210855Z
UID:11583-1794765600-1794769200@aritonbc.org
SUMMARY:Sunday Evening Service
DESCRIPTION:
URL:https://aritonbc.org/event/sunday-evening-service-97/
END:VEVENT
BEGIN:VEVENT
DTSTART;VALUE=DATE:20261117
DTEND;VALUE=DATE:20261118
DTSTAMP:20260425T062227
CREATED:20260126T192402Z
LAST-MODIFIED:20260303T210855Z
UID:11584-1794873600-1794959999@aritonbc.org
SUMMARY:Pack BROWN BAGS
DESCRIPTION:
URL:https://aritonbc.org/event/pack-brown-bags-24/
END:VEVENT
BEGIN:VEVENT
DTSTART;TZID=America/Chicago:20261118T093000
DTEND;TZID=America/Chicago:20261118T130000
DTSTAMP:20260425T062227
CREATED:20260126T192402Z
LAST-MODIFIED:20260303T210855Z
UID:11585-1794994200-1795006800@aritonbc.org
SUMMARY:BROWN BAG MINISTRY Pick-up
DESCRIPTION:
URL:https://aritonbc.org/event/brown-bag-ministry-pick-up-46/
END:VEVENT
BEGIN:VEVENT
DTSTART;TZID=America/Chicago:20261118T173000
DTEND;TZID=America/Chicago:20261118T183000
DTSTAMP:20260425T062227
CREATED:20260128T192354Z
LAST-MODIFIED:20260303T210855Z
UID:11628-1795023000-1795026600@aritonbc.org
SUMMARY:Wednesday Meal
DESCRIPTION:
URL:https://aritonbc.org/event/wednesday-meal-72/
END:VEVENT
END:VCALENDAR