BEGIN:VCALENDAR
VERSION:2.0
PRODID:-//Ariton Baptist Church - ECPv6.15.13.1//NONSGML v1.0//EN
CALSCALE:GREGORIAN
METHOD:PUBLISH
X-WR-CALNAME:Ariton Baptist Church
X-ORIGINAL-URL:https://aritonbc.org
X-WR-CALDESC:Events for Ariton Baptist Church
REFRESH-INTERVAL;VALUE=DURATION:PT1H
X-Robots-Tag:noindex
X-PUBLISHED-TTL:PT1H
BEGIN:VTIMEZONE
TZID:America/Chicago
BEGIN:DAYLIGHT
TZOFFSETFROM:-0600
TZOFFSETTO:-0500
TZNAME:CDT
DTSTART:20220313T080000
END:DAYLIGHT
BEGIN:STANDARD
TZOFFSETFROM:-0500
TZOFFSETTO:-0600
TZNAME:CST
DTSTART:20221106T070000
END:STANDARD
BEGIN:DAYLIGHT
TZOFFSETFROM:-0600
TZOFFSETTO:-0500
TZNAME:CDT
DTSTART:20230312T080000
END:DAYLIGHT
BEGIN:STANDARD
TZOFFSETFROM:-0500
TZOFFSETTO:-0600
TZNAME:CST
DTSTART:20231105T070000
END:STANDARD
BEGIN:DAYLIGHT
TZOFFSETFROM:-0600
TZOFFSETTO:-0500
TZNAME:CDT
DTSTART:20240310T080000
END:DAYLIGHT
BEGIN:STANDARD
TZOFFSETFROM:-0500
TZOFFSETTO:-0600
TZNAME:CST
DTSTART:20241103T070000
END:STANDARD
END:VTIMEZONE
BEGIN:VEVENT
DTSTART;TZID=America/Chicago:20230815T130000
DTEND;TZID=America/Chicago:20230815T160000
DTSTAMP:20260424T173551
CREATED:20230112T194704Z
LAST-MODIFIED:20230301T194054Z
UID:3459-1692104400-1692115200@aritonbc.org
SUMMARY:BROWN BAG MINISTRY
DESCRIPTION:Helpers: Shalene Schmidt\, Sandra Cruikshank
URL:https://aritonbc.org/event/brown-bag-ministry-16/
END:VEVENT
BEGIN:VEVENT
DTSTART;TZID=America/Chicago:20230815T130000
DTEND;TZID=America/Chicago:20230815T160000
DTSTAMP:20260424T173551
CREATED:20221221T233303Z
LAST-MODIFIED:20230111T193315Z
UID:2687-1692104400-1692115200@aritonbc.org
SUMMARY:BROWN BAG MINISTRY
DESCRIPTION:Helpers: Shalene Schmidt\, Sandra Cruikshank
URL:https://aritonbc.org/event/brown-bag-ministry-8/
END:VEVENT
BEGIN:VEVENT
DTSTART;TZID=America/Chicago:20230815T090000
DTEND;TZID=America/Chicago:20230815T130000
DTSTAMP:20260424T173551
CREATED:20230807T182120Z
LAST-MODIFIED:20230813T183436Z
UID:6065-1692090000-1692104400@aritonbc.org
SUMMARY:Andrea-Out
DESCRIPTION:
URL:https://aritonbc.org/event/andrea-out-3/
END:VEVENT
BEGIN:VEVENT
DTSTART;VALUE=DATE:20230815
DTEND;VALUE=DATE:20230816
DTSTAMP:20260424T173551
CREATED:20230302T194010Z
LAST-MODIFIED:20230813T183436Z
UID:4462-1692057600-1692143999@aritonbc.org
SUMMARY:Pack BROWN BAGS after 2PM
DESCRIPTION:
URL:https://aritonbc.org/event/pack-brown-bags-after-2pm-6/
END:VEVENT
BEGIN:VEVENT
DTSTART;TZID=America/Chicago:20230814T183000
DTEND;TZID=America/Chicago:20230814T193000
DTSTAMP:20260424T173551
CREATED:20230123T222035Z
LAST-MODIFIED:20230606T180644Z
UID:3558-1692037800-1692041400@aritonbc.org
SUMMARY:MEN'S BIBLE STUDY
DESCRIPTION:
URL:https://aritonbc.org/event/mens-bible-study-23/
END:VEVENT
BEGIN:VEVENT
DTSTART;TZID=America/Chicago:20230813T180000
DTEND;TZID=America/Chicago:20230813T190000
DTSTAMP:20260424T173551
CREATED:20221221T233303Z
LAST-MODIFIED:20230813T183436Z
UID:2685-1691949600-1691953200@aritonbc.org
SUMMARY:Evening Service: In-House
DESCRIPTION:
URL:https://aritonbc.org/event/evening-service-in-house-32/
END:VEVENT
BEGIN:VEVENT
DTSTART;TZID=America/Chicago:20230813T170000
DTEND;TZID=America/Chicago:20230813T180000
DTSTAMP:20260424T173551
CREATED:20221221T233303Z
LAST-MODIFIED:20230813T183436Z
UID:2686-1691946000-1691949600@aritonbc.org
SUMMARY:Discipleship Training
DESCRIPTION:
URL:https://aritonbc.org/event/discipleship-training-32/
END:VEVENT
BEGIN:VEVENT
DTSTART;TZID=America/Chicago:20230813T110000
DTEND;TZID=America/Chicago:20230813T120000
DTSTAMP:20260424T173551
CREATED:20221221T233303Z
LAST-MODIFIED:20230812T183446Z
UID:2684-1691924400-1691928000@aritonbc.org
SUMMARY:Worship Service In-House & Posted to Facebook Later
DESCRIPTION:
URL:https://aritonbc.org/event/worship-service-in-house-posted-to-facebook-later-33/
END:VEVENT
BEGIN:VEVENT
DTSTART;TZID=America/Chicago:20230813T094500
DTEND;TZID=America/Chicago:20230813T104500
DTSTAMP:20260424T173551
CREATED:20221221T233303Z
LAST-MODIFIED:20230812T183446Z
UID:2683-1691919900-1691923500@aritonbc.org
SUMMARY:In-House Sunday School
DESCRIPTION:Large Group Adult\, Youth\, Children & Toddler SS Classes. Nursery Provided.
URL:https://aritonbc.org/event/in-house-sunday-school-32/
END:VEVENT
BEGIN:VEVENT
DTSTART;TZID=America/Chicago:20230813T080000
DTEND;TZID=America/Chicago:20230813T090000
DTSTAMP:20260424T173551
CREATED:20221221T233303Z
LAST-MODIFIED:20230812T183445Z
UID:2682-1691913600-1691917200@aritonbc.org
SUMMARY:Brotherhood Breakfast
DESCRIPTION:
URL:https://aritonbc.org/event/brotherhood-breakfast-8/
END:VEVENT
BEGIN:VEVENT
DTSTART;VALUE=DATE:20230812
DTEND;VALUE=DATE:20230813
DTSTAMP:20260424T173551
CREATED:20230731T181939Z
LAST-MODIFIED:20230812T183445Z
UID:6032-1691798400-1691884799@aritonbc.org
SUMMARY:Senior Adult Cookout @ the Lake
DESCRIPTION:Church Van will be leaving @ 10AM from church\, if you need a way there.
URL:https://aritonbc.org/event/senior-adult-cookout-the-lake/
END:VEVENT
BEGIN:VEVENT
DTSTART;TZID=America/Chicago:20230810T120000
DTEND;TZID=America/Chicago:20230810T170000
DTSTAMP:20260424T173551
CREATED:20230807T182120Z
LAST-MODIFIED:20230810T183601Z
UID:6064-1691668800-1691686800@aritonbc.org
SUMMARY:Andrea-Out
DESCRIPTION:
URL:https://aritonbc.org/event/andrea-out-2/
END:VEVENT
BEGIN:VEVENT
DTSTART;TZID=America/Chicago:20230809T183000
DTEND;TZID=America/Chicago:20230809T193000
DTSTAMP:20260424T173551
CREATED:20221221T233303Z
LAST-MODIFIED:20230809T183446Z
UID:2680-1691605800-1691609400@aritonbc.org
SUMMARY:Wednesday Night Service
DESCRIPTION:Check Ariton Baptist Facebook page for instructions
URL:https://aritonbc.org/event/wednesday-night-service-33/
END:VEVENT
BEGIN:VEVENT
DTSTART;TZID=America/Chicago:20230809T173000
DTEND;TZID=America/Chicago:20230809T183000
DTSTAMP:20260424T173551
CREATED:20221221T233303Z
LAST-MODIFIED:20230809T183446Z
UID:2681-1691602200-1691605800@aritonbc.org
SUMMARY:Wednesday Night Meal
DESCRIPTION:
URL:https://aritonbc.org/event/wednesday-night-meal-32/
END:VEVENT
BEGIN:VEVENT
DTSTART;TZID=America/Chicago:20230807T183000
DTEND;TZID=America/Chicago:20230807T193000
DTSTAMP:20260424T173551
CREATED:20230123T222035Z
LAST-MODIFIED:20230606T180644Z
UID:3557-1691433000-1691436600@aritonbc.org
SUMMARY:MEN'S BIBLE STUDY
DESCRIPTION:
URL:https://aritonbc.org/event/mens-bible-study-22/
END:VEVENT
BEGIN:VEVENT
DTSTART;TZID=America/Chicago:20230807T183000
DTEND;TZID=America/Chicago:20230807T193000
DTSTAMP:20260424T173551
CREATED:20221221T233303Z
LAST-MODIFIED:20230122T221745Z
UID:2679-1691433000-1691436600@aritonbc.org
SUMMARY:MEN'S PRAYER GROUP
DESCRIPTION:
URL:https://aritonbc.org/event/mens-prayer-group-15/
END:VEVENT
BEGIN:VEVENT
DTSTART;TZID=America/Chicago:20230806T180000
DTEND;TZID=America/Chicago:20230806T190000
DTSTAMP:20260424T173551
CREATED:20230624T200537Z
LAST-MODIFIED:20230806T181958Z
UID:5847-1691344800-1691348400@aritonbc.org
SUMMARY:Ignite
DESCRIPTION:
URL:https://aritonbc.org/event/ignite/
END:VEVENT
BEGIN:VEVENT
DTSTART;TZID=America/Chicago:20230806T180000
DTEND;TZID=America/Chicago:20230806T190000
DTSTAMP:20260424T173551
CREATED:20221221T233303Z
LAST-MODIFIED:20230806T181958Z
UID:2677-1691344800-1691348400@aritonbc.org
SUMMARY:Evening Service: In-House
DESCRIPTION:
URL:https://aritonbc.org/event/evening-service-in-house-31/
END:VEVENT
BEGIN:VEVENT
DTSTART;TZID=America/Chicago:20230806T170000
DTEND;TZID=America/Chicago:20230806T180000
DTSTAMP:20260424T173551
CREATED:20221221T233303Z
LAST-MODIFIED:20230806T181958Z
UID:2678-1691341200-1691344800@aritonbc.org
SUMMARY:Discipleship Training
DESCRIPTION:
URL:https://aritonbc.org/event/discipleship-training-31/
END:VEVENT
BEGIN:VEVENT
DTSTART;TZID=America/Chicago:20230806T110000
DTEND;TZID=America/Chicago:20230806T120000
DTSTAMP:20260424T173551
CREATED:20221221T233303Z
LAST-MODIFIED:20230805T182042Z
UID:2676-1691319600-1691323200@aritonbc.org
SUMMARY:Worship Service In-House & Posted to Facebook Later
DESCRIPTION:
URL:https://aritonbc.org/event/worship-service-in-house-posted-to-facebook-later-32/
END:VEVENT
BEGIN:VEVENT
DTSTART;TZID=America/Chicago:20230806T094500
DTEND;TZID=America/Chicago:20230806T104500
DTSTAMP:20260424T173551
CREATED:20221221T233303Z
LAST-MODIFIED:20230805T182042Z
UID:2675-1691315100-1691318700@aritonbc.org
SUMMARY:In-House Sunday School
DESCRIPTION:Large Group Adult\, Youth\, Children & Toddler SS Classes. Nursery Provided.
URL:https://aritonbc.org/event/in-house-sunday-school-31/
END:VEVENT
BEGIN:VEVENT
DTSTART;TZID=America/Chicago:20230806T080000
DTEND;TZID=America/Chicago:20230806T090000
DTSTAMP:20260424T173551
CREATED:20221221T233303Z
LAST-MODIFIED:20230805T182042Z
UID:2674-1691308800-1691312400@aritonbc.org
SUMMARY:Deacon's Meeting
DESCRIPTION:
URL:https://aritonbc.org/event/deacons-meeting-4/
END:VEVENT
BEGIN:VEVENT
DTSTART;VALUE=DATE:20230806
DTEND;VALUE=DATE:20230807
DTSTAMP:20260424T173551
CREATED:20230731T181939Z
LAST-MODIFIED:20230806T181958Z
UID:6031-1691280000-1691366399@aritonbc.org
SUMMARY:Lord's Supper
DESCRIPTION:
URL:https://aritonbc.org/event/lords-supper-2/
END:VEVENT
BEGIN:VEVENT
DTSTART;VALUE=DATE:20230805
DTEND;VALUE=DATE:20230806
DTSTAMP:20260424T173551
CREATED:20221221T233303Z
LAST-MODIFIED:20230805T182042Z
UID:2673-1691193600-1691279999@aritonbc.org
SUMMARY:Change Thermostat Batteries
DESCRIPTION:Need 10 AA\nNeed 12 AAA
URL:https://aritonbc.org/event/change-thermostat-batteries/
END:VEVENT
BEGIN:VEVENT
DTSTART;TZID=America/Chicago:20230804T173000
DTEND;TZID=America/Chicago:20230804T210000
DTSTAMP:20260424T173551
CREATED:20221221T233301Z
LAST-MODIFIED:20230804T181947Z
UID:2628-1691170200-1691182800@aritonbc.org
SUMMARY:Tables of Joy
DESCRIPTION:
URL:https://aritonbc.org/event/tables-of-joy/
END:VEVENT
BEGIN:VEVENT
DTSTART;TZID=America/Chicago:20230803T180000
DTEND;TZID=America/Chicago:20230803T190000
DTSTAMP:20260424T173551
CREATED:20230621T200321Z
LAST-MODIFIED:20230803T182022Z
UID:5831-1691085600-1691089200@aritonbc.org
SUMMARY:ASP Open House
DESCRIPTION:
URL:https://aritonbc.org/event/asp-open-house/
END:VEVENT
BEGIN:VEVENT
DTSTART;TZID=America/Chicago:20230802T183000
DTEND;TZID=America/Chicago:20230802T193000
DTSTAMP:20260424T173551
CREATED:20221221T233303Z
LAST-MODIFIED:20230802T181938Z
UID:2671-1691001000-1691004600@aritonbc.org
SUMMARY:Wednesday Night Service
DESCRIPTION:Check Ariton Baptist Facebook page for instructions
URL:https://aritonbc.org/event/wednesday-night-service-32/
END:VEVENT
BEGIN:VEVENT
DTSTART;TZID=America/Chicago:20230802T173000
DTEND;TZID=America/Chicago:20230802T183000
DTSTAMP:20260424T173551
CREATED:20221221T233303Z
LAST-MODIFIED:20230802T181938Z
UID:2672-1690997400-1691001000@aritonbc.org
SUMMARY:Wednesday Night Meal
DESCRIPTION:
URL:https://aritonbc.org/event/wednesday-night-meal-31/
END:VEVENT
BEGIN:VEVENT
DTSTART;TZID=America/Chicago:20230801T130000
DTEND;TZID=America/Chicago:20230801T160000
DTSTAMP:20260424T173551
CREATED:20230621T200321Z
LAST-MODIFIED:20230801T181937Z
UID:5830-1690894800-1690905600@aritonbc.org
SUMMARY:ASP Staff Meeting
DESCRIPTION:
URL:https://aritonbc.org/event/asp-staff-meeting/
END:VEVENT
BEGIN:VEVENT
DTSTART;TZID=America/Chicago:20230731T183000
DTEND;TZID=America/Chicago:20230731T193000
DTSTAMP:20260424T173551
CREATED:20230123T222034Z
LAST-MODIFIED:20230606T180644Z
UID:3556-1690828200-1690831800@aritonbc.org
SUMMARY:MEN'S BIBLE STUDY
DESCRIPTION:
URL:https://aritonbc.org/event/mens-bible-study-21/
END:VEVENT
END:VCALENDAR