BEGIN:VCALENDAR
VERSION:2.0
PRODID:-//Ariton Baptist Church - ECPv6.15.13.1//NONSGML v1.0//EN
CALSCALE:GREGORIAN
METHOD:PUBLISH
X-ORIGINAL-URL:https://aritonbc.org
X-WR-CALDESC:Events for Ariton Baptist Church
REFRESH-INTERVAL;VALUE=DURATION:PT1H
X-Robots-Tag:noindex
X-PUBLISHED-TTL:PT1H
BEGIN:VTIMEZONE
TZID:America/Chicago
BEGIN:DAYLIGHT
TZOFFSETFROM:-0600
TZOFFSETTO:-0500
TZNAME:CDT
DTSTART:20250309T080000
END:DAYLIGHT
BEGIN:STANDARD
TZOFFSETFROM:-0500
TZOFFSETTO:-0600
TZNAME:CST
DTSTART:20251102T070000
END:STANDARD
BEGIN:DAYLIGHT
TZOFFSETFROM:-0600
TZOFFSETTO:-0500
TZNAME:CDT
DTSTART:20260308T080000
END:DAYLIGHT
BEGIN:STANDARD
TZOFFSETFROM:-0500
TZOFFSETTO:-0600
TZNAME:CST
DTSTART:20261101T070000
END:STANDARD
BEGIN:DAYLIGHT
TZOFFSETFROM:-0600
TZOFFSETTO:-0500
TZNAME:CDT
DTSTART:20270314T080000
END:DAYLIGHT
BEGIN:STANDARD
TZOFFSETFROM:-0500
TZOFFSETTO:-0600
TZNAME:CST
DTSTART:20271107T070000
END:STANDARD
END:VTIMEZONE
BEGIN:VEVENT
DTSTART;TZID=America/Chicago:20260614T110000
DTEND;TZID=America/Chicago:20260614T120000
DTSTAMP:20260423T013959
CREATED:20250915T220913Z
LAST-MODIFIED:20260303T210851Z
UID:10441-1781434800-1781438400@aritonbc.org
SUMMARY:Worship Service In-House & Posted to Facebook Later
DESCRIPTION:
URL:https://aritonbc.org/event/worship-service-in-house-posted-to-facebook-later-181/
END:VEVENT
BEGIN:VEVENT
DTSTART;TZID=America/Chicago:20260614T170000
DTEND;TZID=America/Chicago:20260614T180000
DTSTAMP:20260423T013959
CREATED:20251012T232356Z
LAST-MODIFIED:20260125T192352Z
UID:10567-1781456400-1781460000@aritonbc.org
SUMMARY:Bible Recap Bible Study
DESCRIPTION:
URL:https://aritonbc.org/event/bible-recap-bible-study-178/
END:VEVENT
BEGIN:VEVENT
DTSTART;TZID=America/Chicago:20260614T180000
DTEND;TZID=America/Chicago:20260614T190000
DTSTAMP:20260423T013959
CREATED:20251012T232356Z
LAST-MODIFIED:20260303T210851Z
UID:10566-1781460000-1781463600@aritonbc.org
SUMMARY:Sunday Evening Service
DESCRIPTION:
URL:https://aritonbc.org/event/sunday-evening-service-75/
END:VEVENT
BEGIN:VEVENT
DTSTART;VALUE=DATE:20260616
DTEND;VALUE=DATE:20260617
DTSTAMP:20260423T013959
CREATED:20251013T233859Z
LAST-MODIFIED:20260303T210851Z
UID:10571-1781568000-1781654399@aritonbc.org
SUMMARY:Pack BROWN BAGS
DESCRIPTION:
URL:https://aritonbc.org/event/pack-brown-bags-19/
END:VEVENT
BEGIN:VEVENT
DTSTART;TZID=America/Chicago:20260617T093000
DTEND;TZID=America/Chicago:20260617T130000
DTSTAMP:20260423T013959
CREATED:20251014T233856Z
LAST-MODIFIED:20260303T210851Z
UID:10579-1781688600-1781701200@aritonbc.org
SUMMARY:BROWN BAG MINISTRY Pick-up
DESCRIPTION:
URL:https://aritonbc.org/event/brown-bag-ministry-pick-up-41/
END:VEVENT
BEGIN:VEVENT
DTSTART;TZID=America/Chicago:20260617T173000
DTEND;TZID=America/Chicago:20260617T183000
DTSTAMP:20260423T013959
CREATED:20251015T233928Z
LAST-MODIFIED:20260303T210851Z
UID:10583-1781717400-1781721000@aritonbc.org
SUMMARY:Wednesday Meal
DESCRIPTION:
URL:https://aritonbc.org/event/wednesday-meal-50/
END:VEVENT
BEGIN:VEVENT
DTSTART;TZID=America/Chicago:20260617T183000
DTEND;TZID=America/Chicago:20260617T193000
DTSTAMP:20260423T013959
CREATED:20251015T233927Z
LAST-MODIFIED:20260303T210851Z
UID:10582-1781721000-1781724600@aritonbc.org
SUMMARY:Wednesday Night Service
DESCRIPTION:Check Ariton Baptist Facebook page for instructions
URL:https://aritonbc.org/event/wednesday-night-service-180/
END:VEVENT
BEGIN:VEVENT
DTSTART;TZID=America/Chicago:20260618T110000
DTEND;TZID=America/Chicago:20260618T130000
DTSTAMP:20260423T013959
CREATED:20251016T233912Z
LAST-MODIFIED:20260303T210851Z
UID:10587-1781780400-1781787600@aritonbc.org
SUMMARY:Wonderful Widows Luncheon
DESCRIPTION:
URL:https://aritonbc.org/event/wonderful-widows-luncheon-32/
END:VEVENT
BEGIN:VEVENT
DTSTART;VALUE=DATE:20260619
DTEND;VALUE=DATE:20260620
DTSTAMP:20260423T013959
CREATED:20251016T233912Z
LAST-MODIFIED:20260303T210851Z
UID:10588-1781827200-1781913599@aritonbc.org
SUMMARY:Youth Pool Party
DESCRIPTION:
URL:https://aritonbc.org/event/youth-pool-party/
END:VEVENT
BEGIN:VEVENT
DTSTART;VALUE=DATE:20260621
DTEND;VALUE=DATE:20260622
DTSTAMP:20260423T013959
CREATED:20251019T235414Z
LAST-MODIFIED:20260303T210851Z
UID:10601-1782000000-1782086399@aritonbc.org
SUMMARY:Father's Day
DESCRIPTION:
URL:https://aritonbc.org/event/fathers-day-3/
END:VEVENT
BEGIN:VEVENT
DTSTART;TZID=America/Chicago:20260621T094500
DTEND;TZID=America/Chicago:20260621T104500
DTSTAMP:20260423T013959
CREATED:20251017T235355Z
LAST-MODIFIED:20260303T210851Z
UID:10593-1782035100-1782038700@aritonbc.org
SUMMARY:In-House Sunday School
DESCRIPTION:Large Group Adult\, Youth\, Children & Toddler SS Classes. Nursery Provided.
URL:https://aritonbc.org/event/in-house-sunday-school-181/
END:VEVENT
BEGIN:VEVENT
DTSTART;TZID=America/Chicago:20260621T110000
DTEND;TZID=America/Chicago:20260621T120000
DTSTAMP:20260423T013959
CREATED:20251018T235359Z
LAST-MODIFIED:20260303T210851Z
UID:10596-1782039600-1782043200@aritonbc.org
SUMMARY:Worship Service In-House & Posted to Facebook Later
DESCRIPTION:
URL:https://aritonbc.org/event/worship-service-in-house-posted-to-facebook-later-182/
END:VEVENT
BEGIN:VEVENT
DTSTART;TZID=America/Chicago:20260621T170000
DTEND;TZID=America/Chicago:20260621T180000
DTSTAMP:20260423T013959
CREATED:20251019T235414Z
LAST-MODIFIED:20260125T192352Z
UID:10600-1782061200-1782064800@aritonbc.org
SUMMARY:Bible Recap Bible Study
DESCRIPTION:
URL:https://aritonbc.org/event/bible-recap-bible-study-179/
END:VEVENT
BEGIN:VEVENT
DTSTART;TZID=America/Chicago:20260621T180000
DTEND;TZID=America/Chicago:20260621T190000
DTSTAMP:20260423T013959
CREATED:20251016T233912Z
LAST-MODIFIED:20260303T210851Z
UID:10589-1782064800-1782068400@aritonbc.org
SUMMARY:Sunday Evening Service
DESCRIPTION:
URL:https://aritonbc.org/event/sunday-evening-service-76/
END:VEVENT
BEGIN:VEVENT
DTSTART;VALUE=DATE:20260623
DTEND;VALUE=DATE:20260624
DTSTAMP:20260423T013959
CREATED:20251019T235414Z
LAST-MODIFIED:20260303T210851Z
UID:10602-1782172800-1782259199@aritonbc.org
SUMMARY:Magazines Out
DESCRIPTION:
URL:https://aritonbc.org/event/magazines-out-43/
END:VEVENT
BEGIN:VEVENT
DTSTART;TZID=America/Chicago:20260624T173000
DTEND;TZID=America/Chicago:20260624T183000
DTSTAMP:20260423T013959
CREATED:20251020T235355Z
LAST-MODIFIED:20260303T210851Z
UID:10607-1782322200-1782325800@aritonbc.org
SUMMARY:Wednesday Meal
DESCRIPTION:
URL:https://aritonbc.org/event/wednesday-meal-51/
END:VEVENT
BEGIN:VEVENT
DTSTART;TZID=America/Chicago:20260624T183000
DTEND;TZID=America/Chicago:20260624T193000
DTSTAMP:20260423T013959
CREATED:20251020T235355Z
LAST-MODIFIED:20260303T210851Z
UID:10608-1782325800-1782329400@aritonbc.org
SUMMARY:Wednesday Night Service
DESCRIPTION:Check Ariton Baptist Facebook page for instructions
URL:https://aritonbc.org/event/wednesday-night-service-181/
END:VEVENT
BEGIN:VEVENT
DTSTART;TZID=America/Chicago:20260628T094500
DTEND;TZID=America/Chicago:20260628T104500
DTSTAMP:20260423T013959
CREATED:20251022T235358Z
LAST-MODIFIED:20260303T210851Z
UID:10613-1782639900-1782643500@aritonbc.org
SUMMARY:In-House Sunday School
DESCRIPTION:Large Group Adult\, Youth\, Children & Toddler SS Classes. Nursery Provided.
URL:https://aritonbc.org/event/in-house-sunday-school-182/
END:VEVENT
BEGIN:VEVENT
DTSTART;TZID=America/Chicago:20260628T110000
DTEND;TZID=America/Chicago:20260628T120000
DTSTAMP:20260423T013959
CREATED:20251024T173910Z
LAST-MODIFIED:20260303T210851Z
UID:10616-1782644400-1782648000@aritonbc.org
SUMMARY:Worship Service In-House & Posted to Facebook Later
DESCRIPTION:
URL:https://aritonbc.org/event/worship-service-in-house-posted-to-facebook-later-183/
END:VEVENT
BEGIN:VEVENT
DTSTART;TZID=America/Chicago:20260628T170000
DTEND;TZID=America/Chicago:20260628T180000
DTSTAMP:20260423T013959
CREATED:20251026T173851Z
LAST-MODIFIED:20260125T192352Z
UID:10622-1782666000-1782669600@aritonbc.org
SUMMARY:Bible Recap Bible Study
DESCRIPTION:
URL:https://aritonbc.org/event/bible-recap-bible-study-180/
END:VEVENT
BEGIN:VEVENT
DTSTART;TZID=America/Chicago:20260628T180000
DTEND;TZID=America/Chicago:20260628T190000
DTSTAMP:20260423T013959
CREATED:20251024T173910Z
LAST-MODIFIED:20260303T210851Z
UID:10617-1782669600-1782673200@aritonbc.org
SUMMARY:Sunday Evening Service
DESCRIPTION:
URL:https://aritonbc.org/event/sunday-evening-service-77/
END:VEVENT
BEGIN:VEVENT
DTSTART;TZID=America/Chicago:20260701T173000
DTEND;TZID=America/Chicago:20260701T183000
DTSTAMP:20260423T013959
CREATED:20251027T173854Z
LAST-MODIFIED:20260303T210851Z
UID:10626-1782927000-1782930600@aritonbc.org
SUMMARY:Wednesday Meal
DESCRIPTION:
URL:https://aritonbc.org/event/wednesday-meal-52/
END:VEVENT
BEGIN:VEVENT
DTSTART;TZID=America/Chicago:20260701T183000
DTEND;TZID=America/Chicago:20260701T193000
DTSTAMP:20260423T013959
CREATED:20251026T173851Z
LAST-MODIFIED:20260303T210851Z
UID:10623-1782930600-1782934200@aritonbc.org
SUMMARY:Wednesday Night Service
DESCRIPTION:Check Ariton Baptist Facebook page for instructions
URL:https://aritonbc.org/event/wednesday-night-service-182/
END:VEVENT
BEGIN:VEVENT
DTSTART;VALUE=DATE:20260704
DTEND;VALUE=DATE:20260705
DTSTAMP:20260423T013959
CREATED:20251027T173854Z
LAST-MODIFIED:20260303T210851Z
UID:10628-1783123200-1783209599@aritonbc.org
SUMMARY:Independence Day
DESCRIPTION:
URL:https://aritonbc.org/event/independence-day-3/
END:VEVENT
BEGIN:VEVENT
DTSTART;TZID=America/Chicago:20260705T094500
DTEND;TZID=America/Chicago:20260705T104500
DTSTAMP:20260423T013959
CREATED:20251027T173854Z
LAST-MODIFIED:20260303T210851Z
UID:10629-1783244700-1783248300@aritonbc.org
SUMMARY:In-House Sunday School
DESCRIPTION:Large Group Adult\, Youth\, Children & Toddler SS Classes. Nursery Provided.
URL:https://aritonbc.org/event/in-house-sunday-school-183/
END:VEVENT
BEGIN:VEVENT
DTSTART;TZID=America/Chicago:20260705T110000
DTEND;TZID=America/Chicago:20260705T120000
DTSTAMP:20260423T013959
CREATED:20251030T173858Z
LAST-MODIFIED:20260303T210851Z
UID:10650-1783249200-1783252800@aritonbc.org
SUMMARY:Worship Service In-House & Posted to Facebook Later
DESCRIPTION:
URL:https://aritonbc.org/event/worship-service-in-house-posted-to-facebook-later-184/
END:VEVENT
BEGIN:VEVENT
DTSTART;TZID=America/Chicago:20260705T170000
DTEND;TZID=America/Chicago:20260705T180000
DTSTAMP:20260423T013959
CREATED:20251031T173851Z
LAST-MODIFIED:20260125T192352Z
UID:10654-1783270800-1783274400@aritonbc.org
SUMMARY:Bible Recap Bible Study
DESCRIPTION:
URL:https://aritonbc.org/event/bible-recap-bible-study-181/
END:VEVENT
BEGIN:VEVENT
DTSTART;TZID=America/Chicago:20260705T180000
DTEND;TZID=America/Chicago:20260705T190000
DTSTAMP:20260423T013959
CREATED:20251030T173858Z
LAST-MODIFIED:20260303T210851Z
UID:10651-1783274400-1783278000@aritonbc.org
SUMMARY:Sunday Evening Service
DESCRIPTION:
URL:https://aritonbc.org/event/sunday-evening-service-78/
END:VEVENT
BEGIN:VEVENT
DTSTART;TZID=America/Chicago:20260708T173000
DTEND;TZID=America/Chicago:20260708T183000
DTSTAMP:20260423T013959
CREATED:20251102T173909Z
LAST-MODIFIED:20260303T210851Z
UID:10660-1783531800-1783535400@aritonbc.org
SUMMARY:Wednesday Meal
DESCRIPTION:
URL:https://aritonbc.org/event/wednesday-meal-53/
END:VEVENT
BEGIN:VEVENT
DTSTART;TZID=America/Chicago:20260708T183000
DTEND;TZID=America/Chicago:20260708T193000
DTSTAMP:20260423T013959
CREATED:20251102T173909Z
LAST-MODIFIED:20260303T210851Z
UID:10659-1783535400-1783539000@aritonbc.org
SUMMARY:Wednesday Night Service
DESCRIPTION:Check Ariton Baptist Facebook page for instructions
URL:https://aritonbc.org/event/wednesday-night-service-183/
END:VEVENT
END:VCALENDAR