BEGIN:VCALENDAR
VERSION:2.0
PRODID:-//Ariton Baptist Church - ECPv6.15.13.1//NONSGML v1.0//EN
CALSCALE:GREGORIAN
METHOD:PUBLISH
X-WR-CALNAME:Ariton Baptist Church
X-ORIGINAL-URL:https://aritonbc.org
X-WR-CALDESC:Events for Ariton Baptist Church
REFRESH-INTERVAL;VALUE=DURATION:PT1H
X-Robots-Tag:noindex
X-PUBLISHED-TTL:PT1H
BEGIN:VTIMEZONE
TZID:America/Chicago
BEGIN:DAYLIGHT
TZOFFSETFROM:-0600
TZOFFSETTO:-0500
TZNAME:CDT
DTSTART:20250309T080000
END:DAYLIGHT
BEGIN:STANDARD
TZOFFSETFROM:-0500
TZOFFSETTO:-0600
TZNAME:CST
DTSTART:20251102T070000
END:STANDARD
BEGIN:DAYLIGHT
TZOFFSETFROM:-0600
TZOFFSETTO:-0500
TZNAME:CDT
DTSTART:20260308T080000
END:DAYLIGHT
BEGIN:STANDARD
TZOFFSETFROM:-0500
TZOFFSETTO:-0600
TZNAME:CST
DTSTART:20261101T070000
END:STANDARD
BEGIN:DAYLIGHT
TZOFFSETFROM:-0600
TZOFFSETTO:-0500
TZNAME:CDT
DTSTART:20270314T080000
END:DAYLIGHT
BEGIN:STANDARD
TZOFFSETFROM:-0500
TZOFFSETTO:-0600
TZNAME:CST
DTSTART:20271107T070000
END:STANDARD
END:VTIMEZONE
BEGIN:VEVENT
DTSTART;TZID=America/Chicago:20260805T183000
DTEND;TZID=America/Chicago:20260805T193000
DTSTAMP:20260423T013745
CREATED:20251127T183858Z
LAST-MODIFIED:20260303T210852Z
UID:10777-1785954600-1785958200@aritonbc.org
SUMMARY:Wednesday Night Service
DESCRIPTION:Check Ariton Baptist Facebook page for instructions
URL:https://aritonbc.org/event/wednesday-night-service-187/
END:VEVENT
BEGIN:VEVENT
DTSTART;TZID=America/Chicago:20260809T080000
DTEND;TZID=America/Chicago:20260809T090000
DTSTAMP:20260423T013745
CREATED:20251130T185403Z
LAST-MODIFIED:20260303T210852Z
UID:10786-1786262400-1786266000@aritonbc.org
SUMMARY:Brotherhood Breakfast
DESCRIPTION:
URL:https://aritonbc.org/event/brotherhood-breakfast-55/
END:VEVENT
BEGIN:VEVENT
DTSTART;TZID=America/Chicago:20260809T094500
DTEND;TZID=America/Chicago:20260809T104500
DTSTAMP:20260423T013745
CREATED:20251130T185403Z
LAST-MODIFIED:20260303T210852Z
UID:10787-1786268700-1786272300@aritonbc.org
SUMMARY:In-House Sunday School
DESCRIPTION:Large Group Adult\, Youth\, Children & Toddler SS Classes. Nursery Provided.
URL:https://aritonbc.org/event/in-house-sunday-school-188/
END:VEVENT
BEGIN:VEVENT
DTSTART;TZID=America/Chicago:20260809T110000
DTEND;TZID=America/Chicago:20260809T120000
DTSTAMP:20260423T013745
CREATED:20251205T185353Z
LAST-MODIFIED:20260303T210852Z
UID:11233-1786273200-1786276800@aritonbc.org
SUMMARY:Worship Service In-House & Posted to Facebook Later
DESCRIPTION:
URL:https://aritonbc.org/event/worship-service-in-house-posted-to-facebook-later-189/
END:VEVENT
BEGIN:VEVENT
DTSTART;TZID=America/Chicago:20260809T170000
DTEND;TZID=America/Chicago:20260809T180000
DTSTAMP:20260423T013745
CREATED:20251205T185353Z
LAST-MODIFIED:20260125T192354Z
UID:11235-1786294800-1786298400@aritonbc.org
SUMMARY:Bible Recap Bible Study
DESCRIPTION:
URL:https://aritonbc.org/event/bible-recap-bible-study-186/
END:VEVENT
BEGIN:VEVENT
DTSTART;TZID=America/Chicago:20260809T180000
DTEND;TZID=America/Chicago:20260809T190000
DTSTAMP:20260423T013745
CREATED:20251205T185353Z
LAST-MODIFIED:20260303T210852Z
UID:11234-1786298400-1786302000@aritonbc.org
SUMMARY:Sunday Evening Service
DESCRIPTION:
URL:https://aritonbc.org/event/sunday-evening-service-83/
END:VEVENT
BEGIN:VEVENT
DTSTART;TZID=America/Chicago:20260812T173000
DTEND;TZID=America/Chicago:20260812T183000
DTSTAMP:20260423T013745
CREATED:20251205T185353Z
LAST-MODIFIED:20260303T210852Z
UID:11236-1786555800-1786559400@aritonbc.org
SUMMARY:Wednesday Meal
DESCRIPTION:
URL:https://aritonbc.org/event/wednesday-meal-58/
END:VEVENT
BEGIN:VEVENT
DTSTART;TZID=America/Chicago:20260812T183000
DTEND;TZID=America/Chicago:20260812T193000
DTSTAMP:20260423T013745
CREATED:20251205T185353Z
LAST-MODIFIED:20260303T210852Z
UID:11237-1786559400-1786563000@aritonbc.org
SUMMARY:Wednesday Night Service
DESCRIPTION:Check Ariton Baptist Facebook page for instructions
URL:https://aritonbc.org/event/wednesday-night-service-188/
END:VEVENT
BEGIN:VEVENT
DTSTART;TZID=America/Chicago:20260814T173000
DTEND;TZID=America/Chicago:20260814T212900
DTSTAMP:20260423T013745
CREATED:20251205T185353Z
LAST-MODIFIED:20260303T210852Z
UID:11238-1786728600-1786742940@aritonbc.org
SUMMARY:Tables of Joy
DESCRIPTION:
URL:https://aritonbc.org/event/tables-of-joy-3/
END:VEVENT
BEGIN:VEVENT
DTSTART;TZID=America/Chicago:20260816T094500
DTEND;TZID=America/Chicago:20260816T104500
DTSTAMP:20260423T013745
CREATED:20251205T185353Z
LAST-MODIFIED:20260303T210852Z
UID:11239-1786873500-1786877100@aritonbc.org
SUMMARY:In-House Sunday School
DESCRIPTION:Large Group Adult\, Youth\, Children & Toddler SS Classes. Nursery Provided.
URL:https://aritonbc.org/event/in-house-sunday-school-189/
END:VEVENT
BEGIN:VEVENT
DTSTART;TZID=America/Chicago:20260816T110000
DTEND;TZID=America/Chicago:20260816T120000
DTSTAMP:20260423T013745
CREATED:20251207T185355Z
LAST-MODIFIED:20260303T210853Z
UID:11262-1786878000-1786881600@aritonbc.org
SUMMARY:Worship Service In-House & Posted to Facebook Later
DESCRIPTION:
URL:https://aritonbc.org/event/worship-service-in-house-posted-to-facebook-later-190/
END:VEVENT
BEGIN:VEVENT
DTSTART;TZID=America/Chicago:20260816T170000
DTEND;TZID=America/Chicago:20260816T180000
DTSTAMP:20260423T013745
CREATED:20251207T185355Z
LAST-MODIFIED:20260125T192354Z
UID:11264-1786899600-1786903200@aritonbc.org
SUMMARY:Bible Recap Bible Study
DESCRIPTION:
URL:https://aritonbc.org/event/bible-recap-bible-study-187/
END:VEVENT
BEGIN:VEVENT
DTSTART;TZID=America/Chicago:20260816T180000
DTEND;TZID=America/Chicago:20260816T190000
DTSTAMP:20260423T013745
CREATED:20251207T185355Z
LAST-MODIFIED:20260303T210853Z
UID:11263-1786903200-1786906800@aritonbc.org
SUMMARY:Sunday Evening Service
DESCRIPTION:
URL:https://aritonbc.org/event/sunday-evening-service-84/
END:VEVENT
BEGIN:VEVENT
DTSTART;VALUE=DATE:20260818
DTEND;VALUE=DATE:20260819
DTSTAMP:20260423T013745
CREATED:20251208T185402Z
LAST-MODIFIED:20260303T210853Z
UID:11275-1787011200-1787097599@aritonbc.org
SUMMARY:Pack BROWN BAGS
DESCRIPTION:
URL:https://aritonbc.org/event/pack-brown-bags-21/
END:VEVENT
BEGIN:VEVENT
DTSTART;TZID=America/Chicago:20260819T093000
DTEND;TZID=America/Chicago:20260819T130000
DTSTAMP:20260423T013745
CREATED:20251208T185402Z
LAST-MODIFIED:20260303T210853Z
UID:11276-1787131800-1787144400@aritonbc.org
SUMMARY:BROWN BAG MINISTRY Pick-up
DESCRIPTION:
URL:https://aritonbc.org/event/brown-bag-ministry-pick-up-43/
END:VEVENT
BEGIN:VEVENT
DTSTART;TZID=America/Chicago:20260819T173000
DTEND;TZID=America/Chicago:20260819T183000
DTSTAMP:20260423T013745
CREATED:20251208T185402Z
LAST-MODIFIED:20260303T210853Z
UID:11277-1787160600-1787164200@aritonbc.org
SUMMARY:Wednesday Meal
DESCRIPTION:
URL:https://aritonbc.org/event/wednesday-meal-59/
END:VEVENT
BEGIN:VEVENT
DTSTART;TZID=America/Chicago:20260819T183000
DTEND;TZID=America/Chicago:20260819T193000
DTSTAMP:20260423T013745
CREATED:20251211T190857Z
LAST-MODIFIED:20260303T210853Z
UID:11299-1787164200-1787167800@aritonbc.org
SUMMARY:Wednesday Night Service
DESCRIPTION:Check Ariton Baptist Facebook page for instructions
URL:https://aritonbc.org/event/wednesday-night-service-189/
END:VEVENT
BEGIN:VEVENT
DTSTART;TZID=America/Chicago:20260820T110000
DTEND;TZID=America/Chicago:20260820T130000
DTSTAMP:20260423T013745
CREATED:20251214T192351Z
LAST-MODIFIED:20260303T210853Z
UID:11316-1787223600-1787230800@aritonbc.org
SUMMARY:Wonderful Widows Luncheon
DESCRIPTION:
URL:https://aritonbc.org/event/wonderful-widows-luncheon-34/
END:VEVENT
BEGIN:VEVENT
DTSTART;TZID=America/Chicago:20260823T094500
DTEND;TZID=America/Chicago:20260823T104500
DTSTAMP:20260423T013745
CREATED:20251214T192351Z
LAST-MODIFIED:20260303T210853Z
UID:11317-1787478300-1787481900@aritonbc.org
SUMMARY:In-House Sunday School
DESCRIPTION:Large Group Adult\, Youth\, Children & Toddler SS Classes. Nursery Provided.
URL:https://aritonbc.org/event/in-house-sunday-school-190/
END:VEVENT
BEGIN:VEVENT
DTSTART;TZID=America/Chicago:20260823T110000
DTEND;TZID=America/Chicago:20260823T120000
DTSTAMP:20260423T013745
CREATED:20251214T192351Z
LAST-MODIFIED:20260303T210853Z
UID:11318-1787482800-1787486400@aritonbc.org
SUMMARY:Worship Service In-House & Posted to Facebook Later
DESCRIPTION:
URL:https://aritonbc.org/event/worship-service-in-house-posted-to-facebook-later-191/
END:VEVENT
BEGIN:VEVENT
DTSTART;TZID=America/Chicago:20260823T170000
DTEND;TZID=America/Chicago:20260823T180000
DTSTAMP:20260423T013745
CREATED:20251215T193854Z
LAST-MODIFIED:20260125T192354Z
UID:11331-1787504400-1787508000@aritonbc.org
SUMMARY:Bible Recap Bible Study
DESCRIPTION:
URL:https://aritonbc.org/event/bible-recap-bible-study-188/
END:VEVENT
BEGIN:VEVENT
DTSTART;TZID=America/Chicago:20260823T180000
DTEND;TZID=America/Chicago:20260823T190000
DTSTAMP:20260423T013745
CREATED:20251214T192351Z
LAST-MODIFIED:20260303T210853Z
UID:11319-1787508000-1787511600@aritonbc.org
SUMMARY:Sunday Evening Service
DESCRIPTION:
URL:https://aritonbc.org/event/sunday-evening-service-85/
END:VEVENT
BEGIN:VEVENT
DTSTART;VALUE=DATE:20260825
DTEND;VALUE=DATE:20260826
DTSTAMP:20260423T013745
CREATED:20251216T193856Z
LAST-MODIFIED:20260303T210853Z
UID:11339-1787616000-1787702399@aritonbc.org
SUMMARY:Magazines Out
DESCRIPTION:
URL:https://aritonbc.org/event/magazines-out-45/
END:VEVENT
BEGIN:VEVENT
DTSTART;TZID=America/Chicago:20260826T173000
DTEND;TZID=America/Chicago:20260826T183000
DTSTAMP:20260423T013745
CREATED:20251218T180130Z
LAST-MODIFIED:20260303T210853Z
UID:11351-1787765400-1787769000@aritonbc.org
SUMMARY:Wednesday Meal
DESCRIPTION:
URL:https://aritonbc.org/event/wednesday-meal-60/
END:VEVENT
BEGIN:VEVENT
DTSTART;TZID=America/Chicago:20260826T183000
DTEND;TZID=America/Chicago:20260826T193000
DTSTAMP:20260423T013745
CREATED:20251218T180130Z
LAST-MODIFIED:20260303T210853Z
UID:11353-1787769000-1787772600@aritonbc.org
SUMMARY:Wednesday Night Service
DESCRIPTION:Check Ariton Baptist Facebook page for instructions
URL:https://aritonbc.org/event/wednesday-night-service-190/
END:VEVENT
BEGIN:VEVENT
DTSTART;VALUE=DATE:20260827
DTEND;VALUE=DATE:20260828
DTSTAMP:20260423T013745
CREATED:20251218T180130Z
LAST-MODIFIED:20260303T210853Z
UID:11352-1787788800-1787875199@aritonbc.org
SUMMARY:Pass Out New Literature
DESCRIPTION:
URL:https://aritonbc.org/event/pass-out-new-literature-15/
END:VEVENT
BEGIN:VEVENT
DTSTART;VALUE=DATE:20260830
DTEND;VALUE=DATE:20260831
DTSTAMP:20260423T013745
CREATED:20251218T180130Z
LAST-MODIFIED:20260303T210853Z
UID:11357-1788048000-1788134399@aritonbc.org
SUMMARY:Special Called Meeting-NomCom
DESCRIPTION:
URL:https://aritonbc.org/event/special-called-meeting-nomcom-4/
END:VEVENT
BEGIN:VEVENT
DTSTART;TZID=America/Chicago:20260830T094500
DTEND;TZID=America/Chicago:20260830T104500
DTSTAMP:20260423T013745
CREATED:20251218T180130Z
LAST-MODIFIED:20260303T210853Z
UID:11354-1788083100-1788086700@aritonbc.org
SUMMARY:In-House Sunday School
DESCRIPTION:Large Group Adult\, Youth\, Children & Toddler SS Classes. Nursery Provided.
URL:https://aritonbc.org/event/in-house-sunday-school-191/
END:VEVENT
BEGIN:VEVENT
DTSTART;TZID=America/Chicago:20260830T110000
DTEND;TZID=America/Chicago:20260830T120000
DTSTAMP:20260423T013745
CREATED:20251218T180130Z
LAST-MODIFIED:20260303T210853Z
UID:11355-1788087600-1788091200@aritonbc.org
SUMMARY:Worship Service In-House & Posted to Facebook Later
DESCRIPTION:
URL:https://aritonbc.org/event/worship-service-in-house-posted-to-facebook-later-192/
END:VEVENT
BEGIN:VEVENT
DTSTART;TZID=America/Chicago:20260830T170000
DTEND;TZID=America/Chicago:20260830T180000
DTSTAMP:20260423T013745
CREATED:20251218T180130Z
LAST-MODIFIED:20260125T192354Z
UID:11356-1788109200-1788112800@aritonbc.org
SUMMARY:Bible Recap Bible Study
DESCRIPTION:
URL:https://aritonbc.org/event/bible-recap-bible-study-189/
END:VEVENT
END:VCALENDAR