BEGIN:VCALENDAR
VERSION:2.0
PRODID:-//Ariton Baptist Church - ECPv6.15.13.1//NONSGML v1.0//EN
CALSCALE:GREGORIAN
METHOD:PUBLISH
X-WR-CALNAME:Ariton Baptist Church
X-ORIGINAL-URL:https://aritonbc.org
X-WR-CALDESC:Events for Ariton Baptist Church
REFRESH-INTERVAL;VALUE=DURATION:PT1H
X-Robots-Tag:noindex
X-PUBLISHED-TTL:PT1H
BEGIN:VTIMEZONE
TZID:America/Chicago
BEGIN:DAYLIGHT
TZOFFSETFROM:-0600
TZOFFSETTO:-0500
TZNAME:CDT
DTSTART:20220313T080000
END:DAYLIGHT
BEGIN:STANDARD
TZOFFSETFROM:-0500
TZOFFSETTO:-0600
TZNAME:CST
DTSTART:20221106T070000
END:STANDARD
BEGIN:DAYLIGHT
TZOFFSETFROM:-0600
TZOFFSETTO:-0500
TZNAME:CDT
DTSTART:20230312T080000
END:DAYLIGHT
BEGIN:STANDARD
TZOFFSETFROM:-0500
TZOFFSETTO:-0600
TZNAME:CST
DTSTART:20231105T070000
END:STANDARD
BEGIN:DAYLIGHT
TZOFFSETFROM:-0600
TZOFFSETTO:-0500
TZNAME:CDT
DTSTART:20240310T080000
END:DAYLIGHT
BEGIN:STANDARD
TZOFFSETFROM:-0500
TZOFFSETTO:-0600
TZNAME:CST
DTSTART:20241103T070000
END:STANDARD
BEGIN:DAYLIGHT
TZOFFSETFROM:-0600
TZOFFSETTO:-0500
TZNAME:CDT
DTSTART:20250309T080000
END:DAYLIGHT
BEGIN:STANDARD
TZOFFSETFROM:-0500
TZOFFSETTO:-0600
TZNAME:CST
DTSTART:20251102T070000
END:STANDARD
END:VTIMEZONE
BEGIN:VEVENT
DTSTART;TZID=America/Chicago:20240117T093000
DTEND;TZID=America/Chicago:20240117T130000
DTSTAMP:20260422T221235
CREATED:20230521T224535Z
LAST-MODIFIED:20240116T214947Z
UID:5611-1705483800-1705496400@aritonbc.org
SUMMARY:BROWN BAG MINISTRY Pick-up
DESCRIPTION:
URL:https://aritonbc.org/event/brown-bag-ministry-pick-up-11/
END:VEVENT
BEGIN:VEVENT
DTSTART;VALUE=DATE:20240117
DTEND;VALUE=DATE:20240118
DTSTAMP:20260422T221235
CREATED:20230522T225058Z
LAST-MODIFIED:20240117T220555Z
UID:5620-1705449600-1705535999@aritonbc.org
SUMMARY:Finance Committee Meeting
DESCRIPTION:
URL:https://aritonbc.org/event/finance-committee-meeting-6/
END:VEVENT
BEGIN:VEVENT
DTSTART;VALUE=DATE:20240116
DTEND;VALUE=DATE:20240117
DTSTAMP:20260422T221235
CREATED:20230522T225058Z
LAST-MODIFIED:20240116T214947Z
UID:5619-1705363200-1705449599@aritonbc.org
SUMMARY:Pack BROWN BAGS after 2PM
DESCRIPTION:
URL:https://aritonbc.org/event/pack-brown-bags-after-2pm-11/
END:VEVENT
BEGIN:VEVENT
DTSTART;TZID=America/Chicago:20240115T183000
DTEND;TZID=America/Chicago:20240115T193000
DTSTAMP:20260422T221235
CREATED:20230521T224535Z
LAST-MODIFIED:20230606T180649Z
UID:5610-1705343400-1705347000@aritonbc.org
SUMMARY:MEN'S BIBLE STUDY
DESCRIPTION:
URL:https://aritonbc.org/event/mens-bible-study-45/
END:VEVENT
BEGIN:VEVENT
DTSTART;TZID=America/Chicago:20240114T180000
DTEND;TZID=America/Chicago:20240114T190000
DTSTAMP:20260422T221235
CREATED:20230519T223802Z
LAST-MODIFIED:20230813T183435Z
UID:5605-1705255200-1705258800@aritonbc.org
SUMMARY:Evening Service: In-House
DESCRIPTION:
URL:https://aritonbc.org/event/evening-service-in-house-54/
END:VEVENT
BEGIN:VEVENT
DTSTART;TZID=America/Chicago:20240114T170000
DTEND;TZID=America/Chicago:20240114T180000
DTSTAMP:20260422T221235
CREATED:20230518T223515Z
LAST-MODIFIED:20240114T215007Z
UID:5601-1705251600-1705255200@aritonbc.org
SUMMARY:Discipleship Training
DESCRIPTION:
URL:https://aritonbc.org/event/discipleship-training-54/
END:VEVENT
BEGIN:VEVENT
DTSTART;TZID=America/Chicago:20240114T110000
DTEND;TZID=America/Chicago:20240114T120000
DTSTAMP:20260422T221235
CREATED:20230518T223515Z
LAST-MODIFIED:20240113T215136Z
UID:5600-1705230000-1705233600@aritonbc.org
SUMMARY:Worship Service In-House & Posted to Facebook Later
DESCRIPTION:
URL:https://aritonbc.org/event/worship-service-in-house-posted-to-facebook-later-55/
END:VEVENT
BEGIN:VEVENT
DTSTART;TZID=America/Chicago:20240114T094500
DTEND;TZID=America/Chicago:20240114T104500
DTSTAMP:20260422T221235
CREATED:20230517T223019Z
LAST-MODIFIED:20240113T215136Z
UID:5594-1705225500-1705229100@aritonbc.org
SUMMARY:In-House Sunday School
DESCRIPTION:Large Group Adult\, Youth\, Children & Toddler SS Classes. Nursery Provided.
URL:https://aritonbc.org/event/in-house-sunday-school-54/
END:VEVENT
BEGIN:VEVENT
DTSTART;TZID=America/Chicago:20240114T080000
DTEND;TZID=America/Chicago:20240114T090000
DTSTAMP:20260422T221235
CREATED:20240109T214941Z
LAST-MODIFIED:20240113T215136Z
UID:6640-1705219200-1705222800@aritonbc.org
SUMMARY:Brotherhood Breakfast
DESCRIPTION:
URL:https://aritonbc.org/event/brotherhood-breakfast-23/
END:VEVENT
BEGIN:VEVENT
DTSTART;TZID=America/Chicago:20240114T080000
DTEND;TZID=America/Chicago:20240114T090000
DTSTAMP:20260422T221235
CREATED:20230517T223019Z
LAST-MODIFIED:20240108T215015Z
UID:5593-1705219200-1705222800@aritonbc.org
SUMMARY:Brotherhood Breakfast
DESCRIPTION:
URL:https://aritonbc.org/event/brotherhood-breakfast-13/
END:VEVENT
BEGIN:VEVENT
DTSTART;VALUE=DATE:20240113
DTEND;VALUE=DATE:20240114
DTSTAMP:20260422T221235
CREATED:20231128T184938Z
LAST-MODIFIED:20240113T215136Z
UID:6473-1705104000-1705190399@aritonbc.org
SUMMARY:Work Day-Kitchen/Inside
DESCRIPTION:
URL:https://aritonbc.org/event/work-day-kitchen-inside/
END:VEVENT
BEGIN:VEVENT
DTSTART;TZID=America/Chicago:20240112T110000
DTEND;TZID=America/Chicago:20240112T120000
DTSTAMP:20260422T221235
CREATED:20240103T213454Z
LAST-MODIFIED:20240111T214954Z
UID:6621-1705057200-1705060800@aritonbc.org
SUMMARY:OCC Coordinator Meeting @ ABC
DESCRIPTION:
URL:https://aritonbc.org/event/occ-coordinator-meeting-abc/
END:VEVENT
BEGIN:VEVENT
DTSTART;TZID=America/Chicago:20240110T183000
DTEND;TZID=America/Chicago:20240110T193000
DTSTAMP:20260422T221235
CREATED:20230516T221833Z
LAST-MODIFIED:20240110T214948Z
UID:5589-1704911400-1704915000@aritonbc.org
SUMMARY:Wednesday Night Service
DESCRIPTION:Check Ariton Baptist Facebook page for instructions
URL:https://aritonbc.org/event/wednesday-night-service-55/
END:VEVENT
BEGIN:VEVENT
DTSTART;TZID=America/Chicago:20240110T173000
DTEND;TZID=America/Chicago:20240110T183000
DTSTAMP:20260422T221235
CREATED:20230516T221833Z
LAST-MODIFIED:20240110T214948Z
UID:5588-1704907800-1704911400@aritonbc.org
SUMMARY:Wednesday Night Meal
DESCRIPTION:
URL:https://aritonbc.org/event/wednesday-night-meal-54/
END:VEVENT
BEGIN:VEVENT
DTSTART;TZID=America/Chicago:20240108T183000
DTEND;TZID=America/Chicago:20240108T193000
DTSTAMP:20260422T221235
CREATED:20230515T221845Z
LAST-MODIFIED:20230606T180649Z
UID:5580-1704738600-1704742200@aritonbc.org
SUMMARY:MEN'S BIBLE STUDY
DESCRIPTION:
URL:https://aritonbc.org/event/mens-bible-study-44/
END:VEVENT
BEGIN:VEVENT
DTSTART;TZID=America/Chicago:20240107T180000
DTEND;TZID=America/Chicago:20240107T190000
DTSTAMP:20260422T221235
CREATED:20230515T221845Z
LAST-MODIFIED:20230813T183435Z
UID:5579-1704650400-1704654000@aritonbc.org
SUMMARY:Evening Service: In-House
DESCRIPTION:
URL:https://aritonbc.org/event/evening-service-in-house-53/
END:VEVENT
BEGIN:VEVENT
DTSTART;TZID=America/Chicago:20240107T170000
DTEND;TZID=America/Chicago:20240107T180000
DTSTAMP:20260422T221235
CREATED:20230515T221845Z
LAST-MODIFIED:20240107T214956Z
UID:5578-1704646800-1704650400@aritonbc.org
SUMMARY:Discipleship Training
DESCRIPTION:
URL:https://aritonbc.org/event/discipleship-training-53/
END:VEVENT
BEGIN:VEVENT
DTSTART;TZID=America/Chicago:20240107T110000
DTEND;TZID=America/Chicago:20240107T120000
DTSTAMP:20260422T221235
CREATED:20230514T220256Z
LAST-MODIFIED:20240106T214945Z
UID:5570-1704625200-1704628800@aritonbc.org
SUMMARY:Worship Service In-House & Posted to Facebook Later
DESCRIPTION:
URL:https://aritonbc.org/event/worship-service-in-house-posted-to-facebook-later-54/
END:VEVENT
BEGIN:VEVENT
DTSTART;TZID=America/Chicago:20240107T094500
DTEND;TZID=America/Chicago:20240107T104500
DTSTAMP:20260422T221235
CREATED:20230514T220256Z
LAST-MODIFIED:20240106T214945Z
UID:5569-1704620700-1704624300@aritonbc.org
SUMMARY:In-House Sunday School
DESCRIPTION:Large Group Adult\, Youth\, Children & Toddler SS Classes. Nursery Provided.
URL:https://aritonbc.org/event/in-house-sunday-school-53/
END:VEVENT
BEGIN:VEVENT
DTSTART;VALUE=DATE:20240105
DTEND;VALUE=DATE:20240109
DTSTAMP:20260422T221235
CREATED:20231220T210509Z
LAST-MODIFIED:20240108T215015Z
UID:6565-1704412800-1704758399@aritonbc.org
SUMMARY:Pastor Out
DESCRIPTION:
URL:https://aritonbc.org/event/pastor-out-2/
END:VEVENT
BEGIN:VEVENT
DTSTART;TZID=America/Chicago:20240103T183000
DTEND;TZID=America/Chicago:20240103T193000
DTSTAMP:20260422T221235
CREATED:20230511T214855Z
LAST-MODIFIED:20240103T213455Z
UID:5540-1704306600-1704310200@aritonbc.org
SUMMARY:Wednesday Night Service
DESCRIPTION:Check Ariton Baptist Facebook page for instructions
URL:https://aritonbc.org/event/wednesday-night-service-54/
END:VEVENT
BEGIN:VEVENT
DTSTART;TZID=America/Chicago:20240103T173000
DTEND;TZID=America/Chicago:20240103T183000
DTSTAMP:20260422T221235
CREATED:20230511T214855Z
LAST-MODIFIED:20231204T191940Z
UID:5539-1704303000-1704306600@aritonbc.org
SUMMARY:Wednesday Night Meal
DESCRIPTION:
URL:https://aritonbc.org/event/wednesday-night-meal-53/
END:VEVENT
BEGIN:VEVENT
DTSTART;VALUE=DATE:20240103
DTEND;VALUE=DATE:20240104
DTSTAMP:20260422T221235
CREATED:20231205T192135Z
LAST-MODIFIED:20240103T213455Z
UID:6503-1704240000-1704326399@aritonbc.org
SUMMARY:NO Wednesday Night Meal
DESCRIPTION:
URL:https://aritonbc.org/event/no-wednesday-night-meal-4/
END:VEVENT
BEGIN:VEVENT
DTSTART;TZID=America/Chicago:20240101T183000
DTEND;TZID=America/Chicago:20240101T193000
DTSTAMP:20260422T221235
CREATED:20230511T214855Z
LAST-MODIFIED:20230606T180649Z
UID:5538-1704133800-1704137400@aritonbc.org
SUMMARY:MEN'S BIBLE STUDY
DESCRIPTION:
URL:https://aritonbc.org/event/mens-bible-study-43/
END:VEVENT
BEGIN:VEVENT
DTSTART;VALUE=DATE:20240101
DTEND;VALUE=DATE:20240102
DTSTAMP:20260422T221235
CREATED:20230607T182121Z
LAST-MODIFIED:20240101T213457Z
UID:5710-1704067200-1704153599@aritonbc.org
SUMMARY:New Year's Day
DESCRIPTION:
URL:https://aritonbc.org/event/new-years-day-2/
END:VEVENT
BEGIN:VEVENT
DTSTART;TZID=America/Chicago:20231231T190000
DTEND;TZID=America/Chicago:20240101T000000
DTSTAMP:20260422T221235
CREATED:20231105T060500Z
LAST-MODIFIED:20231231T213443Z
UID:6112-1704049200-1704067200@aritonbc.org
SUMMARY:PRAYING IN THE NEW YEAR-Giving & Games
DESCRIPTION:
URL:https://aritonbc.org/event/giving-games/
END:VEVENT
BEGIN:VEVENT
DTSTART;TZID=America/Chicago:20231231T180000
DTEND;TZID=America/Chicago:20231231T190000
DTSTAMP:20260422T221235
CREATED:20230508T211826Z
LAST-MODIFIED:20230813T183434Z
UID:5517-1704045600-1704049200@aritonbc.org
SUMMARY:Evening Service: In-House
DESCRIPTION:
URL:https://aritonbc.org/event/evening-service-in-house-52/
END:VEVENT
BEGIN:VEVENT
DTSTART;TZID=America/Chicago:20231231T170000
DTEND;TZID=America/Chicago:20231231T180000
DTSTAMP:20260422T221235
CREATED:20230507T210757Z
LAST-MODIFIED:20231115T180529Z
UID:5506-1704042000-1704045600@aritonbc.org
SUMMARY:Discipleship Training
DESCRIPTION:
URL:https://aritonbc.org/event/discipleship-training-52/
END:VEVENT
BEGIN:VEVENT
DTSTART;TZID=America/Chicago:20231231T110000
DTEND;TZID=America/Chicago:20231231T120000
DTSTAMP:20260422T221235
CREATED:20230507T210757Z
LAST-MODIFIED:20231230T213547Z
UID:5505-1704020400-1704024000@aritonbc.org
SUMMARY:Worship Service In-House & Posted to Facebook Later
DESCRIPTION:
URL:https://aritonbc.org/event/worship-service-in-house-posted-to-facebook-later-53/
END:VEVENT
BEGIN:VEVENT
DTSTART;TZID=America/Chicago:20231231T094500
DTEND;TZID=America/Chicago:20231231T104500
DTSTAMP:20260422T221235
CREATED:20230507T210757Z
LAST-MODIFIED:20231230T213547Z
UID:5504-1704015900-1704019500@aritonbc.org
SUMMARY:In-House Sunday School
DESCRIPTION:Large Group Adult\, Youth\, Children & Toddler SS Classes. Nursery Provided.
URL:https://aritonbc.org/event/in-house-sunday-school-52/
END:VEVENT
END:VCALENDAR