BEGIN:VCALENDAR
VERSION:2.0
PRODID:-//Ariton Baptist Church - ECPv6.15.13.1//NONSGML v1.0//EN
CALSCALE:GREGORIAN
METHOD:PUBLISH
X-ORIGINAL-URL:https://aritonbc.org
X-WR-CALDESC:Events for Ariton Baptist Church
REFRESH-INTERVAL;VALUE=DURATION:PT1H
X-Robots-Tag:noindex
X-PUBLISHED-TTL:PT1H
BEGIN:VTIMEZONE
TZID:America/Chicago
BEGIN:DAYLIGHT
TZOFFSETFROM:-0600
TZOFFSETTO:-0500
TZNAME:CDT
DTSTART:20250309T080000
END:DAYLIGHT
BEGIN:STANDARD
TZOFFSETFROM:-0500
TZOFFSETTO:-0600
TZNAME:CST
DTSTART:20251102T070000
END:STANDARD
BEGIN:DAYLIGHT
TZOFFSETFROM:-0600
TZOFFSETTO:-0500
TZNAME:CDT
DTSTART:20260308T080000
END:DAYLIGHT
BEGIN:STANDARD
TZOFFSETFROM:-0500
TZOFFSETTO:-0600
TZNAME:CST
DTSTART:20261101T070000
END:STANDARD
BEGIN:DAYLIGHT
TZOFFSETFROM:-0600
TZOFFSETTO:-0500
TZNAME:CDT
DTSTART:20270314T080000
END:DAYLIGHT
BEGIN:STANDARD
TZOFFSETFROM:-0500
TZOFFSETTO:-0600
TZNAME:CST
DTSTART:20271107T070000
END:STANDARD
END:VTIMEZONE
BEGIN:VEVENT
DTSTART;TZID=America/Chicago:20260701T173000
DTEND;TZID=America/Chicago:20260701T183000
DTSTAMP:20260423T061808
CREATED:20251027T173854Z
LAST-MODIFIED:20260303T210851Z
UID:10626-1782927000-1782930600@aritonbc.org
SUMMARY:Wednesday Meal
DESCRIPTION:
URL:https://aritonbc.org/event/wednesday-meal-52/
END:VEVENT
BEGIN:VEVENT
DTSTART;TZID=America/Chicago:20260701T183000
DTEND;TZID=America/Chicago:20260701T193000
DTSTAMP:20260423T061808
CREATED:20251026T173851Z
LAST-MODIFIED:20260303T210851Z
UID:10623-1782930600-1782934200@aritonbc.org
SUMMARY:Wednesday Night Service
DESCRIPTION:Check Ariton Baptist Facebook page for instructions
URL:https://aritonbc.org/event/wednesday-night-service-182/
END:VEVENT
BEGIN:VEVENT
DTSTART;VALUE=DATE:20260704
DTEND;VALUE=DATE:20260705
DTSTAMP:20260423T061808
CREATED:20251027T173854Z
LAST-MODIFIED:20260303T210851Z
UID:10628-1783123200-1783209599@aritonbc.org
SUMMARY:Independence Day
DESCRIPTION:
URL:https://aritonbc.org/event/independence-day-3/
END:VEVENT
BEGIN:VEVENT
DTSTART;TZID=America/Chicago:20260705T094500
DTEND;TZID=America/Chicago:20260705T104500
DTSTAMP:20260423T061808
CREATED:20251027T173854Z
LAST-MODIFIED:20260303T210851Z
UID:10629-1783244700-1783248300@aritonbc.org
SUMMARY:In-House Sunday School
DESCRIPTION:Large Group Adult\, Youth\, Children & Toddler SS Classes. Nursery Provided.
URL:https://aritonbc.org/event/in-house-sunday-school-183/
END:VEVENT
BEGIN:VEVENT
DTSTART;TZID=America/Chicago:20260705T110000
DTEND;TZID=America/Chicago:20260705T120000
DTSTAMP:20260423T061808
CREATED:20251030T173858Z
LAST-MODIFIED:20260303T210851Z
UID:10650-1783249200-1783252800@aritonbc.org
SUMMARY:Worship Service In-House & Posted to Facebook Later
DESCRIPTION:
URL:https://aritonbc.org/event/worship-service-in-house-posted-to-facebook-later-184/
END:VEVENT
BEGIN:VEVENT
DTSTART;TZID=America/Chicago:20260705T170000
DTEND;TZID=America/Chicago:20260705T180000
DTSTAMP:20260423T061808
CREATED:20251031T173851Z
LAST-MODIFIED:20260125T192352Z
UID:10654-1783270800-1783274400@aritonbc.org
SUMMARY:Bible Recap Bible Study
DESCRIPTION:
URL:https://aritonbc.org/event/bible-recap-bible-study-181/
END:VEVENT
BEGIN:VEVENT
DTSTART;TZID=America/Chicago:20260705T180000
DTEND;TZID=America/Chicago:20260705T190000
DTSTAMP:20260423T061808
CREATED:20251030T173858Z
LAST-MODIFIED:20260303T210851Z
UID:10651-1783274400-1783278000@aritonbc.org
SUMMARY:Sunday Evening Service
DESCRIPTION:
URL:https://aritonbc.org/event/sunday-evening-service-78/
END:VEVENT
BEGIN:VEVENT
DTSTART;TZID=America/Chicago:20260708T173000
DTEND;TZID=America/Chicago:20260708T183000
DTSTAMP:20260423T061808
CREATED:20251102T173909Z
LAST-MODIFIED:20260303T210851Z
UID:10660-1783531800-1783535400@aritonbc.org
SUMMARY:Wednesday Meal
DESCRIPTION:
URL:https://aritonbc.org/event/wednesday-meal-53/
END:VEVENT
BEGIN:VEVENT
DTSTART;TZID=America/Chicago:20260708T183000
DTEND;TZID=America/Chicago:20260708T193000
DTSTAMP:20260423T061808
CREATED:20251102T173909Z
LAST-MODIFIED:20260303T210851Z
UID:10659-1783535400-1783539000@aritonbc.org
SUMMARY:Wednesday Night Service
DESCRIPTION:Check Ariton Baptist Facebook page for instructions
URL:https://aritonbc.org/event/wednesday-night-service-183/
END:VEVENT
BEGIN:VEVENT
DTSTART;TZID=America/Chicago:20260712T080000
DTEND;TZID=America/Chicago:20260712T090000
DTSTAMP:20260423T061808
CREATED:20251103T173859Z
LAST-MODIFIED:20260303T210851Z
UID:10667-1783843200-1783846800@aritonbc.org
SUMMARY:Brotherhood Breakfast
DESCRIPTION:
URL:https://aritonbc.org/event/brotherhood-breakfast-54/
END:VEVENT
BEGIN:VEVENT
DTSTART;TZID=America/Chicago:20260712T094500
DTEND;TZID=America/Chicago:20260712T104500
DTSTAMP:20260423T061808
CREATED:20251103T173900Z
LAST-MODIFIED:20260303T210851Z
UID:10668-1783849500-1783853100@aritonbc.org
SUMMARY:In-House Sunday School
DESCRIPTION:Large Group Adult\, Youth\, Children & Toddler SS Classes. Nursery Provided.
URL:https://aritonbc.org/event/in-house-sunday-school-184/
END:VEVENT
BEGIN:VEVENT
DTSTART;TZID=America/Chicago:20260712T110000
DTEND;TZID=America/Chicago:20260712T120000
DTSTAMP:20260423T061808
CREATED:20251103T173900Z
LAST-MODIFIED:20260303T210851Z
UID:10669-1783854000-1783857600@aritonbc.org
SUMMARY:Worship Service In-House & Posted to Facebook Later
DESCRIPTION:
URL:https://aritonbc.org/event/worship-service-in-house-posted-to-facebook-later-185/
END:VEVENT
BEGIN:VEVENT
DTSTART;TZID=America/Chicago:20260712T170000
DTEND;TZID=America/Chicago:20260712T180000
DTSTAMP:20260423T061808
CREATED:20251103T173900Z
LAST-MODIFIED:20260125T192353Z
UID:10670-1783875600-1783879200@aritonbc.org
SUMMARY:Bible Recap Bible Study
DESCRIPTION:
URL:https://aritonbc.org/event/bible-recap-bible-study-182/
END:VEVENT
BEGIN:VEVENT
DTSTART;TZID=America/Chicago:20260712T180000
DTEND;TZID=America/Chicago:20260712T190000
DTSTAMP:20260423T061808
CREATED:20251103T173900Z
LAST-MODIFIED:20260303T210852Z
UID:10671-1783879200-1783882800@aritonbc.org
SUMMARY:Sunday Evening Service
DESCRIPTION:
URL:https://aritonbc.org/event/sunday-evening-service-79/
END:VEVENT
BEGIN:VEVENT
DTSTART;VALUE=DATE:20260714
DTEND;VALUE=DATE:20260715
DTSTAMP:20260423T061808
CREATED:20251110T175353Z
LAST-MODIFIED:20260303T210852Z
UID:10699-1783987200-1784073599@aritonbc.org
SUMMARY:Pack BROWN BAGS
DESCRIPTION:
URL:https://aritonbc.org/event/pack-brown-bags-20/
END:VEVENT
BEGIN:VEVENT
DTSTART;TZID=America/Chicago:20260715T093000
DTEND;TZID=America/Chicago:20260715T130000
DTSTAMP:20260423T061808
CREATED:20251103T173900Z
LAST-MODIFIED:20260303T210852Z
UID:10672-1784107800-1784120400@aritonbc.org
SUMMARY:BROWN BAG MINISTRY Pick-up
DESCRIPTION:
URL:https://aritonbc.org/event/brown-bag-ministry-pick-up-42/
END:VEVENT
BEGIN:VEVENT
DTSTART;TZID=America/Chicago:20260715T173000
DTEND;TZID=America/Chicago:20260715T183000
DTSTAMP:20260423T061808
CREATED:20251105T173929Z
LAST-MODIFIED:20260303T210852Z
UID:10682-1784136600-1784140200@aritonbc.org
SUMMARY:Wednesday Meal
DESCRIPTION:
URL:https://aritonbc.org/event/wednesday-meal-54/
END:VEVENT
BEGIN:VEVENT
DTSTART;TZID=America/Chicago:20260715T183000
DTEND;TZID=America/Chicago:20260715T193000
DTSTAMP:20260423T061808
CREATED:20251106T173900Z
LAST-MODIFIED:20260303T210852Z
UID:10685-1784140200-1784143800@aritonbc.org
SUMMARY:Wednesday Night Service
DESCRIPTION:Check Ariton Baptist Facebook page for instructions
URL:https://aritonbc.org/event/wednesday-night-service-184/
END:VEVENT
BEGIN:VEVENT
DTSTART;TZID=America/Chicago:20260716T110000
DTEND;TZID=America/Chicago:20260716T130000
DTSTAMP:20260423T061808
CREATED:20251106T173900Z
LAST-MODIFIED:20260303T210852Z
UID:10686-1784199600-1784206800@aritonbc.org
SUMMARY:Wonderful Widows Luncheon
DESCRIPTION:
URL:https://aritonbc.org/event/wonderful-widows-luncheon-33/
END:VEVENT
BEGIN:VEVENT
DTSTART;TZID=America/Chicago:20260719T094500
DTEND;TZID=America/Chicago:20260719T104500
DTSTAMP:20260423T061808
CREATED:20251109T175354Z
LAST-MODIFIED:20260303T210852Z
UID:10692-1784454300-1784457900@aritonbc.org
SUMMARY:In-House Sunday School
DESCRIPTION:Large Group Adult\, Youth\, Children & Toddler SS Classes. Nursery Provided.
URL:https://aritonbc.org/event/in-house-sunday-school-185/
END:VEVENT
BEGIN:VEVENT
DTSTART;TZID=America/Chicago:20260719T110000
DTEND;TZID=America/Chicago:20260719T120000
DTSTAMP:20260423T061808
CREATED:20251110T175353Z
LAST-MODIFIED:20260303T210852Z
UID:10696-1784458800-1784462400@aritonbc.org
SUMMARY:Worship Service In-House & Posted to Facebook Later
DESCRIPTION:
URL:https://aritonbc.org/event/worship-service-in-house-posted-to-facebook-later-186/
END:VEVENT
BEGIN:VEVENT
DTSTART;TZID=America/Chicago:20260719T170000
DTEND;TZID=America/Chicago:20260719T180000
DTSTAMP:20260423T061808
CREATED:20251110T175353Z
LAST-MODIFIED:20260125T192353Z
UID:10697-1784480400-1784484000@aritonbc.org
SUMMARY:Bible Recap Bible Study
DESCRIPTION:
URL:https://aritonbc.org/event/bible-recap-bible-study-183/
END:VEVENT
BEGIN:VEVENT
DTSTART;TZID=America/Chicago:20260719T180000
DTEND;TZID=America/Chicago:20260719T190000
DTSTAMP:20260423T061808
CREATED:20251110T175353Z
LAST-MODIFIED:20260303T210852Z
UID:10698-1784484000-1784487600@aritonbc.org
SUMMARY:Sunday Evening Service
DESCRIPTION:
URL:https://aritonbc.org/event/sunday-evening-service-80/
END:VEVENT
BEGIN:VEVENT
DTSTART;VALUE=DATE:20260722
DTEND;VALUE=DATE:20260723
DTSTAMP:20260423T061808
CREATED:20251111T175353Z
LAST-MODIFIED:20260303T210852Z
UID:10706-1784678400-1784764799@aritonbc.org
SUMMARY:Finance Committee Meeting
DESCRIPTION:
URL:https://aritonbc.org/event/finance-committee-meeting-16/
END:VEVENT
BEGIN:VEVENT
DTSTART;TZID=America/Chicago:20260722T173000
DTEND;TZID=America/Chicago:20260722T183000
DTSTAMP:20260423T061808
CREATED:20251110T175353Z
LAST-MODIFIED:20260303T210852Z
UID:10700-1784741400-1784745000@aritonbc.org
SUMMARY:Wednesday Meal
DESCRIPTION:
URL:https://aritonbc.org/event/wednesday-meal-55/
END:VEVENT
BEGIN:VEVENT
DTSTART;TZID=America/Chicago:20260722T183000
DTEND;TZID=America/Chicago:20260722T193000
DTSTAMP:20260423T061808
CREATED:20251112T175404Z
LAST-MODIFIED:20260303T210852Z
UID:10709-1784745000-1784748600@aritonbc.org
SUMMARY:Wednesday Night Service
DESCRIPTION:Check Ariton Baptist Facebook page for instructions
URL:https://aritonbc.org/event/wednesday-night-service-185/
END:VEVENT
BEGIN:VEVENT
DTSTART;TZID=America/Chicago:20260726T094500
DTEND;TZID=America/Chicago:20260726T104500
DTSTAMP:20260423T061808
CREATED:20251113T175412Z
LAST-MODIFIED:20260303T210852Z
UID:10714-1785059100-1785062700@aritonbc.org
SUMMARY:In-House Sunday School
DESCRIPTION:Large Group Adult\, Youth\, Children & Toddler SS Classes. Nursery Provided.
URL:https://aritonbc.org/event/in-house-sunday-school-186/
END:VEVENT
BEGIN:VEVENT
DTSTART;TZID=America/Chicago:20260726T110000
DTEND;TZID=America/Chicago:20260726T120000
DTSTAMP:20260423T061808
CREATED:20251116T175352Z
LAST-MODIFIED:20260303T210852Z
UID:10721-1785063600-1785067200@aritonbc.org
SUMMARY:Worship Service In-House & Posted to Facebook Later
DESCRIPTION:
URL:https://aritonbc.org/event/worship-service-in-house-posted-to-facebook-later-187/
END:VEVENT
BEGIN:VEVENT
DTSTART;TZID=America/Chicago:20260726T170000
DTEND;TZID=America/Chicago:20260726T180000
DTSTAMP:20260423T061808
CREATED:20251117T175353Z
LAST-MODIFIED:20260125T192353Z
UID:10724-1785085200-1785088800@aritonbc.org
SUMMARY:Bible Recap Bible Study
DESCRIPTION:
URL:https://aritonbc.org/event/bible-recap-bible-study-184/
END:VEVENT
BEGIN:VEVENT
DTSTART;TZID=America/Chicago:20260726T180000
DTEND;TZID=America/Chicago:20260726T190000
DTSTAMP:20260423T061808
CREATED:20251117T175353Z
LAST-MODIFIED:20260303T210852Z
UID:10725-1785088800-1785092400@aritonbc.org
SUMMARY:Sunday Evening Service
DESCRIPTION:
URL:https://aritonbc.org/event/sunday-evening-service-81/
END:VEVENT
END:VCALENDAR