BEGIN:VCALENDAR
VERSION:2.0
PRODID:-//Ariton Baptist Church - ECPv6.15.13.1//NONSGML v1.0//EN
CALSCALE:GREGORIAN
METHOD:PUBLISH
X-WR-CALNAME:Ariton Baptist Church
X-ORIGINAL-URL:https://aritonbc.org
X-WR-CALDESC:Events for Ariton Baptist Church
REFRESH-INTERVAL;VALUE=DURATION:PT1H
X-Robots-Tag:noindex
X-PUBLISHED-TTL:PT1H
BEGIN:VTIMEZONE
TZID:America/Chicago
BEGIN:DAYLIGHT
TZOFFSETFROM:-0600
TZOFFSETTO:-0500
TZNAME:CDT
DTSTART:20230312T080000
END:DAYLIGHT
BEGIN:STANDARD
TZOFFSETFROM:-0500
TZOFFSETTO:-0600
TZNAME:CST
DTSTART:20231105T070000
END:STANDARD
BEGIN:DAYLIGHT
TZOFFSETFROM:-0600
TZOFFSETTO:-0500
TZNAME:CDT
DTSTART:20240310T080000
END:DAYLIGHT
BEGIN:STANDARD
TZOFFSETFROM:-0500
TZOFFSETTO:-0600
TZNAME:CST
DTSTART:20241103T070000
END:STANDARD
BEGIN:DAYLIGHT
TZOFFSETFROM:-0600
TZOFFSETTO:-0500
TZNAME:CDT
DTSTART:20250309T080000
END:DAYLIGHT
BEGIN:STANDARD
TZOFFSETFROM:-0500
TZOFFSETTO:-0600
TZNAME:CST
DTSTART:20251102T070000
END:STANDARD
END:VTIMEZONE
BEGIN:VEVENT
DTSTART;TZID=America/Chicago:20240204T170000
DTEND;TZID=America/Chicago:20240204T180000
DTSTAMP:20260422T172836
CREATED:20230607T182122Z
LAST-MODIFIED:20240115T214939Z
UID:5715-1707066000-1707069600@aritonbc.org
SUMMARY:Discipleship Training
DESCRIPTION:
URL:https://aritonbc.org/event/discipleship-training-57/
END:VEVENT
BEGIN:VEVENT
DTSTART;TZID=America/Chicago:20240204T110000
DTEND;TZID=America/Chicago:20240204T120000
DTSTAMP:20260422T172836
CREATED:20230607T182122Z
LAST-MODIFIED:20240203T233543Z
UID:5713-1707044400-1707048000@aritonbc.org
SUMMARY:Worship Service In-House & Posted to Facebook Later
DESCRIPTION:
URL:https://aritonbc.org/event/worship-service-in-house-posted-to-facebook-later-58/
END:VEVENT
BEGIN:VEVENT
DTSTART;TZID=America/Chicago:20240204T094500
DTEND;TZID=America/Chicago:20240204T104500
DTSTAMP:20260422T172836
CREATED:20230605T174852Z
LAST-MODIFIED:20240203T233543Z
UID:5688-1707039900-1707043500@aritonbc.org
SUMMARY:In-House Sunday School
DESCRIPTION:Large Group Adult\, Youth\, Children & Toddler SS Classes. Nursery Provided.
URL:https://aritonbc.org/event/in-house-sunday-school-57/
END:VEVENT
BEGIN:VEVENT
DTSTART;TZID=America/Chicago:20240204T080000
DTEND;TZID=America/Chicago:20240204T090000
DTSTAMP:20260422T172836
CREATED:20230605T174852Z
LAST-MODIFIED:20240203T233543Z
UID:5687-1707033600-1707037200@aritonbc.org
SUMMARY:Deacon's Meeting
DESCRIPTION:
URL:https://aritonbc.org/event/deacons-meeting-7/
END:VEVENT
BEGIN:VEVENT
DTSTART;VALUE=DATE:20240203
DTEND;VALUE=DATE:20240204
DTSTAMP:20260422T172836
CREATED:20231217T205647Z
LAST-MODIFIED:20240203T233543Z
UID:6552-1706918400-1707004799@aritonbc.org
SUMMARY:Pork Plate Sale
DESCRIPTION:11:00-1:00
URL:https://aritonbc.org/event/pork-plate-sale-2/
END:VEVENT
BEGIN:VEVENT
DTSTART;TZID=America/Chicago:20240202T180000
DTEND;TZID=America/Chicago:20240202T200000
DTSTAMP:20260422T172836
CREATED:20240116T214946Z
LAST-MODIFIED:20240202T233457Z
UID:6690-1706896800-1706904000@aritonbc.org
SUMMARY:Pork Plate Prep
DESCRIPTION:
URL:https://aritonbc.org/event/pork-plate-prep/
END:VEVENT
BEGIN:VEVENT
DTSTART;VALUE=DATE:20240201
DTEND;VALUE=DATE:20240202
DTSTAMP:20260422T172836
CREATED:20231129T184941Z
LAST-MODIFIED:20240201T232040Z
UID:6481-1706745600-1706831999@aritonbc.org
SUMMARY:AHS Teachers Meeting
DESCRIPTION:
URL:https://aritonbc.org/event/ahs-teachers-meeting-5/
END:VEVENT
BEGIN:VEVENT
DTSTART;TZID=America/Chicago:20240131T183000
DTEND;TZID=America/Chicago:20240131T193000
DTSTAMP:20260422T172836
CREATED:20230604T174339Z
LAST-MODIFIED:20240131T230537Z
UID:5681-1706725800-1706729400@aritonbc.org
SUMMARY:Wednesday Night Service
DESCRIPTION:Check Ariton Baptist Facebook page for instructions
URL:https://aritonbc.org/event/wednesday-night-service-58/
END:VEVENT
BEGIN:VEVENT
DTSTART;TZID=America/Chicago:20240131T173000
DTEND;TZID=America/Chicago:20240131T183000
DTSTAMP:20260422T172836
CREATED:20230604T174339Z
LAST-MODIFIED:20240129T224959Z
UID:5682-1706722200-1706725800@aritonbc.org
SUMMARY:Wednesday Night Meal
DESCRIPTION:
URL:https://aritonbc.org/event/wednesday-night-meal-57/
END:VEVENT
BEGIN:VEVENT
DTSTART;VALUE=DATE:20240130
DTEND;VALUE=DATE:20240131
DTSTAMP:20260422T172836
CREATED:20231129T184941Z
LAST-MODIFIED:20240130T224946Z
UID:6480-1706572800-1706659199@aritonbc.org
SUMMARY:AHS Teachers Meeting
DESCRIPTION:
URL:https://aritonbc.org/event/ahs-teachers-meeting-4/
END:VEVENT
BEGIN:VEVENT
DTSTART;TZID=America/Chicago:20240129T183000
DTEND;TZID=America/Chicago:20240129T193000
DTSTAMP:20260422T172836
CREATED:20230604T174339Z
LAST-MODIFIED:20230606T180650Z
UID:5680-1706553000-1706556600@aritonbc.org
SUMMARY:MEN'S BIBLE STUDY
DESCRIPTION:
URL:https://aritonbc.org/event/mens-bible-study-47/
END:VEVENT
BEGIN:VEVENT
DTSTART;VALUE=DATE:20240129
DTEND;VALUE=DATE:20240130
DTSTAMP:20260422T172836
CREATED:20231129T184941Z
LAST-MODIFIED:20240129T224959Z
UID:6479-1706486400-1706572799@aritonbc.org
SUMMARY:AHS Teachers Meeting
DESCRIPTION:
URL:https://aritonbc.org/event/ahs-teachers-meeting-3/
END:VEVENT
BEGIN:VEVENT
DTSTART;VALUE=DATE:20240129
DTEND;VALUE=DATE:20240130
DTSTAMP:20260422T172836
CREATED:20230602T235350Z
LAST-MODIFIED:20240122T220631Z
UID:5676-1706486400-1706572799@aritonbc.org
SUMMARY:Dean’s birthday
DESCRIPTION:
URL:https://aritonbc.org/event/deans-birthday-2/
END:VEVENT
BEGIN:VEVENT
DTSTART;TZID=America/Chicago:20240128T180000
DTEND;TZID=America/Chicago:20240128T190000
DTSTAMP:20260422T172836
CREATED:20240119T220450Z
LAST-MODIFIED:20240128T223450Z
UID:6789-1706464800-1706468400@aritonbc.org
SUMMARY:Bible Recap Bible Study
DESCRIPTION:
URL:https://aritonbc.org/event/bible-recap-bible-study-2/
END:VEVENT
BEGIN:VEVENT
DTSTART;TZID=America/Chicago:20240128T180000
DTEND;TZID=America/Chicago:20240128T190000
DTSTAMP:20260422T172836
CREATED:20230530T233332Z
LAST-MODIFIED:20230813T183435Z
UID:5663-1706464800-1706468400@aritonbc.org
SUMMARY:Evening Service: In-House
DESCRIPTION:
URL:https://aritonbc.org/event/evening-service-in-house-56/
END:VEVENT
BEGIN:VEVENT
DTSTART;TZID=America/Chicago:20240128T170000
DTEND;TZID=America/Chicago:20240128T180000
DTSTAMP:20260422T172836
CREATED:20240116T214946Z
LAST-MODIFIED:20240126T221948Z
UID:6689-1706461200-1706464800@aritonbc.org
SUMMARY:Discipleship Training
DESCRIPTION:
URL:https://aritonbc.org/event/discipleship-training-99/
END:VEVENT
BEGIN:VEVENT
DTSTART;TZID=America/Chicago:20240128T170000
DTEND;TZID=America/Chicago:20240128T180000
DTSTAMP:20260422T172836
CREATED:20230529T233338Z
LAST-MODIFIED:20240115T214938Z
UID:5661-1706461200-1706464800@aritonbc.org
SUMMARY:Discipleship Training
DESCRIPTION:
URL:https://aritonbc.org/event/discipleship-training-56/
END:VEVENT
BEGIN:VEVENT
DTSTART;TZID=America/Chicago:20240128T110000
DTEND;TZID=America/Chicago:20240128T120000
DTSTAMP:20260422T172836
CREATED:20230528T231910Z
LAST-MODIFIED:20240126T221948Z
UID:5656-1706439600-1706443200@aritonbc.org
SUMMARY:Worship Service In-House & Posted to Facebook Later
DESCRIPTION:
URL:https://aritonbc.org/event/worship-service-in-house-posted-to-facebook-later-57/
END:VEVENT
BEGIN:VEVENT
DTSTART;TZID=America/Chicago:20240128T094500
DTEND;TZID=America/Chicago:20240128T104500
DTSTAMP:20260422T172836
CREATED:20230528T231910Z
LAST-MODIFIED:20240127T221935Z
UID:5655-1706435100-1706438700@aritonbc.org
SUMMARY:In-House Sunday School
DESCRIPTION:Large Group Adult\, Youth\, Children & Toddler SS Classes. Nursery Provided.
URL:https://aritonbc.org/event/in-house-sunday-school-56/
END:VEVENT
BEGIN:VEVENT
DTSTART;TZID=America/Chicago:20240125T180000
DTEND;TZID=America/Chicago:20240125T190000
DTSTAMP:20260422T172836
CREATED:20231114T174945Z
LAST-MODIFIED:20240125T220547Z
UID:6400-1706205600-1706209200@aritonbc.org
SUMMARY:Fall Sports Banquet
DESCRIPTION:
URL:https://aritonbc.org/event/fall-sports-banquet/
END:VEVENT
BEGIN:VEVENT
DTSTART;VALUE=DATE:20240125
DTEND;VALUE=DATE:20240126
DTSTAMP:20260422T172836
CREATED:20231129T184941Z
LAST-MODIFIED:20240124T220506Z
UID:6478-1706140800-1706227199@aritonbc.org
SUMMARY:AHS teachers meeting
DESCRIPTION:
URL:https://aritonbc.org/event/ahs-teachers-meeting-2/
END:VEVENT
BEGIN:VEVENT
DTSTART;TZID=America/Chicago:20240124T183000
DTEND;TZID=America/Chicago:20240124T193000
DTSTAMP:20260422T172836
CREATED:20230527T231048Z
LAST-MODIFIED:20240124T220506Z
UID:5648-1706121000-1706124600@aritonbc.org
SUMMARY:Wednesday Night Service
DESCRIPTION:Check Ariton Baptist Facebook page for instructions
URL:https://aritonbc.org/event/wednesday-night-service-57/
END:VEVENT
BEGIN:VEVENT
DTSTART;TZID=America/Chicago:20240124T173000
DTEND;TZID=America/Chicago:20240124T183000
DTSTAMP:20260422T172836
CREATED:20230528T231910Z
LAST-MODIFIED:20240124T220507Z
UID:5654-1706117400-1706121000@aritonbc.org
SUMMARY:Wednesday Night Meal
DESCRIPTION:
URL:https://aritonbc.org/event/wednesday-night-meal-56/
END:VEVENT
BEGIN:VEVENT
DTSTART;VALUE=DATE:20240124
DTEND;VALUE=DATE:20240125
DTSTAMP:20260422T172836
CREATED:20230526T230436Z
LAST-MODIFIED:20240124T220506Z
UID:5643-1706054400-1706140799@aritonbc.org
SUMMARY:Quarterly Business Meeting
DESCRIPTION:
URL:https://aritonbc.org/event/quarterly-business-meeting-5/
END:VEVENT
BEGIN:VEVENT
DTSTART;VALUE=DATE:20240123
DTEND;VALUE=DATE:20240124
DTSTAMP:20260422T172836
CREATED:20231129T184941Z
LAST-MODIFIED:20240123T220443Z
UID:6477-1705968000-1706054399@aritonbc.org
SUMMARY:AHS teachers meeting
DESCRIPTION:
URL:https://aritonbc.org/event/ahs-teachers-meeting/
END:VEVENT
BEGIN:VEVENT
DTSTART;VALUE=DATE:20240123
DTEND;VALUE=DATE:20240124
DTSTAMP:20260422T172836
CREATED:20230527T231047Z
LAST-MODIFIED:20240123T220443Z
UID:5646-1705968000-1706054399@aritonbc.org
SUMMARY:Magazines Out
DESCRIPTION:
URL:https://aritonbc.org/event/magazines-out-14/
END:VEVENT
BEGIN:VEVENT
DTSTART;TZID=America/Chicago:20240122T183000
DTEND;TZID=America/Chicago:20240122T193000
DTSTAMP:20260422T172836
CREATED:20230526T230436Z
LAST-MODIFIED:20230606T180650Z
UID:5642-1705948200-1705951800@aritonbc.org
SUMMARY:MEN'S BIBLE STUDY
DESCRIPTION:
URL:https://aritonbc.org/event/mens-bible-study-46/
END:VEVENT
BEGIN:VEVENT
DTSTART;TZID=America/Chicago:20240121T180000
DTEND;TZID=America/Chicago:20240121T190000
DTSTAMP:20260422T172836
CREATED:20240116T214946Z
LAST-MODIFIED:20240121T220556Z
UID:6688-1705860000-1705863600@aritonbc.org
SUMMARY:Bible Recap Bible Study
DESCRIPTION:
URL:https://aritonbc.org/event/bible-recap-bible-study/
END:VEVENT
BEGIN:VEVENT
DTSTART;TZID=America/Chicago:20240121T180000
DTEND;TZID=America/Chicago:20240121T190000
DTSTAMP:20260422T172836
CREATED:20230525T225702Z
LAST-MODIFIED:20230813T183435Z
UID:5636-1705860000-1705863600@aritonbc.org
SUMMARY:Evening Service: In-House
DESCRIPTION:
URL:https://aritonbc.org/event/evening-service-in-house-55/
END:VEVENT
BEGIN:VEVENT
DTSTART;TZID=America/Chicago:20240121T170000
DTEND;TZID=America/Chicago:20240121T180000
DTSTAMP:20260422T172836
CREATED:20240116T214946Z
LAST-MODIFIED:20240121T220556Z
UID:6687-1705856400-1705860000@aritonbc.org
SUMMARY:Discipleship Training
DESCRIPTION:
URL:https://aritonbc.org/event/discipleship-training-98/
END:VEVENT
END:VCALENDAR