BEGIN:VCALENDAR
VERSION:2.0
PRODID:-//Ariton Baptist Church - ECPv6.15.13.1//NONSGML v1.0//EN
CALSCALE:GREGORIAN
METHOD:PUBLISH
X-ORIGINAL-URL:https://aritonbc.org
X-WR-CALDESC:Events for Ariton Baptist Church
REFRESH-INTERVAL;VALUE=DURATION:PT1H
X-Robots-Tag:noindex
X-PUBLISHED-TTL:PT1H
BEGIN:VTIMEZONE
TZID:America/Chicago
BEGIN:DAYLIGHT
TZOFFSETFROM:-0600
TZOFFSETTO:-0500
TZNAME:CDT
DTSTART:20250309T080000
END:DAYLIGHT
BEGIN:STANDARD
TZOFFSETFROM:-0500
TZOFFSETTO:-0600
TZNAME:CST
DTSTART:20251102T070000
END:STANDARD
BEGIN:DAYLIGHT
TZOFFSETFROM:-0600
TZOFFSETTO:-0500
TZNAME:CDT
DTSTART:20260308T080000
END:DAYLIGHT
BEGIN:STANDARD
TZOFFSETFROM:-0500
TZOFFSETTO:-0600
TZNAME:CST
DTSTART:20261101T070000
END:STANDARD
BEGIN:DAYLIGHT
TZOFFSETFROM:-0600
TZOFFSETTO:-0500
TZNAME:CDT
DTSTART:20270314T080000
END:DAYLIGHT
BEGIN:STANDARD
TZOFFSETFROM:-0500
TZOFFSETTO:-0600
TZNAME:CST
DTSTART:20271107T070000
END:STANDARD
END:VTIMEZONE
BEGIN:VEVENT
DTSTART;TZID=America/Chicago:20260524T094500
DTEND;TZID=America/Chicago:20260524T104500
DTSTAMP:20260422T165231
CREATED:20250824T203905Z
LAST-MODIFIED:20260303T210850Z
UID:10353-1779615900-1779619500@aritonbc.org
SUMMARY:In-House Sunday School
DESCRIPTION:Large Group Adult\, Youth\, Children & Toddler SS Classes. Nursery Provided.
URL:https://aritonbc.org/event/in-house-sunday-school-177/
END:VEVENT
BEGIN:VEVENT
DTSTART;TZID=America/Chicago:20260524T110000
DTEND;TZID=America/Chicago:20260524T120000
DTSTAMP:20260422T165231
CREATED:20250824T203905Z
LAST-MODIFIED:20260303T210850Z
UID:10354-1779620400-1779624000@aritonbc.org
SUMMARY:Worship Service In-House & Posted to Facebook Later
DESCRIPTION:
URL:https://aritonbc.org/event/worship-service-in-house-posted-to-facebook-later-178/
END:VEVENT
BEGIN:VEVENT
DTSTART;TZID=America/Chicago:20260524T170000
DTEND;TZID=America/Chicago:20260524T180000
DTSTAMP:20260422T165231
CREATED:20250825T203905Z
LAST-MODIFIED:20260125T192351Z
UID:10359-1779642000-1779645600@aritonbc.org
SUMMARY:Bible Recap Bible Study
DESCRIPTION:
URL:https://aritonbc.org/event/bible-recap-bible-study-175/
END:VEVENT
BEGIN:VEVENT
DTSTART;TZID=America/Chicago:20260524T180000
DTEND;TZID=America/Chicago:20260524T190000
DTSTAMP:20260422T165231
CREATED:20250825T203905Z
LAST-MODIFIED:20260303T210850Z
UID:10358-1779645600-1779649200@aritonbc.org
SUMMARY:Sunday Evening Service
DESCRIPTION:
URL:https://aritonbc.org/event/sunday-evening-service-72/
END:VEVENT
BEGIN:VEVENT
DTSTART;VALUE=DATE:20260525
DTEND;VALUE=DATE:20260526
DTSTAMP:20260422T165231
CREATED:20250917T222454Z
LAST-MODIFIED:20260303T210850Z
UID:10510-1779667200-1779753599@aritonbc.org
SUMMARY:Memorial Day
DESCRIPTION:
URL:https://aritonbc.org/event/memorial-day-3/
END:VEVENT
BEGIN:VEVENT
DTSTART;VALUE=DATE:20260525
DTEND;VALUE=DATE:20260530
DTSTAMP:20260422T165231
CREATED:20250918T223911Z
LAST-MODIFIED:20260303T210850Z
UID:10512-1779667200-1780099199@aritonbc.org
SUMMARY:Student Life Camp
DESCRIPTION:
URL:https://aritonbc.org/event/student-life-camp/
END:VEVENT
BEGIN:VEVENT
DTSTART;VALUE=DATE:20260526
DTEND;VALUE=DATE:20260527
DTSTAMP:20260422T165231
CREATED:20250828T205405Z
LAST-MODIFIED:20260303T210850Z
UID:10369-1779753600-1779839999@aritonbc.org
SUMMARY:Magazines Out
DESCRIPTION:
URL:https://aritonbc.org/event/magazines-out-42/
END:VEVENT
BEGIN:VEVENT
DTSTART;TZID=America/Chicago:20260527T173000
DTEND;TZID=America/Chicago:20260527T183000
DTSTAMP:20260422T165231
CREATED:20250828T205405Z
LAST-MODIFIED:20260303T210850Z
UID:10370-1779903000-1779906600@aritonbc.org
SUMMARY:Wednesday Meal
DESCRIPTION:
URL:https://aritonbc.org/event/wednesday-meal-47/
END:VEVENT
BEGIN:VEVENT
DTSTART;TZID=America/Chicago:20260527T183000
DTEND;TZID=America/Chicago:20260527T193000
DTSTAMP:20260422T165231
CREATED:20250829T205416Z
LAST-MODIFIED:20260303T210850Z
UID:10373-1779906600-1779910200@aritonbc.org
SUMMARY:Wednesday Night Service
DESCRIPTION:Check Ariton Baptist Facebook page for instructions
URL:https://aritonbc.org/event/wednesday-night-service-177/
END:VEVENT
BEGIN:VEVENT
DTSTART;VALUE=DATE:20260528
DTEND;VALUE=DATE:20260529
DTSTAMP:20260422T165231
CREATED:20250830T210857Z
LAST-MODIFIED:20260303T210850Z
UID:10376-1779926400-1780012799@aritonbc.org
SUMMARY:Pass Out New Literature
DESCRIPTION:
URL:https://aritonbc.org/event/pass-out-new-literature-14/
END:VEVENT
BEGIN:VEVENT
DTSTART;TZID=America/Chicago:20260531T094500
DTEND;TZID=America/Chicago:20260531T104500
DTSTAMP:20260422T165231
CREATED:20250831T210854Z
LAST-MODIFIED:20260303T210850Z
UID:10383-1780220700-1780224300@aritonbc.org
SUMMARY:In-House Sunday School
DESCRIPTION:Large Group Adult\, Youth\, Children & Toddler SS Classes. Nursery Provided.
URL:https://aritonbc.org/event/in-house-sunday-school-178/
END:VEVENT
BEGIN:VEVENT
DTSTART;TZID=America/Chicago:20260531T110000
DTEND;TZID=America/Chicago:20260531T120000
DTSTAMP:20260422T165231
CREATED:20250901T212416Z
LAST-MODIFIED:20260303T210850Z
UID:10386-1780225200-1780228800@aritonbc.org
SUMMARY:Worship Service In-House & Posted to Facebook Later
DESCRIPTION:
URL:https://aritonbc.org/event/worship-service-in-house-posted-to-facebook-later-179/
END:VEVENT
BEGIN:VEVENT
DTSTART;TZID=America/Chicago:20260531T170000
DTEND;TZID=America/Chicago:20260531T180000
DTSTAMP:20260422T165231
CREATED:20250904T212359Z
LAST-MODIFIED:20260125T192351Z
UID:10394-1780246800-1780250400@aritonbc.org
SUMMARY:Bible Recap Bible Study
DESCRIPTION:
URL:https://aritonbc.org/event/bible-recap-bible-study-176/
END:VEVENT
BEGIN:VEVENT
DTSTART;TZID=America/Chicago:20260531T180000
DTEND;TZID=America/Chicago:20260531T190000
DTSTAMP:20260422T165231
CREATED:20250901T212416Z
LAST-MODIFIED:20260303T210850Z
UID:10387-1780250400-1780254000@aritonbc.org
SUMMARY:Sunday Evening Service
DESCRIPTION:
URL:https://aritonbc.org/event/sunday-evening-service-73/
END:VEVENT
BEGIN:VEVENT
DTSTART;VALUE=DATE:20260601
DTEND;VALUE=DATE:20260606
DTSTAMP:20260422T165231
CREATED:20250929T225416Z
LAST-MODIFIED:20260303T210850Z
UID:10537-1780272000-1780703999@aritonbc.org
SUMMARY:ABC VBS-TBD
DESCRIPTION:
URL:https://aritonbc.org/event/abc-vbs-tbd/
END:VEVENT
BEGIN:VEVENT
DTSTART;TZID=America/Chicago:20260603T173000
DTEND;TZID=America/Chicago:20260603T183000
DTSTAMP:20260422T165231
CREATED:20250904T212359Z
LAST-MODIFIED:20260303T210850Z
UID:10395-1780507800-1780511400@aritonbc.org
SUMMARY:Wednesday Meal
DESCRIPTION:
URL:https://aritonbc.org/event/wednesday-meal-48/
END:VEVENT
BEGIN:VEVENT
DTSTART;TZID=America/Chicago:20260603T183000
DTEND;TZID=America/Chicago:20260603T193000
DTSTAMP:20260422T165231
CREATED:20250907T212418Z
LAST-MODIFIED:20260303T210850Z
UID:10401-1780511400-1780515000@aritonbc.org
SUMMARY:Wednesday Night Service
DESCRIPTION:Check Ariton Baptist Facebook page for instructions
URL:https://aritonbc.org/event/wednesday-night-service-178/
END:VEVENT
BEGIN:VEVENT
DTSTART;TZID=America/Chicago:20260607T083000
DTEND;TZID=America/Chicago:20260607T093000
DTSTAMP:20260422T165231
CREATED:20250907T212418Z
LAST-MODIFIED:20260303T210850Z
UID:10402-1780821000-1780824600@aritonbc.org
SUMMARY:Deacon's Meeting
DESCRIPTION:
URL:https://aritonbc.org/event/deacons-meeting-26/
END:VEVENT
BEGIN:VEVENT
DTSTART;TZID=America/Chicago:20260607T094500
DTEND;TZID=America/Chicago:20260607T104500
DTSTAMP:20260422T165231
CREATED:20250908T212406Z
LAST-MODIFIED:20260303T210850Z
UID:10410-1780825500-1780829100@aritonbc.org
SUMMARY:In-House Sunday School
DESCRIPTION:Large Group Adult\, Youth\, Children & Toddler SS Classes. Nursery Provided.
URL:https://aritonbc.org/event/in-house-sunday-school-179/
END:VEVENT
BEGIN:VEVENT
DTSTART;TZID=America/Chicago:20260607T110000
DTEND;TZID=America/Chicago:20260607T120000
DTSTAMP:20260422T165231
CREATED:20250908T212406Z
LAST-MODIFIED:20260303T210850Z
UID:10411-1780830000-1780833600@aritonbc.org
SUMMARY:Worship Service In-House & Posted to Facebook Later
DESCRIPTION:
URL:https://aritonbc.org/event/worship-service-in-house-posted-to-facebook-later-180/
END:VEVENT
BEGIN:VEVENT
DTSTART;TZID=America/Chicago:20260607T170000
DTEND;TZID=America/Chicago:20260607T180000
DTSTAMP:20260422T165231
CREATED:20250914T215401Z
LAST-MODIFIED:20260125T192351Z
UID:10428-1780851600-1780855200@aritonbc.org
SUMMARY:Bible Recap Bible Study
DESCRIPTION:
URL:https://aritonbc.org/event/bible-recap-bible-study-177/
END:VEVENT
BEGIN:VEVENT
DTSTART;TZID=America/Chicago:20260607T180000
DTEND;TZID=America/Chicago:20260607T190000
DTSTAMP:20260422T165231
CREATED:20250911T215417Z
LAST-MODIFIED:20260303T210850Z
UID:10419-1780855200-1780858800@aritonbc.org
SUMMARY:Sunday Evening Service
DESCRIPTION:
URL:https://aritonbc.org/event/sunday-evening-service-74/
END:VEVENT
BEGIN:VEVENT
DTSTART;TZID=America/Chicago:20260610T173000
DTEND;TZID=America/Chicago:20260610T183000
DTSTAMP:20260422T165231
CREATED:20250914T215402Z
LAST-MODIFIED:20260303T210851Z
UID:10430-1781112600-1781116200@aritonbc.org
SUMMARY:Wednesday Meal
DESCRIPTION:
URL:https://aritonbc.org/event/wednesday-meal-49/
END:VEVENT
BEGIN:VEVENT
DTSTART;TZID=America/Chicago:20260610T183000
DTEND;TZID=America/Chicago:20260610T193000
DTSTAMP:20260422T165231
CREATED:20250914T215402Z
LAST-MODIFIED:20260303T210851Z
UID:10429-1781116200-1781119800@aritonbc.org
SUMMARY:Wednesday Night Service
DESCRIPTION:Check Ariton Baptist Facebook page for instructions
URL:https://aritonbc.org/event/wednesday-night-service-179/
END:VEVENT
BEGIN:VEVENT
DTSTART;TZID=America/Chicago:20260614T080000
DTEND;TZID=America/Chicago:20260614T090000
DTSTAMP:20260422T165231
CREATED:20250914T215402Z
LAST-MODIFIED:20260303T210851Z
UID:10431-1781424000-1781427600@aritonbc.org
SUMMARY:Brotherhood Breakfast
DESCRIPTION:
URL:https://aritonbc.org/event/brotherhood-breakfast-53/
END:VEVENT
BEGIN:VEVENT
DTSTART;TZID=America/Chicago:20260614T094500
DTEND;TZID=America/Chicago:20260614T104500
DTSTAMP:20260422T165231
CREATED:20250915T220913Z
LAST-MODIFIED:20260303T210851Z
UID:10440-1781430300-1781433900@aritonbc.org
SUMMARY:In-House Sunday School
DESCRIPTION:Large Group Adult\, Youth\, Children & Toddler SS Classes. Nursery Provided.
URL:https://aritonbc.org/event/in-house-sunday-school-180/
END:VEVENT
BEGIN:VEVENT
DTSTART;TZID=America/Chicago:20260614T110000
DTEND;TZID=America/Chicago:20260614T120000
DTSTAMP:20260422T165231
CREATED:20250915T220913Z
LAST-MODIFIED:20260303T210851Z
UID:10441-1781434800-1781438400@aritonbc.org
SUMMARY:Worship Service In-House & Posted to Facebook Later
DESCRIPTION:
URL:https://aritonbc.org/event/worship-service-in-house-posted-to-facebook-later-181/
END:VEVENT
BEGIN:VEVENT
DTSTART;TZID=America/Chicago:20260614T170000
DTEND;TZID=America/Chicago:20260614T180000
DTSTAMP:20260422T165231
CREATED:20251012T232356Z
LAST-MODIFIED:20260125T192352Z
UID:10567-1781456400-1781460000@aritonbc.org
SUMMARY:Bible Recap Bible Study
DESCRIPTION:
URL:https://aritonbc.org/event/bible-recap-bible-study-178/
END:VEVENT
BEGIN:VEVENT
DTSTART;TZID=America/Chicago:20260614T180000
DTEND;TZID=America/Chicago:20260614T190000
DTSTAMP:20260422T165231
CREATED:20251012T232356Z
LAST-MODIFIED:20260303T210851Z
UID:10566-1781460000-1781463600@aritonbc.org
SUMMARY:Sunday Evening Service
DESCRIPTION:
URL:https://aritonbc.org/event/sunday-evening-service-75/
END:VEVENT
BEGIN:VEVENT
DTSTART;VALUE=DATE:20260616
DTEND;VALUE=DATE:20260617
DTSTAMP:20260422T165231
CREATED:20251013T233859Z
LAST-MODIFIED:20260303T210851Z
UID:10571-1781568000-1781654399@aritonbc.org
SUMMARY:Pack BROWN BAGS
DESCRIPTION:
URL:https://aritonbc.org/event/pack-brown-bags-19/
END:VEVENT
END:VCALENDAR