BEGIN:VCALENDAR
VERSION:2.0
PRODID:-//Ariton Baptist Church - ECPv6.15.13.1//NONSGML v1.0//EN
CALSCALE:GREGORIAN
METHOD:PUBLISH
X-WR-CALNAME:Ariton Baptist Church
X-ORIGINAL-URL:https://aritonbc.org
X-WR-CALDESC:Events for Ariton Baptist Church
REFRESH-INTERVAL;VALUE=DURATION:PT1H
X-Robots-Tag:noindex
X-PUBLISHED-TTL:PT1H
BEGIN:VTIMEZONE
TZID:America/Chicago
BEGIN:DAYLIGHT
TZOFFSETFROM:-0600
TZOFFSETTO:-0500
TZNAME:CDT
DTSTART:20250309T080000
END:DAYLIGHT
BEGIN:STANDARD
TZOFFSETFROM:-0500
TZOFFSETTO:-0600
TZNAME:CST
DTSTART:20251102T070000
END:STANDARD
BEGIN:DAYLIGHT
TZOFFSETFROM:-0600
TZOFFSETTO:-0500
TZNAME:CDT
DTSTART:20260308T080000
END:DAYLIGHT
BEGIN:STANDARD
TZOFFSETFROM:-0500
TZOFFSETTO:-0600
TZNAME:CST
DTSTART:20261101T070000
END:STANDARD
BEGIN:DAYLIGHT
TZOFFSETFROM:-0600
TZOFFSETTO:-0500
TZNAME:CDT
DTSTART:20270314T080000
END:DAYLIGHT
BEGIN:STANDARD
TZOFFSETFROM:-0500
TZOFFSETTO:-0600
TZNAME:CST
DTSTART:20271107T070000
END:STANDARD
END:VTIMEZONE
BEGIN:VEVENT
DTSTART;TZID=America/Chicago:20260329T220000
DTEND;TZID=America/Chicago:20260329T230000
DTSTAMP:20260422T170332
CREATED:20251202T185400Z
LAST-MODIFIED:20251204T185351Z
UID:11061-1774821600-1774825200@aritonbc.org
SUMMARY:Post prayer
DESCRIPTION:
URL:https://aritonbc.org/event/post-prayer-254/
END:VEVENT
BEGIN:VEVENT
DTSTART;TZID=America/Chicago:20260330T220000
DTEND;TZID=America/Chicago:20260330T230000
DTSTAMP:20260422T170332
CREATED:20251201T185354Z
LAST-MODIFIED:20251201T185354Z
UID:10921-1774908000-1774911600@aritonbc.org
SUMMARY:Post prayer
DESCRIPTION:
URL:https://aritonbc.org/event/post-prayer-120/
END:VEVENT
BEGIN:VEVENT
DTSTART;TZID=America/Chicago:20260330T220000
DTEND;TZID=America/Chicago:20260330T230000
DTSTAMP:20260422T170332
CREATED:20251202T185400Z
LAST-MODIFIED:20251204T185351Z
UID:11062-1774908000-1774911600@aritonbc.org
SUMMARY:Post prayer
DESCRIPTION:
URL:https://aritonbc.org/event/post-prayer-255/
END:VEVENT
BEGIN:VEVENT
DTSTART;TZID=America/Chicago:20260331T220000
DTEND;TZID=America/Chicago:20260331T230000
DTSTAMP:20260422T170332
CREATED:20251201T185354Z
LAST-MODIFIED:20251201T185354Z
UID:10922-1774994400-1774998000@aritonbc.org
SUMMARY:Post prayer
DESCRIPTION:
URL:https://aritonbc.org/event/post-prayer-121/
END:VEVENT
BEGIN:VEVENT
DTSTART;TZID=America/Chicago:20260331T220000
DTEND;TZID=America/Chicago:20260331T230000
DTSTAMP:20260422T170332
CREATED:20251202T185400Z
LAST-MODIFIED:20251204T185351Z
UID:11063-1774994400-1774998000@aritonbc.org
SUMMARY:Post prayer
DESCRIPTION:
URL:https://aritonbc.org/event/post-prayer-256/
END:VEVENT
BEGIN:VEVENT
DTSTART;VALUE=DATE:20260401
DTEND;VALUE=DATE:20260402
DTSTAMP:20260422T170332
CREATED:20251120T182357Z
LAST-MODIFIED:20260303T210848Z
UID:10745-1775001600-1775087999@aritonbc.org
SUMMARY:Camp Fees!!!
DESCRIPTION:
URL:https://aritonbc.org/event/camp-fees/
END:VEVENT
BEGIN:VEVENT
DTSTART;TZID=America/Chicago:20260401T173000
DTEND;TZID=America/Chicago:20260401T183000
DTSTAMP:20260422T170332
CREATED:20250630T175402Z
LAST-MODIFIED:20250703T180859Z
UID:10057-1775064600-1775068200@aritonbc.org
SUMMARY:Wednesday Night Meal
DESCRIPTION:
URL:https://aritonbc.org/event/wednesday-night-meal-168/
END:VEVENT
BEGIN:VEVENT
DTSTART;TZID=America/Chicago:20260401T173000
DTEND;TZID=America/Chicago:20260401T183000
DTSTAMP:20260422T170332
CREATED:20250707T180907Z
LAST-MODIFIED:20260303T210848Z
UID:10197-1775064600-1775068200@aritonbc.org
SUMMARY:Wednesday Meal
DESCRIPTION:
URL:https://aritonbc.org/event/wednesday-meal-39/
END:VEVENT
BEGIN:VEVENT
DTSTART;TZID=America/Chicago:20260401T183000
DTEND;TZID=America/Chicago:20260401T193000
DTSTAMP:20260422T170332
CREATED:20250630T175402Z
LAST-MODIFIED:20260303T210848Z
UID:10056-1775068200-1775071800@aritonbc.org
SUMMARY:Wednesday Night Service
DESCRIPTION:Check Ariton Baptist Facebook page for instructions
URL:https://aritonbc.org/event/wednesday-night-service-169/
END:VEVENT
BEGIN:VEVENT
DTSTART;TZID=America/Chicago:20260401T220000
DTEND;TZID=America/Chicago:20260401T230000
DTSTAMP:20260422T170332
CREATED:20251201T185355Z
LAST-MODIFIED:20251201T185355Z
UID:10923-1775080800-1775084400@aritonbc.org
SUMMARY:Post prayer
DESCRIPTION:
URL:https://aritonbc.org/event/post-prayer-122/
END:VEVENT
BEGIN:VEVENT
DTSTART;TZID=America/Chicago:20260401T220000
DTEND;TZID=America/Chicago:20260401T230000
DTSTAMP:20260422T170332
CREATED:20251202T185401Z
LAST-MODIFIED:20251204T185351Z
UID:11064-1775080800-1775084400@aritonbc.org
SUMMARY:Post prayer
DESCRIPTION:
URL:https://aritonbc.org/event/post-prayer-257/
END:VEVENT
BEGIN:VEVENT
DTSTART;TZID=America/Chicago:20260402T220000
DTEND;TZID=America/Chicago:20260402T230000
DTSTAMP:20260422T170332
CREATED:20251201T185355Z
LAST-MODIFIED:20251201T185355Z
UID:10924-1775167200-1775170800@aritonbc.org
SUMMARY:Post prayer
DESCRIPTION:
URL:https://aritonbc.org/event/post-prayer-123/
END:VEVENT
BEGIN:VEVENT
DTSTART;TZID=America/Chicago:20260402T220000
DTEND;TZID=America/Chicago:20260402T230000
DTSTAMP:20260422T170332
CREATED:20251202T185401Z
LAST-MODIFIED:20251204T185351Z
UID:11065-1775167200-1775170800@aritonbc.org
SUMMARY:Post prayer
DESCRIPTION:
URL:https://aritonbc.org/event/post-prayer-258/
END:VEVENT
BEGIN:VEVENT
DTSTART;VALUE=DATE:20260403
DTEND;VALUE=DATE:20260404
DTSTAMP:20260422T170332
CREATED:20250916T222438Z
LAST-MODIFIED:20260303T210848Z
UID:10468-1775174400-1775260799@aritonbc.org
SUMMARY:Good Friday
DESCRIPTION:
URL:https://aritonbc.org/event/good-friday-2/
END:VEVENT
BEGIN:VEVENT
DTSTART;TZID=America/Chicago:20260403T220000
DTEND;TZID=America/Chicago:20260403T230000
DTSTAMP:20260422T170332
CREATED:20251201T185355Z
LAST-MODIFIED:20251201T185355Z
UID:10925-1775253600-1775257200@aritonbc.org
SUMMARY:Post prayer
DESCRIPTION:
URL:https://aritonbc.org/event/post-prayer-124/
END:VEVENT
BEGIN:VEVENT
DTSTART;TZID=America/Chicago:20260403T220000
DTEND;TZID=America/Chicago:20260403T230000
DTSTAMP:20260422T170332
CREATED:20251202T185401Z
LAST-MODIFIED:20251204T185351Z
UID:11066-1775253600-1775257200@aritonbc.org
SUMMARY:Post prayer
DESCRIPTION:
URL:https://aritonbc.org/event/post-prayer-259/
END:VEVENT
BEGIN:VEVENT
DTSTART;TZID=America/Chicago:20260404T220000
DTEND;TZID=America/Chicago:20260404T230000
DTSTAMP:20260422T170332
CREATED:20251201T185355Z
LAST-MODIFIED:20251201T185355Z
UID:10926-1775340000-1775343600@aritonbc.org
SUMMARY:Post prayer
DESCRIPTION:
URL:https://aritonbc.org/event/post-prayer-125/
END:VEVENT
BEGIN:VEVENT
DTSTART;TZID=America/Chicago:20260404T220000
DTEND;TZID=America/Chicago:20260404T230000
DTSTAMP:20260422T170332
CREATED:20251202T185401Z
LAST-MODIFIED:20251204T185351Z
UID:11070-1775340000-1775343600@aritonbc.org
SUMMARY:Post prayer
DESCRIPTION:
URL:https://aritonbc.org/event/post-prayer-260/
END:VEVENT
BEGIN:VEVENT
DTSTART;VALUE=DATE:20260405
DTEND;VALUE=DATE:20260406
DTSTAMP:20260422T170332
CREATED:20250916T222438Z
LAST-MODIFIED:20260303T210849Z
UID:10469-1775347200-1775433599@aritonbc.org
SUMMARY:Easter Sunday
DESCRIPTION:
URL:https://aritonbc.org/event/easter-sunday-2/
END:VEVENT
BEGIN:VEVENT
DTSTART;TZID=America/Chicago:20260405T080000
DTEND;TZID=America/Chicago:20260405T090000
DTSTAMP:20260422T170332
CREATED:20250630T175402Z
LAST-MODIFIED:20250717T190900Z
UID:10058-1775376000-1775379600@aritonbc.org
SUMMARY:Deacon's Meeting
DESCRIPTION:
URL:https://aritonbc.org/event/deacons-meeting-20/
END:VEVENT
BEGIN:VEVENT
DTSTART;TZID=America/Chicago:20260405T083000
DTEND;TZID=America/Chicago:20260405T093000
DTSTAMP:20260422T170332
CREATED:20250718T190916Z
LAST-MODIFIED:20260303T210849Z
UID:10260-1775377800-1775381400@aritonbc.org
SUMMARY:Deacon's Meeting
DESCRIPTION:
URL:https://aritonbc.org/event/deacons-meeting-25/
END:VEVENT
BEGIN:VEVENT
DTSTART;TZID=America/Chicago:20260405T094500
DTEND;TZID=America/Chicago:20260405T104500
DTSTAMP:20260422T170332
CREATED:20250703T180859Z
LAST-MODIFIED:20260303T210848Z
UID:10065-1775382300-1775385900@aritonbc.org
SUMMARY:In-House Sunday School
DESCRIPTION:Large Group Adult\, Youth\, Children & Toddler SS Classes. Nursery Provided.
URL:https://aritonbc.org/event/in-house-sunday-school-170/
END:VEVENT
BEGIN:VEVENT
DTSTART;TZID=America/Chicago:20260405T110000
DTEND;TZID=America/Chicago:20260405T120000
DTSTAMP:20260422T170332
CREATED:20250704T180908Z
LAST-MODIFIED:20260303T210848Z
UID:10068-1775386800-1775390400@aritonbc.org
SUMMARY:Worship Service In-House & Posted to Facebook Later
DESCRIPTION:
URL:https://aritonbc.org/event/worship-service-in-house-posted-to-facebook-later-171/
END:VEVENT
BEGIN:VEVENT
DTSTART;TZID=America/Chicago:20260405T170000
DTEND;TZID=America/Chicago:20260405T180000
DTSTAMP:20260422T170332
CREATED:20250704T180908Z
LAST-MODIFIED:20260125T192349Z
UID:10070-1775408400-1775412000@aritonbc.org
SUMMARY:Bible Recap Bible Study
DESCRIPTION:
URL:https://aritonbc.org/event/bible-recap-bible-study-168/
END:VEVENT
BEGIN:VEVENT
DTSTART;TZID=America/Chicago:20260405T180000
DTEND;TZID=America/Chicago:20260405T190000
DTSTAMP:20260422T170332
CREATED:20250704T180908Z
LAST-MODIFIED:20260303T210849Z
UID:10069-1775412000-1775415600@aritonbc.org
SUMMARY:Sunday Evening Service
DESCRIPTION:
URL:https://aritonbc.org/event/sunday-evening-service-65/
END:VEVENT
BEGIN:VEVENT
DTSTART;TZID=America/Chicago:20260405T220000
DTEND;TZID=America/Chicago:20260405T230000
DTSTAMP:20260422T170332
CREATED:20251201T185355Z
LAST-MODIFIED:20251201T185355Z
UID:10927-1775426400-1775430000@aritonbc.org
SUMMARY:Post prayer
DESCRIPTION:
URL:https://aritonbc.org/event/post-prayer-126/
END:VEVENT
BEGIN:VEVENT
DTSTART;TZID=America/Chicago:20260405T220000
DTEND;TZID=America/Chicago:20260405T230000
DTSTAMP:20260422T170332
CREATED:20251202T185401Z
LAST-MODIFIED:20251204T185351Z
UID:11071-1775426400-1775430000@aritonbc.org
SUMMARY:Post prayer
DESCRIPTION:
URL:https://aritonbc.org/event/post-prayer-261/
END:VEVENT
BEGIN:VEVENT
DTSTART;VALUE=DATE:20260406
DTEND;VALUE=DATE:20260407
DTSTAMP:20260422T170332
CREATED:20250916T222438Z
LAST-MODIFIED:20260303T210848Z
UID:10470-1775433600-1775519999@aritonbc.org
SUMMARY:Bowling Trip???
DESCRIPTION:
URL:https://aritonbc.org/event/bowling-trip-2/
END:VEVENT
BEGIN:VEVENT
DTSTART;TZID=America/Chicago:20260406T220000
DTEND;TZID=America/Chicago:20260406T230000
DTSTAMP:20260422T170332
CREATED:20251201T185355Z
LAST-MODIFIED:20251201T185355Z
UID:10928-1775512800-1775516400@aritonbc.org
SUMMARY:Post prayer
DESCRIPTION:
URL:https://aritonbc.org/event/post-prayer-127/
END:VEVENT
BEGIN:VEVENT
DTSTART;TZID=America/Chicago:20260406T220000
DTEND;TZID=America/Chicago:20260406T230000
DTSTAMP:20260422T170332
CREATED:20251202T185401Z
LAST-MODIFIED:20251204T185351Z
UID:11072-1775512800-1775516400@aritonbc.org
SUMMARY:Post prayer
DESCRIPTION:
URL:https://aritonbc.org/event/post-prayer-262/
END:VEVENT
END:VCALENDAR