BEGIN:VCALENDAR
VERSION:2.0
PRODID:-//Ariton Baptist Church - ECPv6.15.13.1//NONSGML v1.0//EN
CALSCALE:GREGORIAN
METHOD:PUBLISH
X-ORIGINAL-URL:https://aritonbc.org
X-WR-CALDESC:Events for Ariton Baptist Church
REFRESH-INTERVAL;VALUE=DURATION:PT1H
X-Robots-Tag:noindex
X-PUBLISHED-TTL:PT1H
BEGIN:VTIMEZONE
TZID:America/Chicago
BEGIN:DAYLIGHT
TZOFFSETFROM:-0600
TZOFFSETTO:-0500
TZNAME:CDT
DTSTART:20250309T080000
END:DAYLIGHT
BEGIN:STANDARD
TZOFFSETFROM:-0500
TZOFFSETTO:-0600
TZNAME:CST
DTSTART:20251102T070000
END:STANDARD
BEGIN:DAYLIGHT
TZOFFSETFROM:-0600
TZOFFSETTO:-0500
TZNAME:CDT
DTSTART:20260308T080000
END:DAYLIGHT
BEGIN:STANDARD
TZOFFSETFROM:-0500
TZOFFSETTO:-0600
TZNAME:CST
DTSTART:20261101T070000
END:STANDARD
BEGIN:DAYLIGHT
TZOFFSETFROM:-0600
TZOFFSETTO:-0500
TZNAME:CDT
DTSTART:20270314T080000
END:DAYLIGHT
BEGIN:STANDARD
TZOFFSETFROM:-0500
TZOFFSETTO:-0600
TZNAME:CST
DTSTART:20271107T070000
END:STANDARD
END:VTIMEZONE
BEGIN:VEVENT
DTSTART;TZID=America/Chicago:20260426T180000
DTEND;TZID=America/Chicago:20260426T190000
DTSTAMP:20260422T165141
CREATED:20250704T180909Z
LAST-MODIFIED:20260303T210849Z
UID:10090-1777226400-1777230000@aritonbc.org
SUMMARY:Sunday Evening Service
DESCRIPTION:
URL:https://aritonbc.org/event/sunday-evening-service-68/
END:VEVENT
BEGIN:VEVENT
DTSTART;VALUE=DATE:20260428
DTEND;VALUE=DATE:20260429
DTSTAMP:20260422T165141
CREATED:20250704T180910Z
LAST-MODIFIED:20260303T210849Z
UID:10091-1777334400-1777420799@aritonbc.org
SUMMARY:Magazines Out
DESCRIPTION:
URL:https://aritonbc.org/event/magazines-out-41/
END:VEVENT
BEGIN:VEVENT
DTSTART;VALUE=DATE:20260429
DTEND;VALUE=DATE:20260430
DTSTAMP:20260422T165141
CREATED:20250704T180910Z
LAST-MODIFIED:20260303T210849Z
UID:10093-1777420800-1777507199@aritonbc.org
SUMMARY:Quarterly Business Meeting
DESCRIPTION:
URL:https://aritonbc.org/event/quarterly-business-meeting-14/
END:VEVENT
BEGIN:VEVENT
DTSTART;TZID=America/Chicago:20260429T173000
DTEND;TZID=America/Chicago:20260429T183000
DTSTAMP:20260422T165141
CREATED:20250731T195351Z
LAST-MODIFIED:20260303T210849Z
UID:10292-1777483800-1777487400@aritonbc.org
SUMMARY:Wednesday Meal
DESCRIPTION:
URL:https://aritonbc.org/event/wednesday-meal-43/
END:VEVENT
BEGIN:VEVENT
DTSTART;TZID=America/Chicago:20260429T183000
DTEND;TZID=America/Chicago:20260429T193000
DTSTAMP:20260422T165141
CREATED:20250704T180910Z
LAST-MODIFIED:20260303T210849Z
UID:10092-1777487400-1777491000@aritonbc.org
SUMMARY:Wednesday Night Service
DESCRIPTION:Check Ariton Baptist Facebook page for instructions
URL:https://aritonbc.org/event/wednesday-night-service-173/
END:VEVENT
BEGIN:VEVENT
DTSTART;TZID=America/Chicago:20260503T094500
DTEND;TZID=America/Chicago:20260503T104500
DTSTAMP:20260422T165141
CREATED:20250704T180910Z
LAST-MODIFIED:20260303T210849Z
UID:10094-1777801500-1777805100@aritonbc.org
SUMMARY:In-House Sunday School
DESCRIPTION:Large Group Adult\, Youth\, Children & Toddler SS Classes. Nursery Provided.
URL:https://aritonbc.org/event/in-house-sunday-school-174/
END:VEVENT
BEGIN:VEVENT
DTSTART;TZID=America/Chicago:20260503T110000
DTEND;TZID=America/Chicago:20260503T120000
DTSTAMP:20260422T165141
CREATED:20250704T180910Z
LAST-MODIFIED:20260303T210849Z
UID:10095-1777806000-1777809600@aritonbc.org
SUMMARY:Worship Service In-House & Posted to Facebook Later
DESCRIPTION:
URL:https://aritonbc.org/event/worship-service-in-house-posted-to-facebook-later-175/
END:VEVENT
BEGIN:VEVENT
DTSTART;TZID=America/Chicago:20260503T170000
DTEND;TZID=America/Chicago:20260503T180000
DTSTAMP:20260422T165141
CREATED:20250704T180910Z
LAST-MODIFIED:20260125T192350Z
UID:10096-1777827600-1777831200@aritonbc.org
SUMMARY:Bible Recap Bible Study
DESCRIPTION:
URL:https://aritonbc.org/event/bible-recap-bible-study-172/
END:VEVENT
BEGIN:VEVENT
DTSTART;TZID=America/Chicago:20260503T180000
DTEND;TZID=America/Chicago:20260503T190000
DTSTAMP:20260422T165141
CREATED:20250704T180910Z
LAST-MODIFIED:20260303T210849Z
UID:10097-1777831200-1777834800@aritonbc.org
SUMMARY:Sunday Evening Service
DESCRIPTION:
URL:https://aritonbc.org/event/sunday-evening-service-69/
END:VEVENT
BEGIN:VEVENT
DTSTART;TZID=America/Chicago:20260506T173000
DTEND;TZID=America/Chicago:20260506T183000
DTSTAMP:20260422T165141
CREATED:20250804T195438Z
LAST-MODIFIED:20260303T210849Z
UID:10302-1778088600-1778092200@aritonbc.org
SUMMARY:Wednesday Meal
DESCRIPTION:
URL:https://aritonbc.org/event/wednesday-meal-44/
END:VEVENT
BEGIN:VEVENT
DTSTART;TZID=America/Chicago:20260506T183000
DTEND;TZID=America/Chicago:20260506T193000
DTSTAMP:20260422T165141
CREATED:20250704T180910Z
LAST-MODIFIED:20260303T210849Z
UID:10098-1778092200-1778095800@aritonbc.org
SUMMARY:Wednesday Night Service
DESCRIPTION:Check Ariton Baptist Facebook page for instructions
URL:https://aritonbc.org/event/wednesday-night-service-174/
END:VEVENT
BEGIN:VEVENT
DTSTART;VALUE=DATE:20260510
DTEND;VALUE=DATE:20260511
DTSTAMP:20260422T165141
CREATED:20250916T222440Z
LAST-MODIFIED:20260303T210850Z
UID:10471-1778371200-1778457599@aritonbc.org
SUMMARY:Mother's Day
DESCRIPTION:
URL:https://aritonbc.org/event/mothers-day-3/
END:VEVENT
BEGIN:VEVENT
DTSTART;TZID=America/Chicago:20260510T080000
DTEND;TZID=America/Chicago:20260510T090000
DTSTAMP:20260422T165141
CREATED:20250704T180910Z
LAST-MODIFIED:20260303T210850Z
UID:10099-1778400000-1778403600@aritonbc.org
SUMMARY:Brotherhood Breakfast
DESCRIPTION:
URL:https://aritonbc.org/event/brotherhood-breakfast-52/
END:VEVENT
BEGIN:VEVENT
DTSTART;TZID=America/Chicago:20260510T094500
DTEND;TZID=America/Chicago:20260510T104500
DTSTAMP:20260422T165141
CREATED:20250704T180910Z
LAST-MODIFIED:20260303T210850Z
UID:10100-1778406300-1778409900@aritonbc.org
SUMMARY:In-House Sunday School
DESCRIPTION:Large Group Adult\, Youth\, Children & Toddler SS Classes. Nursery Provided.
URL:https://aritonbc.org/event/in-house-sunday-school-175/
END:VEVENT
BEGIN:VEVENT
DTSTART;TZID=America/Chicago:20260510T110000
DTEND;TZID=America/Chicago:20260510T120000
DTSTAMP:20260422T165141
CREATED:20250704T180910Z
LAST-MODIFIED:20260303T210850Z
UID:10101-1778410800-1778414400@aritonbc.org
SUMMARY:Worship Service In-House & Posted to Facebook Later
DESCRIPTION:
URL:https://aritonbc.org/event/worship-service-in-house-posted-to-facebook-later-176/
END:VEVENT
BEGIN:VEVENT
DTSTART;TZID=America/Chicago:20260510T170000
DTEND;TZID=America/Chicago:20260510T180000
DTSTAMP:20260422T165141
CREATED:20250704T180910Z
LAST-MODIFIED:20260125T192350Z
UID:10102-1778432400-1778436000@aritonbc.org
SUMMARY:Bible Recap Bible Study
DESCRIPTION:
URL:https://aritonbc.org/event/bible-recap-bible-study-173/
END:VEVENT
BEGIN:VEVENT
DTSTART;TZID=America/Chicago:20260510T180000
DTEND;TZID=America/Chicago:20260510T190000
DTSTAMP:20260422T165141
CREATED:20250704T180910Z
LAST-MODIFIED:20260303T210850Z
UID:10103-1778436000-1778439600@aritonbc.org
SUMMARY:Sunday Evening Service
DESCRIPTION:
URL:https://aritonbc.org/event/sunday-evening-service-70/
END:VEVENT
BEGIN:VEVENT
DTSTART;TZID=America/Chicago:20260513T173000
DTEND;TZID=America/Chicago:20260513T183000
DTSTAMP:20260422T165141
CREATED:20250811T195431Z
LAST-MODIFIED:20250915T220911Z
UID:10317-1778693400-1778697000@aritonbc.org
SUMMARY:Wednesday Meal
DESCRIPTION:
URL:https://aritonbc.org/event/wednesday-meal-45/
END:VEVENT
BEGIN:VEVENT
DTSTART;TZID=America/Chicago:20260513T180000
DTEND;TZID=America/Chicago:20260513T190000
DTSTAMP:20260422T165141
CREATED:20250916T222440Z
LAST-MODIFIED:20260303T210850Z
UID:10472-1778695200-1778698800@aritonbc.org
SUMMARY:Senior Recognition
DESCRIPTION:
URL:https://aritonbc.org/event/senior-recognition-2/
END:VEVENT
BEGIN:VEVENT
DTSTART;TZID=America/Chicago:20260513T183000
DTEND;TZID=America/Chicago:20260513T193000
DTSTAMP:20260422T165141
CREATED:20250704T180910Z
LAST-MODIFIED:20250915T220911Z
UID:10104-1778697000-1778700600@aritonbc.org
SUMMARY:Wednesday Night Service
DESCRIPTION:Check Ariton Baptist Facebook page for instructions
URL:https://aritonbc.org/event/wednesday-night-service-175/
END:VEVENT
BEGIN:VEVENT
DTSTART;TZID=America/Chicago:20260517T094500
DTEND;TZID=America/Chicago:20260517T104500
DTSTAMP:20260422T165141
CREATED:20250704T180910Z
LAST-MODIFIED:20260303T210850Z
UID:10105-1779011100-1779014700@aritonbc.org
SUMMARY:In-House Sunday School
DESCRIPTION:Large Group Adult\, Youth\, Children & Toddler SS Classes. Nursery Provided.
URL:https://aritonbc.org/event/in-house-sunday-school-176/
END:VEVENT
BEGIN:VEVENT
DTSTART;TZID=America/Chicago:20260517T110000
DTEND;TZID=America/Chicago:20260517T120000
DTSTAMP:20260422T165141
CREATED:20250704T180911Z
LAST-MODIFIED:20260303T210850Z
UID:10106-1779015600-1779019200@aritonbc.org
SUMMARY:Worship Service In-House & Posted to Facebook Later
DESCRIPTION:
URL:https://aritonbc.org/event/worship-service-in-house-posted-to-facebook-later-177/
END:VEVENT
BEGIN:VEVENT
DTSTART;TZID=America/Chicago:20260517T140000
DTEND;TZID=America/Chicago:20260517T150000
DTSTAMP:20260422T165141
CREATED:20250916T222440Z
LAST-MODIFIED:20260303T210850Z
UID:10473-1779026400-1779030000@aritonbc.org
SUMMARY:Baccalaureate
DESCRIPTION:
URL:https://aritonbc.org/event/baccalaureate/
END:VEVENT
BEGIN:VEVENT
DTSTART;TZID=America/Chicago:20260517T170000
DTEND;TZID=America/Chicago:20260517T180000
DTSTAMP:20260422T165141
CREATED:20250704T180911Z
LAST-MODIFIED:20260125T192351Z
UID:10107-1779037200-1779040800@aritonbc.org
SUMMARY:Bible Recap Bible Study
DESCRIPTION:
URL:https://aritonbc.org/event/bible-recap-bible-study-174/
END:VEVENT
BEGIN:VEVENT
DTSTART;TZID=America/Chicago:20260517T180000
DTEND;TZID=America/Chicago:20260517T190000
DTSTAMP:20260422T165141
CREATED:20250706T180858Z
LAST-MODIFIED:20260303T210850Z
UID:10150-1779040800-1779044400@aritonbc.org
SUMMARY:Sunday Evening Service
DESCRIPTION:
URL:https://aritonbc.org/event/sunday-evening-service-71/
END:VEVENT
BEGIN:VEVENT
DTSTART;VALUE=DATE:20260519
DTEND;VALUE=DATE:20260520
DTSTAMP:20260422T165141
CREATED:20250706T180858Z
LAST-MODIFIED:20260303T210850Z
UID:10151-1779148800-1779235199@aritonbc.org
SUMMARY:Pack BROWN BAGS
DESCRIPTION:
URL:https://aritonbc.org/event/pack-brown-bags-18/
END:VEVENT
BEGIN:VEVENT
DTSTART;TZID=America/Chicago:20260520T093000
DTEND;TZID=America/Chicago:20260520T130000
DTSTAMP:20260422T165141
CREATED:20250820T203900Z
LAST-MODIFIED:20260303T210850Z
UID:10335-1779269400-1779282000@aritonbc.org
SUMMARY:BROWN BAG MINISTRY Pick-up
DESCRIPTION:
URL:https://aritonbc.org/event/brown-bag-ministry-pick-up-39/
END:VEVENT
BEGIN:VEVENT
DTSTART;TZID=America/Chicago:20260520T173000
DTEND;TZID=America/Chicago:20260520T183000
DTSTAMP:20260422T165141
CREATED:20250821T203922Z
LAST-MODIFIED:20260303T210850Z
UID:10341-1779298200-1779301800@aritonbc.org
SUMMARY:Wednesday Meal
DESCRIPTION:
URL:https://aritonbc.org/event/wednesday-meal-46/
END:VEVENT
BEGIN:VEVENT
DTSTART;TZID=America/Chicago:20260520T183000
DTEND;TZID=America/Chicago:20260520T193000
DTSTAMP:20260422T165141
CREATED:20250820T203900Z
LAST-MODIFIED:20260303T210850Z
UID:10336-1779301800-1779305400@aritonbc.org
SUMMARY:Wednesday Night Service
DESCRIPTION:Check Ariton Baptist Facebook page for instructions
URL:https://aritonbc.org/event/wednesday-night-service-176/
END:VEVENT
BEGIN:VEVENT
DTSTART;TZID=America/Chicago:20260521T110000
DTEND;TZID=America/Chicago:20260521T130000
DTSTAMP:20260422T165141
CREATED:20250821T203922Z
LAST-MODIFIED:20260303T210850Z
UID:10342-1779361200-1779368400@aritonbc.org
SUMMARY:Wonderful Widows Luncheon
DESCRIPTION:
URL:https://aritonbc.org/event/wonderful-widows-luncheon-31/
END:VEVENT
END:VCALENDAR