BEGIN:VCALENDAR
VERSION:2.0
PRODID:-//Ariton Baptist Church - ECPv6.15.13.1//NONSGML v1.0//EN
CALSCALE:GREGORIAN
METHOD:PUBLISH
X-WR-CALNAME:Ariton Baptist Church
X-ORIGINAL-URL:https://aritonbc.org
X-WR-CALDESC:Events for Ariton Baptist Church
REFRESH-INTERVAL;VALUE=DURATION:PT1H
X-Robots-Tag:noindex
X-PUBLISHED-TTL:PT1H
BEGIN:VTIMEZONE
TZID:America/Chicago
BEGIN:DAYLIGHT
TZOFFSETFROM:-0600
TZOFFSETTO:-0500
TZNAME:CDT
DTSTART:20230312T080000
END:DAYLIGHT
BEGIN:STANDARD
TZOFFSETFROM:-0500
TZOFFSETTO:-0600
TZNAME:CST
DTSTART:20231105T070000
END:STANDARD
BEGIN:DAYLIGHT
TZOFFSETFROM:-0600
TZOFFSETTO:-0500
TZNAME:CDT
DTSTART:20240310T080000
END:DAYLIGHT
BEGIN:STANDARD
TZOFFSETFROM:-0500
TZOFFSETTO:-0600
TZNAME:CST
DTSTART:20241103T070000
END:STANDARD
BEGIN:DAYLIGHT
TZOFFSETFROM:-0600
TZOFFSETTO:-0500
TZNAME:CDT
DTSTART:20250309T080000
END:DAYLIGHT
BEGIN:STANDARD
TZOFFSETFROM:-0500
TZOFFSETTO:-0600
TZNAME:CST
DTSTART:20251102T070000
END:STANDARD
END:VTIMEZONE
BEGIN:VEVENT
DTSTART;TZID=America/Chicago:20240428T170000
DTEND;TZID=America/Chicago:20240428T180000
DTSTAMP:20260421T210959
CREATED:20240116T214949Z
LAST-MODIFIED:20240428T212030Z
UID:6707-1714323600-1714327200@aritonbc.org
SUMMARY:Discipleship Training
DESCRIPTION:
URL:https://aritonbc.org/event/discipleship-training-112/
END:VEVENT
BEGIN:VEVENT
DTSTART;TZID=America/Chicago:20240428T170000
DTEND;TZID=America/Chicago:20240428T180000
DTSTAMP:20260421T210959
CREATED:20230813T183437Z
LAST-MODIFIED:20240115T214940Z
UID:6088-1714323600-1714327200@aritonbc.org
SUMMARY:Discipleship Training
DESCRIPTION:
URL:https://aritonbc.org/event/discipleship-training-69/
END:VEVENT
BEGIN:VEVENT
DTSTART;TZID=America/Chicago:20240428T110000
DTEND;TZID=America/Chicago:20240428T120000
DTSTAMP:20260421T210959
CREATED:20230810T183606Z
LAST-MODIFIED:20240427T210453Z
UID:6080-1714302000-1714305600@aritonbc.org
SUMMARY:Worship Service In-House & Posted to Facebook Later
DESCRIPTION:
URL:https://aritonbc.org/event/worship-service-in-house-posted-to-facebook-later-70/
END:VEVENT
BEGIN:VEVENT
DTSTART;TZID=America/Chicago:20240428T094500
DTEND;TZID=America/Chicago:20240428T104500
DTSTAMP:20260421T210959
CREATED:20230807T182125Z
LAST-MODIFIED:20240427T210453Z
UID:6073-1714297500-1714301100@aritonbc.org
SUMMARY:In-House Sunday School
DESCRIPTION:Large Group Adult\, Youth\, Children & Toddler SS Classes. Nursery Provided.
URL:https://aritonbc.org/event/in-house-sunday-school-69/
END:VEVENT
BEGIN:VEVENT
DTSTART;TZID=America/Chicago:20240428T090000
DTEND;TZID=America/Chicago:20240428T123000
DTSTAMP:20260421T210959
CREATED:20240418T202002Z
LAST-MODIFIED:20240427T210453Z
UID:7943-1714294800-1714307400@aritonbc.org
SUMMARY:VBS Station-Conference Room
DESCRIPTION:
URL:https://aritonbc.org/event/vbs-station-conference-room/
END:VEVENT
BEGIN:VEVENT
DTSTART;VALUE=DATE:20240427
DTEND;VALUE=DATE:20240428
DTSTAMP:20260421T210959
CREATED:20240404T193546Z
LAST-MODIFIED:20240427T210453Z
UID:7806-1714176000-1714262399@aritonbc.org
SUMMARY:Church reserved
DESCRIPTION:
URL:https://aritonbc.org/event/church-reserved-4/
END:VEVENT
BEGIN:VEVENT
DTSTART;TZID=America/Chicago:20240424T183000
DTEND;TZID=America/Chicago:20240424T193000
DTSTAMP:20260421T210959
CREATED:20230806T182001Z
LAST-MODIFIED:20240424T203501Z
UID:6060-1713983400-1713987000@aritonbc.org
SUMMARY:Wednesday Night Service
DESCRIPTION:Check Ariton Baptist Facebook page for instructions
URL:https://aritonbc.org/event/wednesday-night-service-70/
END:VEVENT
BEGIN:VEVENT
DTSTART;TZID=America/Chicago:20240424T180000
DTEND;TZID=America/Chicago:20240424T193000
DTSTAMP:20260421T210959
CREATED:20240319T185153Z
LAST-MODIFIED:20240424T203501Z
UID:7707-1713981600-1713987000@aritonbc.org
SUMMARY:Vertical Marriage
DESCRIPTION:
URL:https://aritonbc.org/event/vertical-marriage-2/
END:VEVENT
BEGIN:VEVENT
DTSTART;TZID=America/Chicago:20240424T173000
DTEND;TZID=America/Chicago:20240424T183000
DTSTAMP:20260421T210959
CREATED:20230805T182046Z
LAST-MODIFIED:20240424T203501Z
UID:6054-1713979800-1713983400@aritonbc.org
SUMMARY:Wednesday Night Meal
DESCRIPTION:
URL:https://aritonbc.org/event/wednesday-night-meal-69/
END:VEVENT
BEGIN:VEVENT
DTSTART;VALUE=DATE:20240424
DTEND;VALUE=DATE:20240425
DTSTAMP:20260421T210959
CREATED:20230806T182001Z
LAST-MODIFIED:20240424T203501Z
UID:6057-1713916800-1714003199@aritonbc.org
SUMMARY:Quarterly Business Meeting
DESCRIPTION:
URL:https://aritonbc.org/event/quarterly-business-meeting-6/
END:VEVENT
BEGIN:VEVENT
DTSTART;TZID=America/Chicago:20240423T093000
DTEND;TZID=America/Chicago:20240423T110000
DTSTAMP:20260421T210959
CREATED:20240119T220453Z
LAST-MODIFIED:20240126T221951Z
UID:6812-1713864600-1713870000@aritonbc.org
SUMMARY:Women's Bible Study
DESCRIPTION:
URL:https://aritonbc.org/event/womens-bible-study-27/
END:VEVENT
BEGIN:VEVENT
DTSTART;VALUE=DATE:20240423
DTEND;VALUE=DATE:20240424
DTSTAMP:20260421T210959
CREATED:20230806T182001Z
LAST-MODIFIED:20240423T203439Z
UID:6058-1713830400-1713916799@aritonbc.org
SUMMARY:Magazines Out
DESCRIPTION:
URL:https://aritonbc.org/event/magazines-out-17/
END:VEVENT
BEGIN:VEVENT
DTSTART;TZID=America/Chicago:20240421T180000
DTEND;TZID=America/Chicago:20240421T190000
DTSTAMP:20260421T210959
CREATED:20240119T220453Z
LAST-MODIFIED:20240421T202017Z
UID:6811-1713722400-1713726000@aritonbc.org
SUMMARY:Bible Recap Bible Study
DESCRIPTION:
URL:https://aritonbc.org/event/bible-recap-bible-study-14/
END:VEVENT
BEGIN:VEVENT
DTSTART;TZID=America/Chicago:20240421T180000
DTEND;TZID=America/Chicago:20240421T190000
DTSTAMP:20260421T210959
CREATED:20230803T182026Z
LAST-MODIFIED:20230813T183436Z
UID:6047-1713722400-1713726000@aritonbc.org
SUMMARY:Evening Service: In-House
DESCRIPTION:
URL:https://aritonbc.org/event/evening-service-in-house-68/
END:VEVENT
BEGIN:VEVENT
DTSTART;TZID=America/Chicago:20240421T170000
DTEND;TZID=America/Chicago:20240421T190000
DTSTAMP:20260421T210959
CREATED:20240405T195030Z
LAST-MODIFIED:20240421T202017Z
UID:7832-1713718800-1713726000@aritonbc.org
SUMMARY:Teen Girls Bible Study-Etheredge Home
DESCRIPTION:Dinner is provided.
URL:https://aritonbc.org/event/teen-girls-bible-study-etheredge-home-3/
END:VEVENT
BEGIN:VEVENT
DTSTART;TZID=America/Chicago:20240421T170000
DTEND;TZID=America/Chicago:20240421T190000
DTSTAMP:20260421T210959
CREATED:20240329T192146Z
LAST-MODIFIED:20240404T193545Z
UID:7748-1713718800-1713726000@aritonbc.org
SUMMARY:Teen Girl Bible Study-Etheredges
DESCRIPTION:Dinner is provided.
URL:https://aritonbc.org/event/teen-girl-bible-study-etheredges-3/
END:VEVENT
BEGIN:VEVENT
DTSTART;TZID=America/Chicago:20240421T170000
DTEND;TZID=America/Chicago:20240421T180000
DTSTAMP:20260421T210959
CREATED:20240116T214948Z
LAST-MODIFIED:20240421T202017Z
UID:6706-1713718800-1713722400@aritonbc.org
SUMMARY:Discipleship Training
DESCRIPTION:
URL:https://aritonbc.org/event/discipleship-training-111/
END:VEVENT
BEGIN:VEVENT
DTSTART;TZID=America/Chicago:20240421T170000
DTEND;TZID=America/Chicago:20240421T180000
DTSTAMP:20260421T210959
CREATED:20230804T181950Z
LAST-MODIFIED:20240115T214940Z
UID:6051-1713718800-1713722400@aritonbc.org
SUMMARY:Discipleship Training
DESCRIPTION:
URL:https://aritonbc.org/event/discipleship-training-68/
END:VEVENT
BEGIN:VEVENT
DTSTART;TZID=America/Chicago:20240421T110000
DTEND;TZID=America/Chicago:20240421T120000
DTSTAMP:20260421T210959
CREATED:20230803T182026Z
LAST-MODIFIED:20240420T202044Z
UID:6046-1713697200-1713700800@aritonbc.org
SUMMARY:Worship Service In-House & Posted to Facebook Later
DESCRIPTION:
URL:https://aritonbc.org/event/worship-service-in-house-posted-to-facebook-later-69/
END:VEVENT
BEGIN:VEVENT
DTSTART;TZID=America/Chicago:20240421T094500
DTEND;TZID=America/Chicago:20240421T104500
DTSTAMP:20260421T210959
CREATED:20230730T181937Z
LAST-MODIFIED:20240420T202043Z
UID:6026-1713692700-1713696300@aritonbc.org
SUMMARY:In-House Sunday School
DESCRIPTION:Large Group Adult\, Youth\, Children & Toddler SS Classes. Nursery Provided.
URL:https://aritonbc.org/event/in-house-sunday-school-68/
END:VEVENT
BEGIN:VEVENT
DTSTART;TZID=America/Chicago:20240420T090000
DTEND;TZID=America/Chicago:20240420T110000
DTSTAMP:20260421T210959
CREATED:20231105T060540Z
LAST-MODIFIED:20240419T201953Z
UID:6137-1713603600-1713610800@aritonbc.org
SUMMARY:DBA VBS Rally
DESCRIPTION:
URL:https://aritonbc.org/event/vbs-assn/
END:VEVENT
BEGIN:VEVENT
DTSTART;VALUE=DATE:20240419
DTEND;VALUE=DATE:20240420
DTSTAMP:20260421T210959
CREATED:20240404T193545Z
LAST-MODIFIED:20240419T201953Z
UID:7805-1713484800-1713571199@aritonbc.org
SUMMARY:DBA VBS Rally Set-up
DESCRIPTION:
URL:https://aritonbc.org/event/vbs-rally-set-up/
END:VEVENT
BEGIN:VEVENT
DTSTART;TZID=America/Chicago:20240418T110000
DTEND;TZID=America/Chicago:20240418T130000
DTSTAMP:20260421T210959
CREATED:20231105T060540Z
LAST-MODIFIED:20240417T200651Z
UID:6136-1713438000-1713445200@aritonbc.org
SUMMARY:Wonderful Widows Luncheon
DESCRIPTION:
URL:https://aritonbc.org/event/wonderful-widows-luncheon-6/
END:VEVENT
BEGIN:VEVENT
DTSTART;TZID=America/Chicago:20240417T183000
DTEND;TZID=America/Chicago:20240417T193000
DTSTAMP:20260421T210959
CREATED:20230727T181954Z
LAST-MODIFIED:20240417T200651Z
UID:6017-1713378600-1713382200@aritonbc.org
SUMMARY:Wednesday Night Service
DESCRIPTION:Check Ariton Baptist Facebook page for instructions
URL:https://aritonbc.org/event/wednesday-night-service-69/
END:VEVENT
BEGIN:VEVENT
DTSTART;TZID=America/Chicago:20240417T180000
DTEND;TZID=America/Chicago:20240417T193000
DTSTAMP:20260421T210959
CREATED:20240319T185153Z
LAST-MODIFIED:20240417T200651Z
UID:7706-1713376800-1713382200@aritonbc.org
SUMMARY:Vertical Marriage
DESCRIPTION:
URL:https://aritonbc.org/event/vertical-marriage/
END:VEVENT
BEGIN:VEVENT
DTSTART;TZID=America/Chicago:20240417T173000
DTEND;TZID=America/Chicago:20240417T183000
DTSTAMP:20260421T210959
CREATED:20230730T181937Z
LAST-MODIFIED:20240417T200651Z
UID:6025-1713375000-1713378600@aritonbc.org
SUMMARY:Wednesday Night Meal
DESCRIPTION:
URL:https://aritonbc.org/event/wednesday-night-meal-68/
END:VEVENT
BEGIN:VEVENT
DTSTART;TZID=America/Chicago:20240417T093000
DTEND;TZID=America/Chicago:20240417T130000
DTSTAMP:20260421T210959
CREATED:20230727T181954Z
LAST-MODIFIED:20240416T200457Z
UID:6016-1713346200-1713358800@aritonbc.org
SUMMARY:BROWN BAG MINISTRY Pick-up
DESCRIPTION:
URL:https://aritonbc.org/event/brown-bag-ministry-pick-up-14/
END:VEVENT
BEGIN:VEVENT
DTSTART;VALUE=DATE:20240417
DTEND;VALUE=DATE:20240418
DTSTAMP:20260421T210959
CREATED:20230727T181954Z
LAST-MODIFIED:20240417T200651Z
UID:6018-1713312000-1713398399@aritonbc.org
SUMMARY:Finance Committee Meeting
DESCRIPTION:
URL:https://aritonbc.org/event/finance-committee-meeting-7/
END:VEVENT
BEGIN:VEVENT
DTSTART;TZID=America/Chicago:20240416T093000
DTEND;TZID=America/Chicago:20240416T110000
DTSTAMP:20260421T210959
CREATED:20240119T220453Z
LAST-MODIFIED:20240126T221950Z
UID:6810-1713259800-1713265200@aritonbc.org
SUMMARY:Women's Bible Study
DESCRIPTION:
URL:https://aritonbc.org/event/womens-bible-study-26/
END:VEVENT
BEGIN:VEVENT
DTSTART;VALUE=DATE:20240416
DTEND;VALUE=DATE:20240417
DTSTAMP:20260421T210959
CREATED:20230726T180531Z
LAST-MODIFIED:20240416T200457Z
UID:6013-1713225600-1713311999@aritonbc.org
SUMMARY:Pack BROWN BAGS after 2PM
DESCRIPTION:
URL:https://aritonbc.org/event/pack-brown-bags-after-2pm-14/
END:VEVENT
END:VCALENDAR