BEGIN:VCALENDAR
VERSION:2.0
PRODID:-//Ariton Baptist Church - ECPv6.15.13.1//NONSGML v1.0//EN
CALSCALE:GREGORIAN
METHOD:PUBLISH
X-WR-CALNAME:Ariton Baptist Church
X-ORIGINAL-URL:https://aritonbc.org
X-WR-CALDESC:Events for Ariton Baptist Church
REFRESH-INTERVAL;VALUE=DURATION:PT1H
X-Robots-Tag:noindex
X-PUBLISHED-TTL:PT1H
BEGIN:VTIMEZONE
TZID:America/Chicago
BEGIN:DAYLIGHT
TZOFFSETFROM:-0600
TZOFFSETTO:-0500
TZNAME:CDT
DTSTART:20230312T080000
END:DAYLIGHT
BEGIN:STANDARD
TZOFFSETFROM:-0500
TZOFFSETTO:-0600
TZNAME:CST
DTSTART:20231105T070000
END:STANDARD
BEGIN:DAYLIGHT
TZOFFSETFROM:-0600
TZOFFSETTO:-0500
TZNAME:CDT
DTSTART:20240310T080000
END:DAYLIGHT
BEGIN:STANDARD
TZOFFSETFROM:-0500
TZOFFSETTO:-0600
TZNAME:CST
DTSTART:20241103T070000
END:STANDARD
BEGIN:DAYLIGHT
TZOFFSETFROM:-0600
TZOFFSETTO:-0500
TZNAME:CDT
DTSTART:20250309T080000
END:DAYLIGHT
BEGIN:STANDARD
TZOFFSETFROM:-0500
TZOFFSETTO:-0600
TZNAME:CST
DTSTART:20251102T070000
END:STANDARD
END:VTIMEZONE
BEGIN:VEVENT
DTSTART;VALUE=DATE:20240513
DTEND;VALUE=DATE:20240514
DTSTAMP:20260421T152011
CREATED:20240129T225002Z
LAST-MODIFIED:20240513T224959Z
UID:7355-1715558400-1715644799@aritonbc.org
SUMMARY:Final Camp Balance Due
DESCRIPTION:
URL:https://aritonbc.org/event/final-camp-balance-due/
END:VEVENT
BEGIN:VEVENT
DTSTART;TZID=America/Chicago:20240512T180000
DTEND;TZID=America/Chicago:20240512T190000
DTSTAMP:20260421T152011
CREATED:20240119T220454Z
LAST-MODIFIED:20240404T193546Z
UID:6817-1715536800-1715540400@aritonbc.org
SUMMARY:Bible Recap Bible Study
DESCRIPTION:
URL:https://aritonbc.org/event/bible-recap-bible-study-17/
END:VEVENT
BEGIN:VEVENT
DTSTART;TZID=America/Chicago:20240512T170000
DTEND;TZID=America/Chicago:20240512T190000
DTSTAMP:20260421T152011
CREATED:20240329T192147Z
LAST-MODIFIED:20240404T193546Z
UID:7751-1715533200-1715540400@aritonbc.org
SUMMARY:Teen Girl Bible Study-Etheredges
DESCRIPTION:Dinner is provided.
URL:https://aritonbc.org/event/teen-girl-bible-study-etheredges-6/
END:VEVENT
BEGIN:VEVENT
DTSTART;TZID=America/Chicago:20240512T170000
DTEND;TZID=America/Chicago:20240512T180000
DTSTAMP:20260421T152011
CREATED:20240116T214949Z
LAST-MODIFIED:20240404T193546Z
UID:6709-1715533200-1715536800@aritonbc.org
SUMMARY:Discipleship Training
DESCRIPTION:
URL:https://aritonbc.org/event/discipleship-training-114/
END:VEVENT
BEGIN:VEVENT
DTSTART;TZID=America/Chicago:20240512T170000
DTEND;TZID=America/Chicago:20240512T180000
DTSTAMP:20260421T152011
CREATED:20231105T060541Z
LAST-MODIFIED:20240115T214941Z
UID:6149-1715533200-1715536800@aritonbc.org
SUMMARY:Discipleship Training
DESCRIPTION:
URL:https://aritonbc.org/event/discipleship-training-71/
END:VEVENT
BEGIN:VEVENT
DTSTART;TZID=America/Chicago:20240512T110000
DTEND;TZID=America/Chicago:20240512T120000
DTSTAMP:20260421T152011
CREATED:20231105T060541Z
LAST-MODIFIED:20240511T223707Z
UID:6148-1715511600-1715515200@aritonbc.org
SUMMARY:Worship Service In-House & Posted to Facebook Later
DESCRIPTION:
URL:https://aritonbc.org/event/worship-service-in-house-posted-to-facebook-later-72/
END:VEVENT
BEGIN:VEVENT
DTSTART;TZID=America/Chicago:20240512T094500
DTEND;TZID=America/Chicago:20240512T104500
DTSTAMP:20260421T152011
CREATED:20231105T060541Z
LAST-MODIFIED:20240511T223707Z
UID:6147-1715507100-1715510700@aritonbc.org
SUMMARY:In-House Sunday School
DESCRIPTION:Large Group Adult\, Youth\, Children & Toddler SS Classes. Nursery Provided.
URL:https://aritonbc.org/event/in-house-sunday-school-71/
END:VEVENT
BEGIN:VEVENT
DTSTART;TZID=America/Chicago:20240512T080000
DTEND;TZID=America/Chicago:20240512T090000
DTSTAMP:20260421T152011
CREATED:20240109T214944Z
LAST-MODIFIED:20240404T193546Z
UID:6646-1715500800-1715504400@aritonbc.org
SUMMARY:Brotherhood Breakfast
DESCRIPTION:
URL:https://aritonbc.org/event/brotherhood-breakfast-27/
END:VEVENT
BEGIN:VEVENT
DTSTART;TZID=America/Chicago:20240512T080000
DTEND;TZID=America/Chicago:20240512T090000
DTSTAMP:20260421T152011
CREATED:20231105T060541Z
LAST-MODIFIED:20240108T215018Z
UID:6146-1715500800-1715504400@aritonbc.org
SUMMARY:Brotherhood Breakfast
DESCRIPTION:
URL:https://aritonbc.org/event/brotherhood-breakfast-17/
END:VEVENT
BEGIN:VEVENT
DTSTART;VALUE=DATE:20240512
DTEND;VALUE=DATE:20240513
DTSTAMP:20260421T152011
CREATED:20240405T195031Z
LAST-MODIFIED:20240512T225019Z
UID:7836-1715472000-1715558399@aritonbc.org
SUMMARY:Mother's Day
DESCRIPTION:
URL:https://aritonbc.org/event/mothers-day-2/
END:VEVENT
BEGIN:VEVENT
DTSTART;VALUE=DATE:20240512
DTEND;VALUE=DATE:20240513
DTSTAMP:20260421T152011
CREATED:20240405T195031Z
LAST-MODIFIED:20240512T225019Z
UID:7838-1715472000-1715558399@aritonbc.org
SUMMARY:NO EVENING SERVICES
DESCRIPTION:
URL:https://aritonbc.org/event/no-evening-services-4/
END:VEVENT
BEGIN:VEVENT
DTSTART;TZID=America/Chicago:20240508T183000
DTEND;TZID=America/Chicago:20240508T193000
DTSTAMP:20260421T152011
CREATED:20231105T060541Z
LAST-MODIFIED:20240508T221946Z
UID:6145-1715193000-1715196600@aritonbc.org
SUMMARY:Wednesday Night Service
DESCRIPTION:Check Ariton Baptist Facebook page for instructions
URL:https://aritonbc.org/event/wednesday-night-service-72/
END:VEVENT
BEGIN:VEVENT
DTSTART;TZID=America/Chicago:20240508T180000
DTEND;TZID=America/Chicago:20240508T193000
DTSTAMP:20260421T152011
CREATED:20240319T185153Z
LAST-MODIFIED:20240508T221946Z
UID:7709-1715191200-1715196600@aritonbc.org
SUMMARY:Vertical Marriage
DESCRIPTION:
URL:https://aritonbc.org/event/vertical-marriage-4/
END:VEVENT
BEGIN:VEVENT
DTSTART;TZID=America/Chicago:20240508T173000
DTEND;TZID=America/Chicago:20240508T183000
DTSTAMP:20260421T152011
CREATED:20231105T060541Z
LAST-MODIFIED:20240508T221946Z
UID:6144-1715189400-1715193000@aritonbc.org
SUMMARY:Wednesday Night Meal
DESCRIPTION:
URL:https://aritonbc.org/event/wednesday-night-meal-71/
END:VEVENT
BEGIN:VEVENT
DTSTART;TZID=America/Chicago:20240507T093000
DTEND;TZID=America/Chicago:20240507T110000
DTSTAMP:20260421T152011
CREATED:20240119T220454Z
LAST-MODIFIED:20240126T221951Z
UID:6816-1715074200-1715079600@aritonbc.org
SUMMARY:Women's Bible Study
DESCRIPTION:
URL:https://aritonbc.org/event/womens-bible-study-29/
END:VEVENT
BEGIN:VEVENT
DTSTART;TZID=America/Chicago:20240505T180000
DTEND;TZID=America/Chicago:20240505T190000
DTSTAMP:20260421T152011
CREATED:20240119T220454Z
LAST-MODIFIED:20240505T220550Z
UID:6815-1714932000-1714935600@aritonbc.org
SUMMARY:Bible Recap Bible Study
DESCRIPTION:
URL:https://aritonbc.org/event/bible-recap-bible-study-16/
END:VEVENT
BEGIN:VEVENT
DTSTART;TZID=America/Chicago:20240505T170000
DTEND;TZID=America/Chicago:20240505T190000
DTSTAMP:20260421T152011
CREATED:20240405T195031Z
LAST-MODIFIED:20240505T220550Z
UID:7835-1714928400-1714935600@aritonbc.org
SUMMARY:Teen Girls Bible Study-Etheredge Home
DESCRIPTION:Dinner is provided.
URL:https://aritonbc.org/event/teen-girls-bible-study-etheredge-home-5/
END:VEVENT
BEGIN:VEVENT
DTSTART;TZID=America/Chicago:20240505T170000
DTEND;TZID=America/Chicago:20240505T190000
DTSTAMP:20260421T152011
CREATED:20240329T192146Z
LAST-MODIFIED:20240404T193546Z
UID:7750-1714928400-1714935600@aritonbc.org
SUMMARY:Teen Girl Bible Study-Etheredges
DESCRIPTION:Dinner is provided.
URL:https://aritonbc.org/event/teen-girl-bible-study-etheredges-5/
END:VEVENT
BEGIN:VEVENT
DTSTART;TZID=America/Chicago:20240505T170000
DTEND;TZID=America/Chicago:20240505T180000
DTSTAMP:20260421T152011
CREATED:20240116T214949Z
LAST-MODIFIED:20240505T220550Z
UID:6708-1714928400-1714932000@aritonbc.org
SUMMARY:Discipleship Training
DESCRIPTION:
URL:https://aritonbc.org/event/discipleship-training-113/
END:VEVENT
BEGIN:VEVENT
DTSTART;TZID=America/Chicago:20240505T170000
DTEND;TZID=America/Chicago:20240505T180000
DTSTAMP:20260421T152011
CREATED:20231105T060541Z
LAST-MODIFIED:20240115T214941Z
UID:6143-1714928400-1714932000@aritonbc.org
SUMMARY:Discipleship Training
DESCRIPTION:
URL:https://aritonbc.org/event/discipleship-training-70/
END:VEVENT
BEGIN:VEVENT
DTSTART;TZID=America/Chicago:20240505T110000
DTEND;TZID=America/Chicago:20240505T120000
DTSTAMP:20260421T152011
CREATED:20231105T060541Z
LAST-MODIFIED:20240504T215049Z
UID:6142-1714906800-1714910400@aritonbc.org
SUMMARY:Worship Service In-House & Posted to Facebook Later
DESCRIPTION:
URL:https://aritonbc.org/event/worship-service-in-house-posted-to-facebook-later-71/
END:VEVENT
BEGIN:VEVENT
DTSTART;TZID=America/Chicago:20240505T094500
DTEND;TZID=America/Chicago:20240505T104500
DTSTAMP:20260421T152011
CREATED:20230813T183437Z
LAST-MODIFIED:20240504T215049Z
UID:6091-1714902300-1714905900@aritonbc.org
SUMMARY:In-House Sunday School
DESCRIPTION:Large Group Adult\, Youth\, Children & Toddler SS Classes. Nursery Provided.
URL:https://aritonbc.org/event/in-house-sunday-school-70/
END:VEVENT
BEGIN:VEVENT
DTSTART;VALUE=DATE:20240504
DTEND;VALUE=DATE:20240505
DTSTAMP:20260421T152011
CREATED:20240209T234952Z
LAST-MODIFIED:20240504T215049Z
UID:7576-1714780800-1714867199@aritonbc.org
SUMMARY:Second Chance Fishing Day
DESCRIPTION:
URL:https://aritonbc.org/event/second-chance-fishing-day/
END:VEVENT
BEGIN:VEVENT
DTSTART;TZID=America/Chicago:20240501T183000
DTEND;TZID=America/Chicago:20240501T193000
DTSTAMP:20260421T152011
CREATED:20230813T183437Z
LAST-MODIFIED:20240501T213612Z
UID:6090-1714588200-1714591800@aritonbc.org
SUMMARY:Wednesday Night Service
DESCRIPTION:Check Ariton Baptist Facebook page for instructions
URL:https://aritonbc.org/event/wednesday-night-service-71/
END:VEVENT
BEGIN:VEVENT
DTSTART;TZID=America/Chicago:20240501T180000
DTEND;TZID=America/Chicago:20240501T193000
DTSTAMP:20260421T152011
CREATED:20240319T185153Z
LAST-MODIFIED:20240501T213612Z
UID:7708-1714586400-1714591800@aritonbc.org
SUMMARY:Vertical Marriage
DESCRIPTION:
URL:https://aritonbc.org/event/vertical-marriage-3/
END:VEVENT
BEGIN:VEVENT
DTSTART;TZID=America/Chicago:20240501T173000
DTEND;TZID=America/Chicago:20240501T183000
DTSTAMP:20260421T152011
CREATED:20230813T183437Z
LAST-MODIFIED:20240501T213612Z
UID:6089-1714584600-1714588200@aritonbc.org
SUMMARY:Wednesday Night Meal
DESCRIPTION:
URL:https://aritonbc.org/event/wednesday-night-meal-70/
END:VEVENT
BEGIN:VEVENT
DTSTART;VALUE=DATE:20240501
DTEND;VALUE=DATE:20240502
DTSTAMP:20260421T152011
CREATED:20240417T200651Z
LAST-MODIFIED:20240501T213612Z
UID:7939-1714521600-1714607999@aritonbc.org
SUMMARY:VBS Announcement on Facebook
DESCRIPTION:
URL:https://aritonbc.org/event/vbs-announcement-on-facebook/
END:VEVENT
BEGIN:VEVENT
DTSTART;TZID=America/Chicago:20240430T180000
DTEND;TZID=America/Chicago:20240501T000000
DTSTAMP:20260421T152011
CREATED:20240418T202002Z
LAST-MODIFIED:20240430T213449Z
UID:7945-1714500000-1714521600@aritonbc.org
SUMMARY:DBA Bible Reading-ABC
DESCRIPTION:
URL:https://aritonbc.org/event/dba-bible-reading-abc/
END:VEVENT
BEGIN:VEVENT
DTSTART;TZID=America/Chicago:20240430T093000
DTEND;TZID=America/Chicago:20240430T110000
DTSTAMP:20260421T152011
CREATED:20240119T220454Z
LAST-MODIFIED:20240126T221951Z
UID:6814-1714469400-1714474800@aritonbc.org
SUMMARY:Women's Bible Study
DESCRIPTION:
URL:https://aritonbc.org/event/womens-bible-study-28/
END:VEVENT
BEGIN:VEVENT
DTSTART;TZID=America/Chicago:20240430T093000
DTEND;TZID=America/Chicago:20240430T110000
DTSTAMP:20260421T152011
CREATED:20240119T220451Z
LAST-MODIFIED:20240404T193546Z
UID:6792-1714469400-1714474800@aritonbc.org
SUMMARY:Women's Bible Study
DESCRIPTION:
URL:https://aritonbc.org/event/womens-bible-study-17/
END:VEVENT
END:VCALENDAR