BEGIN:VCALENDAR
VERSION:2.0
PRODID:-//Ariton Baptist Church - ECPv6.15.13.1//NONSGML v1.0//EN
CALSCALE:GREGORIAN
METHOD:PUBLISH
X-WR-CALNAME:Ariton Baptist Church
X-ORIGINAL-URL:https://aritonbc.org
X-WR-CALDESC:Events for Ariton Baptist Church
REFRESH-INTERVAL;VALUE=DURATION:PT1H
X-Robots-Tag:noindex
X-PUBLISHED-TTL:PT1H
BEGIN:VTIMEZONE
TZID:America/Chicago
BEGIN:DAYLIGHT
TZOFFSETFROM:-0600
TZOFFSETTO:-0500
TZNAME:CDT
DTSTART:20230312T080000
END:DAYLIGHT
BEGIN:STANDARD
TZOFFSETFROM:-0500
TZOFFSETTO:-0600
TZNAME:CST
DTSTART:20231105T070000
END:STANDARD
BEGIN:DAYLIGHT
TZOFFSETFROM:-0600
TZOFFSETTO:-0500
TZNAME:CDT
DTSTART:20240310T080000
END:DAYLIGHT
BEGIN:STANDARD
TZOFFSETFROM:-0500
TZOFFSETTO:-0600
TZNAME:CST
DTSTART:20241103T070000
END:STANDARD
BEGIN:DAYLIGHT
TZOFFSETFROM:-0600
TZOFFSETTO:-0500
TZNAME:CDT
DTSTART:20250309T080000
END:DAYLIGHT
BEGIN:STANDARD
TZOFFSETFROM:-0500
TZOFFSETTO:-0600
TZNAME:CST
DTSTART:20251102T070000
END:STANDARD
END:VTIMEZONE
BEGIN:VEVENT
DTSTART;TZID=America/Chicago:20240524T080000
DTEND;TZID=America/Chicago:20240524T093000
DTSTAMP:20260421T123120
CREATED:20240405T195031Z
LAST-MODIFIED:20240523T230447Z
UID:7842-1716537600-1716543000@aritonbc.org
SUMMARY:AHS Senior Breakfast
DESCRIPTION:
URL:https://aritonbc.org/event/ahs-senior-breakfast/
END:VEVENT
BEGIN:VEVENT
DTSTART;VALUE=DATE:20240523
DTEND;VALUE=DATE:20240524
DTSTAMP:20260421T123120
CREATED:20231105T060541Z
LAST-MODIFIED:20240523T230447Z
UID:6160-1716422400-1716508799@aritonbc.org
SUMMARY:Pass Out New Literature
DESCRIPTION:
URL:https://aritonbc.org/event/pass-out-new-literature-6/
END:VEVENT
BEGIN:VEVENT
DTSTART;TZID=America/Chicago:20240522T183000
DTEND;TZID=America/Chicago:20240522T193000
DTSTAMP:20260421T123120
CREATED:20231105T060541Z
LAST-MODIFIED:20240522T230511Z
UID:6159-1716402600-1716406200@aritonbc.org
SUMMARY:Wednesday Night Service
DESCRIPTION:Check Ariton Baptist Facebook page for instructions
URL:https://aritonbc.org/event/wednesday-night-service-74/
END:VEVENT
BEGIN:VEVENT
DTSTART;TZID=America/Chicago:20240522T180000
DTEND;TZID=America/Chicago:20240522T190000
DTSTAMP:20260421T123120
CREATED:20240318T183638Z
LAST-MODIFIED:20240522T230511Z
UID:7698-1716400800-1716404400@aritonbc.org
SUMMARY:Senior Recognition
DESCRIPTION:
URL:https://aritonbc.org/event/senior-recognition/
END:VEVENT
BEGIN:VEVENT
DTSTART;TZID=America/Chicago:20240522T173000
DTEND;TZID=America/Chicago:20240522T183000
DTSTAMP:20260421T123120
CREATED:20231105T060541Z
LAST-MODIFIED:20240522T230511Z
UID:6158-1716399000-1716402600@aritonbc.org
SUMMARY:Wednesday Night Meal
DESCRIPTION:
URL:https://aritonbc.org/event/wednesday-night-meal-73/
END:VEVENT
BEGIN:VEVENT
DTSTART;VALUE=DATE:20240522
DTEND;VALUE=DATE:20240523
DTSTAMP:20260421T123120
CREATED:20240425T203539Z
LAST-MODIFIED:20240519T225034Z
UID:7984-1716336000-1716422399@aritonbc.org
SUMMARY:OCC Item Assembly Night
DESCRIPTION:
URL:https://aritonbc.org/event/occ-item-assembly-night/
END:VEVENT
BEGIN:VEVENT
DTSTART;TZID=America/Chicago:20240521T093000
DTEND;TZID=America/Chicago:20240521T110000
DTSTAMP:20260421T123120
CREATED:20240119T220454Z
LAST-MODIFIED:20240126T221952Z
UID:6820-1716283800-1716289200@aritonbc.org
SUMMARY:Women's Bible Study
DESCRIPTION:
URL:https://aritonbc.org/event/womens-bible-study-31/
END:VEVENT
BEGIN:VEVENT
DTSTART;TZID=America/Chicago:20240520T180000
DTEND;TZID=America/Chicago:20240520T190000
DTSTAMP:20260421T123120
CREATED:20240405T195031Z
LAST-MODIFIED:20240520T230501Z
UID:7841-1716228000-1716231600@aritonbc.org
SUMMARY:Spring Sports Banquet
DESCRIPTION:
URL:https://aritonbc.org/event/spring-sports-banquet/
END:VEVENT
BEGIN:VEVENT
DTSTART;TZID=America/Chicago:20240519T180000
DTEND;TZID=America/Chicago:20240519T190000
DTSTAMP:20260421T123120
CREATED:20240119T220454Z
LAST-MODIFIED:20240519T225034Z
UID:6819-1716141600-1716145200@aritonbc.org
SUMMARY:Bible Recap Bible Study
DESCRIPTION:
URL:https://aritonbc.org/event/bible-recap-bible-study-18/
END:VEVENT
BEGIN:VEVENT
DTSTART;TZID=America/Chicago:20240519T170000
DTEND;TZID=America/Chicago:20240519T190000
DTSTAMP:20260421T123120
CREATED:20240405T195031Z
LAST-MODIFIED:20240519T225034Z
UID:7840-1716138000-1716145200@aritonbc.org
SUMMARY:Teen Girls Bible Study-Etheredge Home
DESCRIPTION:Dinner is provided.
URL:https://aritonbc.org/event/teen-girls-bible-study-etheredge-home-6/
END:VEVENT
BEGIN:VEVENT
DTSTART;TZID=America/Chicago:20240519T170000
DTEND;TZID=America/Chicago:20240519T190000
DTSTAMP:20260421T123120
CREATED:20240329T192147Z
LAST-MODIFIED:20240404T193546Z
UID:7752-1716138000-1716145200@aritonbc.org
SUMMARY:Teen Girl Bible Study-Etheredges
DESCRIPTION:Dinner is provided.
URL:https://aritonbc.org/event/teen-girl-bible-study-etheredges-7/
END:VEVENT
BEGIN:VEVENT
DTSTART;TZID=America/Chicago:20240519T170000
DTEND;TZID=America/Chicago:20240519T180000
DTSTAMP:20260421T123120
CREATED:20240116T214949Z
LAST-MODIFIED:20240519T225034Z
UID:6710-1716138000-1716141600@aritonbc.org
SUMMARY:Discipleship Training
DESCRIPTION:
URL:https://aritonbc.org/event/discipleship-training-115/
END:VEVENT
BEGIN:VEVENT
DTSTART;TZID=America/Chicago:20240519T170000
DTEND;TZID=America/Chicago:20240519T180000
DTSTAMP:20260421T123120
CREATED:20231105T060541Z
LAST-MODIFIED:20240115T214941Z
UID:6156-1716138000-1716141600@aritonbc.org
SUMMARY:Discipleship Training
DESCRIPTION:
URL:https://aritonbc.org/event/discipleship-training-72/
END:VEVENT
BEGIN:VEVENT
DTSTART;TZID=America/Chicago:20240519T110000
DTEND;TZID=America/Chicago:20240519T120000
DTSTAMP:20260421T123120
CREATED:20231105T060541Z
LAST-MODIFIED:20240518T225027Z
UID:6155-1716116400-1716120000@aritonbc.org
SUMMARY:Worship Service In-House & Posted to Facebook Later
DESCRIPTION:
URL:https://aritonbc.org/event/worship-service-in-house-posted-to-facebook-later-73/
END:VEVENT
BEGIN:VEVENT
DTSTART;TZID=America/Chicago:20240519T094500
DTEND;TZID=America/Chicago:20240519T104500
DTSTAMP:20260421T123120
CREATED:20231105T060541Z
LAST-MODIFIED:20240518T225027Z
UID:6154-1716111900-1716115500@aritonbc.org
SUMMARY:In-House Sunday School
DESCRIPTION:Large Group Adult\, Youth\, Children & Toddler SS Classes. Nursery Provided.
URL:https://aritonbc.org/event/in-house-sunday-school-72/
END:VEVENT
BEGIN:VEVENT
DTSTART;VALUE=DATE:20240519
DTEND;VALUE=DATE:20240520
DTSTAMP:20260421T123120
CREATED:20240405T195031Z
LAST-MODIFIED:20240519T225034Z
UID:7839-1716076800-1716163199@aritonbc.org
SUMMARY:AHS Baccalaureate-Chairs 3ft apart
DESCRIPTION:
URL:https://aritonbc.org/event/ahs-baccalaureate-chairs-3ft-apart/
END:VEVENT
BEGIN:VEVENT
DTSTART;VALUE=DATE:20240517
DTEND;VALUE=DATE:20240518
DTSTAMP:20260421T123120
CREATED:20240418T202003Z
LAST-MODIFIED:20240517T224933Z
UID:7947-1715904000-1715990399@aritonbc.org
SUMMARY:Couples Date Night Out
DESCRIPTION:
URL:https://aritonbc.org/event/couples-date-night-out/
END:VEVENT
BEGIN:VEVENT
DTSTART;TZID=America/Chicago:20240516T110000
DTEND;TZID=America/Chicago:20240516T130000
DTSTAMP:20260421T123120
CREATED:20231105T060541Z
LAST-MODIFIED:20240515T224951Z
UID:6153-1715857200-1715864400@aritonbc.org
SUMMARY:Wonderful Widows Luncheon
DESCRIPTION:
URL:https://aritonbc.org/event/wonderful-widows-luncheon-7/
END:VEVENT
BEGIN:VEVENT
DTSTART;TZID=America/Chicago:20240515T183000
DTEND;TZID=America/Chicago:20240515T193000
DTSTAMP:20260421T123120
CREATED:20231105T060541Z
LAST-MODIFIED:20240317T183537Z
UID:6152-1715797800-1715801400@aritonbc.org
SUMMARY:Wednesday Night Service
DESCRIPTION:Check Ariton Baptist Facebook page for instructions
URL:https://aritonbc.org/event/wednesday-night-service-73/
END:VEVENT
BEGIN:VEVENT
DTSTART;TZID=America/Chicago:20240515T173000
DTEND;TZID=America/Chicago:20240515T183000
DTSTAMP:20260421T123120
CREATED:20231105T060541Z
LAST-MODIFIED:20240317T183537Z
UID:6151-1715794200-1715797800@aritonbc.org
SUMMARY:Wednesday Night Meal
DESCRIPTION:
URL:https://aritonbc.org/event/wednesday-night-meal-72/
END:VEVENT
BEGIN:VEVENT
DTSTART;TZID=America/Chicago:20240515T093000
DTEND;TZID=America/Chicago:20240515T130000
DTSTAMP:20260421T123120
CREATED:20231105T060541Z
LAST-MODIFIED:20240514T224938Z
UID:6150-1715765400-1715778000@aritonbc.org
SUMMARY:BROWN BAG MINISTRY Pick-up
DESCRIPTION:
URL:https://aritonbc.org/event/brown-bag-ministry-pick-up-15/
END:VEVENT
BEGIN:VEVENT
DTSTART;VALUE=DATE:20240515
DTEND;VALUE=DATE:20240516
DTSTAMP:20260421T123120
CREATED:20240417T200651Z
LAST-MODIFIED:20240515T224951Z
UID:7940-1715731200-1715817599@aritonbc.org
SUMMARY:VBS Announcements to School
DESCRIPTION:
URL:https://aritonbc.org/event/vbs-announcements-to-school/
END:VEVENT
BEGIN:VEVENT
DTSTART;TZID=America/Chicago:20240514T093000
DTEND;TZID=America/Chicago:20240514T110000
DTSTAMP:20260421T123120
CREATED:20240119T220454Z
LAST-MODIFIED:20240126T221951Z
UID:6818-1715679000-1715684400@aritonbc.org
SUMMARY:Women's Bible Study
DESCRIPTION:
URL:https://aritonbc.org/event/womens-bible-study-30/
END:VEVENT
BEGIN:VEVENT
DTSTART;VALUE=DATE:20240514
DTEND;VALUE=DATE:20240515
DTSTAMP:20260421T123120
CREATED:20231105T060541Z
LAST-MODIFIED:20240514T224938Z
UID:6157-1715644800-1715731199@aritonbc.org
SUMMARY:Pack BROWN BAGS after 2PM
DESCRIPTION:
URL:https://aritonbc.org/event/pack-brown-bags-after-2pm-15/
END:VEVENT
BEGIN:VEVENT
DTSTART;VALUE=DATE:20240513
DTEND;VALUE=DATE:20240514
DTSTAMP:20260421T123120
CREATED:20240129T225002Z
LAST-MODIFIED:20240513T224959Z
UID:7355-1715558400-1715644799@aritonbc.org
SUMMARY:Final Camp Balance Due
DESCRIPTION:
URL:https://aritonbc.org/event/final-camp-balance-due/
END:VEVENT
BEGIN:VEVENT
DTSTART;TZID=America/Chicago:20240512T180000
DTEND;TZID=America/Chicago:20240512T190000
DTSTAMP:20260421T123120
CREATED:20240119T220454Z
LAST-MODIFIED:20240404T193546Z
UID:6817-1715536800-1715540400@aritonbc.org
SUMMARY:Bible Recap Bible Study
DESCRIPTION:
URL:https://aritonbc.org/event/bible-recap-bible-study-17/
END:VEVENT
BEGIN:VEVENT
DTSTART;TZID=America/Chicago:20240512T170000
DTEND;TZID=America/Chicago:20240512T190000
DTSTAMP:20260421T123120
CREATED:20240329T192147Z
LAST-MODIFIED:20240404T193546Z
UID:7751-1715533200-1715540400@aritonbc.org
SUMMARY:Teen Girl Bible Study-Etheredges
DESCRIPTION:Dinner is provided.
URL:https://aritonbc.org/event/teen-girl-bible-study-etheredges-6/
END:VEVENT
BEGIN:VEVENT
DTSTART;TZID=America/Chicago:20240512T170000
DTEND;TZID=America/Chicago:20240512T180000
DTSTAMP:20260421T123120
CREATED:20240116T214949Z
LAST-MODIFIED:20240404T193546Z
UID:6709-1715533200-1715536800@aritonbc.org
SUMMARY:Discipleship Training
DESCRIPTION:
URL:https://aritonbc.org/event/discipleship-training-114/
END:VEVENT
BEGIN:VEVENT
DTSTART;TZID=America/Chicago:20240512T170000
DTEND;TZID=America/Chicago:20240512T180000
DTSTAMP:20260421T123120
CREATED:20231105T060541Z
LAST-MODIFIED:20240115T214941Z
UID:6149-1715533200-1715536800@aritonbc.org
SUMMARY:Discipleship Training
DESCRIPTION:
URL:https://aritonbc.org/event/discipleship-training-71/
END:VEVENT
BEGIN:VEVENT
DTSTART;TZID=America/Chicago:20240512T110000
DTEND;TZID=America/Chicago:20240512T120000
DTSTAMP:20260421T123120
CREATED:20231105T060541Z
LAST-MODIFIED:20240511T223707Z
UID:6148-1715511600-1715515200@aritonbc.org
SUMMARY:Worship Service In-House & Posted to Facebook Later
DESCRIPTION:
URL:https://aritonbc.org/event/worship-service-in-house-posted-to-facebook-later-72/
END:VEVENT
END:VCALENDAR