BEGIN:VCALENDAR
VERSION:2.0
PRODID:-//Ariton Baptist Church - ECPv6.15.13.1//NONSGML v1.0//EN
CALSCALE:GREGORIAN
METHOD:PUBLISH
X-WR-CALNAME:Ariton Baptist Church
X-ORIGINAL-URL:https://aritonbc.org
X-WR-CALDESC:Events for Ariton Baptist Church
REFRESH-INTERVAL;VALUE=DURATION:PT1H
X-Robots-Tag:noindex
X-PUBLISHED-TTL:PT1H
BEGIN:VTIMEZONE
TZID:America/Chicago
BEGIN:DAYLIGHT
TZOFFSETFROM:-0600
TZOFFSETTO:-0500
TZNAME:CDT
DTSTART:20250309T080000
END:DAYLIGHT
BEGIN:STANDARD
TZOFFSETFROM:-0500
TZOFFSETTO:-0600
TZNAME:CST
DTSTART:20251102T070000
END:STANDARD
BEGIN:DAYLIGHT
TZOFFSETFROM:-0600
TZOFFSETTO:-0500
TZNAME:CDT
DTSTART:20260308T080000
END:DAYLIGHT
BEGIN:STANDARD
TZOFFSETFROM:-0500
TZOFFSETTO:-0600
TZNAME:CST
DTSTART:20261101T070000
END:STANDARD
BEGIN:DAYLIGHT
TZOFFSETFROM:-0600
TZOFFSETTO:-0500
TZNAME:CDT
DTSTART:20270314T080000
END:DAYLIGHT
BEGIN:STANDARD
TZOFFSETFROM:-0500
TZOFFSETTO:-0600
TZNAME:CST
DTSTART:20271107T070000
END:STANDARD
END:VTIMEZONE
BEGIN:VEVENT
DTSTART;TZID=America/Chicago:20260301T110000
DTEND;TZID=America/Chicago:20260301T120000
DTSTAMP:20260421T144015
CREATED:20250605T225530Z
LAST-MODIFIED:20260228T210849Z
UID:9942-1772362800-1772366400@aritonbc.org
SUMMARY:Worship Service In-House & Posted to Facebook Later
DESCRIPTION:
URL:https://aritonbc.org/event/worship-service-in-house-posted-to-facebook-later-166/
END:VEVENT
BEGIN:VEVENT
DTSTART;TZID=America/Chicago:20260301T170000
DTEND;TZID=America/Chicago:20260301T180000
DTSTAMP:20260421T144015
CREATED:20250606T230913Z
LAST-MODIFIED:20260125T192348Z
UID:9946-1772384400-1772388000@aritonbc.org
SUMMARY:Bible Recap Bible Study
DESCRIPTION:
URL:https://aritonbc.org/event/bible-recap-bible-study-163/
END:VEVENT
BEGIN:VEVENT
DTSTART;TZID=America/Chicago:20260301T180000
DTEND;TZID=America/Chicago:20260301T190000
DTSTAMP:20260421T144015
CREATED:20250605T225530Z
LAST-MODIFIED:20260301T210850Z
UID:9943-1772388000-1772391600@aritonbc.org
SUMMARY:Sunday Evening Service
DESCRIPTION:
URL:https://aritonbc.org/event/sunday-evening-service-60/
END:VEVENT
BEGIN:VEVENT
DTSTART;TZID=America/Chicago:20260301T220000
DTEND;TZID=America/Chicago:20260301T230000
DTSTAMP:20260421T144015
CREATED:20251201T185352Z
LAST-MODIFIED:20251201T185352Z
UID:10892-1772402400-1772406000@aritonbc.org
SUMMARY:Post prayer
DESCRIPTION:
URL:https://aritonbc.org/event/post-prayer-91/
END:VEVENT
BEGIN:VEVENT
DTSTART;TZID=America/Chicago:20260301T220000
DTEND;TZID=America/Chicago:20260301T230000
DTSTAMP:20260421T144015
CREATED:20251202T185357Z
LAST-MODIFIED:20251204T185349Z
UID:11033-1772402400-1772406000@aritonbc.org
SUMMARY:Post prayer
DESCRIPTION:
URL:https://aritonbc.org/event/post-prayer-226/
END:VEVENT
BEGIN:VEVENT
DTSTART;TZID=America/Chicago:20260302T220000
DTEND;TZID=America/Chicago:20260302T230000
DTSTAMP:20260421T144015
CREATED:20251201T185352Z
LAST-MODIFIED:20251201T185352Z
UID:10893-1772488800-1772492400@aritonbc.org
SUMMARY:Post prayer
DESCRIPTION:
URL:https://aritonbc.org/event/post-prayer-92/
END:VEVENT
BEGIN:VEVENT
DTSTART;TZID=America/Chicago:20260302T220000
DTEND;TZID=America/Chicago:20260302T230000
DTSTAMP:20260421T144015
CREATED:20251202T185357Z
LAST-MODIFIED:20251204T185349Z
UID:11034-1772488800-1772492400@aritonbc.org
SUMMARY:Post prayer
DESCRIPTION:
URL:https://aritonbc.org/event/post-prayer-227/
END:VEVENT
BEGIN:VEVENT
DTSTART;TZID=America/Chicago:20260303T220000
DTEND;TZID=America/Chicago:20260303T230000
DTSTAMP:20260421T144015
CREATED:20251201T185352Z
LAST-MODIFIED:20251201T185352Z
UID:10894-1772575200-1772578800@aritonbc.org
SUMMARY:Post prayer
DESCRIPTION:
URL:https://aritonbc.org/event/post-prayer-93/
END:VEVENT
BEGIN:VEVENT
DTSTART;TZID=America/Chicago:20260303T220000
DTEND;TZID=America/Chicago:20260303T230000
DTSTAMP:20260421T144015
CREATED:20251202T185357Z
LAST-MODIFIED:20251204T185349Z
UID:11035-1772575200-1772578800@aritonbc.org
SUMMARY:Post prayer
DESCRIPTION:
URL:https://aritonbc.org/event/post-prayer-228/
END:VEVENT
BEGIN:VEVENT
DTSTART;TZID=America/Chicago:20260304T173000
DTEND;TZID=America/Chicago:20260304T183000
DTSTAMP:20260421T144015
CREATED:20250608T232449Z
LAST-MODIFIED:20250703T180858Z
UID:9953-1772645400-1772649000@aritonbc.org
SUMMARY:Wednesday Night Meal
DESCRIPTION:
URL:https://aritonbc.org/event/wednesday-night-meal-164/
END:VEVENT
BEGIN:VEVENT
DTSTART;TZID=America/Chicago:20260304T173000
DTEND;TZID=America/Chicago:20260304T183000
DTSTAMP:20260421T144015
CREATED:20250707T180907Z
LAST-MODIFIED:20260303T210849Z
UID:10193-1772645400-1772649000@aritonbc.org
SUMMARY:Wednesday Meal
DESCRIPTION:
URL:https://aritonbc.org/event/wednesday-meal-35/
END:VEVENT
BEGIN:VEVENT
DTSTART;TZID=America/Chicago:20260304T183000
DTEND;TZID=America/Chicago:20260304T193000
DTSTAMP:20260421T144015
CREATED:20250608T232449Z
LAST-MODIFIED:20260303T210849Z
UID:9952-1772649000-1772652600@aritonbc.org
SUMMARY:Wednesday Night Service
DESCRIPTION:Check Ariton Baptist Facebook page for instructions
URL:https://aritonbc.org/event/wednesday-night-service-165/
END:VEVENT
BEGIN:VEVENT
DTSTART;TZID=America/Chicago:20260304T220000
DTEND;TZID=America/Chicago:20260304T230000
DTSTAMP:20260421T144015
CREATED:20251201T185352Z
LAST-MODIFIED:20251201T185352Z
UID:10895-1772661600-1772665200@aritonbc.org
SUMMARY:Post prayer
DESCRIPTION:
URL:https://aritonbc.org/event/post-prayer-94/
END:VEVENT
BEGIN:VEVENT
DTSTART;TZID=America/Chicago:20260304T220000
DTEND;TZID=America/Chicago:20260304T230000
DTSTAMP:20260421T144015
CREATED:20251202T185357Z
LAST-MODIFIED:20251204T185349Z
UID:11036-1772661600-1772665200@aritonbc.org
SUMMARY:Post prayer
DESCRIPTION:
URL:https://aritonbc.org/event/post-prayer-229/
END:VEVENT
BEGIN:VEVENT
DTSTART;TZID=America/Chicago:20260305T220000
DTEND;TZID=America/Chicago:20260305T230000
DTSTAMP:20260421T144015
CREATED:20251201T185352Z
LAST-MODIFIED:20251201T185352Z
UID:10896-1772748000-1772751600@aritonbc.org
SUMMARY:Post prayer
DESCRIPTION:
URL:https://aritonbc.org/event/post-prayer-95/
END:VEVENT
BEGIN:VEVENT
DTSTART;TZID=America/Chicago:20260305T220000
DTEND;TZID=America/Chicago:20260305T230000
DTSTAMP:20260421T144015
CREATED:20251202T185357Z
LAST-MODIFIED:20251204T185349Z
UID:11037-1772748000-1772751600@aritonbc.org
SUMMARY:Post prayer
DESCRIPTION:
URL:https://aritonbc.org/event/post-prayer-230/
END:VEVENT
BEGIN:VEVENT
DTSTART;TZID=America/Chicago:20260306T220000
DTEND;TZID=America/Chicago:20260306T230000
DTSTAMP:20260421T144015
CREATED:20251201T185352Z
LAST-MODIFIED:20251201T185352Z
UID:10897-1772834400-1772838000@aritonbc.org
SUMMARY:Post prayer
DESCRIPTION:
URL:https://aritonbc.org/event/post-prayer-96/
END:VEVENT
BEGIN:VEVENT
DTSTART;TZID=America/Chicago:20260306T220000
DTEND;TZID=America/Chicago:20260306T230000
DTSTAMP:20260421T144015
CREATED:20251202T185357Z
LAST-MODIFIED:20251204T185349Z
UID:11038-1772834400-1772838000@aritonbc.org
SUMMARY:Post prayer
DESCRIPTION:
URL:https://aritonbc.org/event/post-prayer-231/
END:VEVENT
BEGIN:VEVENT
DTSTART;TZID=America/Chicago:20260307T220000
DTEND;TZID=America/Chicago:20260307T230000
DTSTAMP:20260421T144015
CREATED:20251201T185352Z
LAST-MODIFIED:20251201T185352Z
UID:10898-1772920800-1772924400@aritonbc.org
SUMMARY:Post prayer
DESCRIPTION:
URL:https://aritonbc.org/event/post-prayer-97/
END:VEVENT
BEGIN:VEVENT
DTSTART;TZID=America/Chicago:20260307T220000
DTEND;TZID=America/Chicago:20260307T230000
DTSTAMP:20260421T144015
CREATED:20251202T185357Z
LAST-MODIFIED:20251204T185349Z
UID:11039-1772920800-1772924400@aritonbc.org
SUMMARY:Post prayer
DESCRIPTION:
URL:https://aritonbc.org/event/post-prayer-232/
END:VEVENT
BEGIN:VEVENT
DTSTART;VALUE=DATE:20260308
DTEND;VALUE=DATE:20260309
DTSTAMP:20260421T144015
CREATED:20250916T222437Z
LAST-MODIFIED:20260303T210850Z
UID:10464-1772928000-1773014399@aritonbc.org
SUMMARY:Daylight Savings Starts
DESCRIPTION:
URL:https://aritonbc.org/event/daylight-savings-starts/
END:VEVENT
BEGIN:VEVENT
DTSTART;TZID=America/Chicago:20260308T080000
DTEND;TZID=America/Chicago:20260308T090000
DTSTAMP:20260421T144015
CREATED:20250608T232449Z
LAST-MODIFIED:20260303T210849Z
UID:9954-1772956800-1772960400@aritonbc.org
SUMMARY:Brotherhood Breakfast
DESCRIPTION:
URL:https://aritonbc.org/event/brotherhood-breakfast-50/
END:VEVENT
BEGIN:VEVENT
DTSTART;TZID=America/Chicago:20260308T094500
DTEND;TZID=America/Chicago:20260308T104500
DTSTAMP:20260421T144015
CREATED:20250609T232531Z
LAST-MODIFIED:20260303T210849Z
UID:9964-1772963100-1772966700@aritonbc.org
SUMMARY:In-House Sunday School
DESCRIPTION:Large Group Adult\, Youth\, Children & Toddler SS Classes. Nursery Provided.
URL:https://aritonbc.org/event/in-house-sunday-school-166/
END:VEVENT
BEGIN:VEVENT
DTSTART;TZID=America/Chicago:20260308T110000
DTEND;TZID=America/Chicago:20260308T120000
DTSTAMP:20260421T144015
CREATED:20250609T232531Z
LAST-MODIFIED:20260303T210849Z
UID:9965-1772967600-1772971200@aritonbc.org
SUMMARY:Worship Service In-House & Posted to Facebook Later
DESCRIPTION:
URL:https://aritonbc.org/event/worship-service-in-house-posted-to-facebook-later-167/
END:VEVENT
BEGIN:VEVENT
DTSTART;TZID=America/Chicago:20260308T170000
DTEND;TZID=America/Chicago:20260308T180000
DTSTAMP:20260421T144015
CREATED:20250612T232423Z
LAST-MODIFIED:20260125T192348Z
UID:9975-1772989200-1772992800@aritonbc.org
SUMMARY:Bible Recap Bible Study
DESCRIPTION:
URL:https://aritonbc.org/event/bible-recap-bible-study-164/
END:VEVENT
BEGIN:VEVENT
DTSTART;TZID=America/Chicago:20260308T180000
DTEND;TZID=America/Chicago:20260308T190000
DTSTAMP:20260421T144015
CREATED:20250613T232401Z
LAST-MODIFIED:20260303T210850Z
UID:9977-1772992800-1772996400@aritonbc.org
SUMMARY:Sunday Evening Service
DESCRIPTION:
URL:https://aritonbc.org/event/sunday-evening-service-61/
END:VEVENT
BEGIN:VEVENT
DTSTART;TZID=America/Chicago:20260308T220000
DTEND;TZID=America/Chicago:20260308T230000
DTSTAMP:20260421T144015
CREATED:20251201T185353Z
LAST-MODIFIED:20251201T185353Z
UID:10899-1773007200-1773010800@aritonbc.org
SUMMARY:Post prayer
DESCRIPTION:
URL:https://aritonbc.org/event/post-prayer-98/
END:VEVENT
BEGIN:VEVENT
DTSTART;TZID=America/Chicago:20260308T220000
DTEND;TZID=America/Chicago:20260308T230000
DTSTAMP:20260421T144015
CREATED:20251202T185358Z
LAST-MODIFIED:20251204T185349Z
UID:11040-1773007200-1773010800@aritonbc.org
SUMMARY:Post prayer
DESCRIPTION:
URL:https://aritonbc.org/event/post-prayer-233/
END:VEVENT
BEGIN:VEVENT
DTSTART;TZID=America/Chicago:20260309T220000
DTEND;TZID=America/Chicago:20260309T230000
DTSTAMP:20260421T144015
CREATED:20251201T185353Z
LAST-MODIFIED:20251201T185353Z
UID:10900-1773093600-1773097200@aritonbc.org
SUMMARY:Post prayer
DESCRIPTION:
URL:https://aritonbc.org/event/post-prayer-99/
END:VEVENT
BEGIN:VEVENT
DTSTART;TZID=America/Chicago:20260309T220000
DTEND;TZID=America/Chicago:20260309T230000
DTSTAMP:20260421T144015
CREATED:20251202T185358Z
LAST-MODIFIED:20251204T185349Z
UID:11041-1773093600-1773097200@aritonbc.org
SUMMARY:Post prayer
DESCRIPTION:
URL:https://aritonbc.org/event/post-prayer-234/
END:VEVENT
END:VCALENDAR