BEGIN:VCALENDAR
VERSION:2.0
PRODID:-//Ariton Baptist Church - ECPv6.15.13.1//NONSGML v1.0//EN
CALSCALE:GREGORIAN
METHOD:PUBLISH
X-WR-CALNAME:Ariton Baptist Church
X-ORIGINAL-URL:https://aritonbc.org
X-WR-CALDESC:Events for Ariton Baptist Church
REFRESH-INTERVAL;VALUE=DURATION:PT1H
X-Robots-Tag:noindex
X-PUBLISHED-TTL:PT1H
BEGIN:VTIMEZONE
TZID:America/Chicago
BEGIN:DAYLIGHT
TZOFFSETFROM:-0600
TZOFFSETTO:-0500
TZNAME:CDT
DTSTART:20230312T080000
END:DAYLIGHT
BEGIN:STANDARD
TZOFFSETFROM:-0500
TZOFFSETTO:-0600
TZNAME:CST
DTSTART:20231105T070000
END:STANDARD
BEGIN:DAYLIGHT
TZOFFSETFROM:-0600
TZOFFSETTO:-0500
TZNAME:CDT
DTSTART:20240310T080000
END:DAYLIGHT
BEGIN:STANDARD
TZOFFSETFROM:-0500
TZOFFSETTO:-0600
TZNAME:CST
DTSTART:20241103T070000
END:STANDARD
BEGIN:DAYLIGHT
TZOFFSETFROM:-0600
TZOFFSETTO:-0500
TZNAME:CDT
DTSTART:20250309T080000
END:DAYLIGHT
BEGIN:STANDARD
TZOFFSETFROM:-0500
TZOFFSETTO:-0600
TZNAME:CST
DTSTART:20251102T070000
END:STANDARD
END:VTIMEZONE
BEGIN:VEVENT
DTSTART;TZID=America/Chicago:20240403T173000
DTEND;TZID=America/Chicago:20240403T183000
DTSTAMP:20260422T213935
CREATED:20230716T210508Z
LAST-MODIFIED:20240403T193510Z
UID:5964-1712165400-1712169000@aritonbc.org
SUMMARY:Wednesday Night Meal
DESCRIPTION:
URL:https://aritonbc.org/event/wednesday-night-meal-66/
END:VEVENT
BEGIN:VEVENT
DTSTART;TZID=America/Chicago:20240402T093000
DTEND;TZID=America/Chicago:20240402T110000
DTSTAMP:20260422T213935
CREATED:20240119T220453Z
LAST-MODIFIED:20240126T221950Z
UID:6806-1712050200-1712055600@aritonbc.org
SUMMARY:Women's Bible Study
DESCRIPTION:
URL:https://aritonbc.org/event/womens-bible-study-24/
END:VEVENT
BEGIN:VEVENT
DTSTART;TZID=America/Chicago:20240331T180000
DTEND;TZID=America/Chicago:20240331T190000
DTSTAMP:20260422T213935
CREATED:20240119T220453Z
LAST-MODIFIED:20240311T183505Z
UID:6805-1711908000-1711911600@aritonbc.org
SUMMARY:Bible Recap Bible Study
DESCRIPTION:
URL:https://aritonbc.org/event/bible-recap-bible-study-11/
END:VEVENT
BEGIN:VEVENT
DTSTART;TZID=America/Chicago:20240331T180000
DTEND;TZID=America/Chicago:20240331T190000
DTSTAMP:20260422T213935
CREATED:20230716T210501Z
LAST-MODIFIED:20230813T183436Z
UID:5962-1711908000-1711911600@aritonbc.org
SUMMARY:Evening Service: In-House
DESCRIPTION:
URL:https://aritonbc.org/event/evening-service-in-house-65/
END:VEVENT
BEGIN:VEVENT
DTSTART;TZID=America/Chicago:20240331T170000
DTEND;TZID=America/Chicago:20240331T180000
DTSTAMP:20260422T213935
CREATED:20240116T214948Z
LAST-MODIFIED:20240311T183505Z
UID:6703-1711904400-1711908000@aritonbc.org
SUMMARY:Discipleship Training
DESCRIPTION:
URL:https://aritonbc.org/event/discipleship-training-108/
END:VEVENT
BEGIN:VEVENT
DTSTART;TZID=America/Chicago:20240331T170000
DTEND;TZID=America/Chicago:20240331T180000
DTSTAMP:20260422T213935
CREATED:20230716T210506Z
LAST-MODIFIED:20240115T214940Z
UID:5963-1711904400-1711908000@aritonbc.org
SUMMARY:Discipleship Training
DESCRIPTION:
URL:https://aritonbc.org/event/discipleship-training-65/
END:VEVENT
BEGIN:VEVENT
DTSTART;TZID=America/Chicago:20240331T103000
DTEND;TZID=America/Chicago:20240331T113000
DTSTAMP:20260422T213935
CREATED:20230714T210609Z
LAST-MODIFIED:20240330T193506Z
UID:5958-1711881000-1711884600@aritonbc.org
SUMMARY:✝️Easter Service In-House & Posted to Facebook Later
DESCRIPTION:
URL:https://aritonbc.org/event/worship-service-in-house-posted-to-facebook-later-66/
END:VEVENT
BEGIN:VEVENT
DTSTART;TZID=America/Chicago:20240331T094500
DTEND;TZID=America/Chicago:20240331T104500
DTSTAMP:20260422T213935
CREATED:20230713T210449Z
LAST-MODIFIED:20240311T183505Z
UID:5953-1711878300-1711881900@aritonbc.org
SUMMARY:In-House Sunday School
DESCRIPTION:Large Group Adult\, Youth\, Children & Toddler SS Classes. Nursery Provided.
URL:https://aritonbc.org/event/in-house-sunday-school-65/
END:VEVENT
BEGIN:VEVENT
DTSTART;TZID=America/Chicago:20240331T063000
DTEND;TZID=America/Chicago:20240331T073000
DTSTAMP:20260422T213935
CREATED:20240312T183600Z
LAST-MODIFIED:20240330T193506Z
UID:7673-1711866600-1711870200@aritonbc.org
SUMMARY:🌄Sonrise Service & Breakfast
DESCRIPTION:
URL:https://aritonbc.org/event/%f0%9f%8c%84sonrise-service-breakfast/
END:VEVENT
BEGIN:VEVENT
DTSTART;VALUE=DATE:20240331
DTEND;VALUE=DATE:20240401
DTSTAMP:20260422T213935
CREATED:20240312T183600Z
LAST-MODIFIED:20240331T193526Z
UID:7674-1711843200-1711929599@aritonbc.org
SUMMARY:No Evening Services
DESCRIPTION:
URL:https://aritonbc.org/event/no-evening-services-3/
END:VEVENT
BEGIN:VEVENT
DTSTART;VALUE=DATE:20240331
DTEND;VALUE=DATE:20240401
DTSTAMP:20260422T213935
CREATED:20230731T181944Z
LAST-MODIFIED:20240331T193526Z
UID:6036-1711843200-1711929599@aritonbc.org
SUMMARY:Lord's Supper
DESCRIPTION:
URL:https://aritonbc.org/event/lords-supper-5/
END:VEVENT
BEGIN:VEVENT
DTSTART;TZID=America/Chicago:20240327T183000
DTEND;TZID=America/Chicago:20240327T193000
DTSTAMP:20260422T213935
CREATED:20230713T210449Z
LAST-MODIFIED:20240327T191024Z
UID:5952-1711564200-1711567800@aritonbc.org
SUMMARY:Wednesday Night Service
DESCRIPTION:Check Ariton Baptist Facebook page for instructions
URL:https://aritonbc.org/event/wednesday-night-service-66/
END:VEVENT
BEGIN:VEVENT
DTSTART;TZID=America/Chicago:20240327T173000
DTEND;TZID=America/Chicago:20240327T183000
DTSTAMP:20260422T213935
CREATED:20230713T210449Z
LAST-MODIFIED:20240327T191024Z
UID:5951-1711560600-1711564200@aritonbc.org
SUMMARY:Wednesday Night Meal
DESCRIPTION:
URL:https://aritonbc.org/event/wednesday-night-meal-65/
END:VEVENT
BEGIN:VEVENT
DTSTART;TZID=America/Chicago:20240326T093000
DTEND;TZID=America/Chicago:20240326T110000
DTSTAMP:20260422T213935
CREATED:20240119T220452Z
LAST-MODIFIED:20240126T221950Z
UID:6804-1711445400-1711450800@aritonbc.org
SUMMARY:Women's Bible Study
DESCRIPTION:
URL:https://aritonbc.org/event/womens-bible-study-23/
END:VEVENT
BEGIN:VEVENT
DTSTART;VALUE=DATE:20240326
DTEND;VALUE=DATE:20240327
DTSTAMP:20260422T213935
CREATED:20230711T205046Z
LAST-MODIFIED:20240326T190501Z
UID:5946-1711411200-1711497599@aritonbc.org
SUMMARY:Magazines Out
DESCRIPTION:
URL:https://aritonbc.org/event/magazines-out-16/
END:VEVENT
BEGIN:VEVENT
DTSTART;TZID=America/Chicago:20240324T180000
DTEND;TZID=America/Chicago:20240324T190000
DTSTAMP:20260422T213935
CREATED:20240119T220452Z
LAST-MODIFIED:20240324T190436Z
UID:6803-1711303200-1711306800@aritonbc.org
SUMMARY:Bible Recap Bible Study
DESCRIPTION:
URL:https://aritonbc.org/event/bible-recap-bible-study-10/
END:VEVENT
BEGIN:VEVENT
DTSTART;TZID=America/Chicago:20240324T180000
DTEND;TZID=America/Chicago:20240324T190000
DTSTAMP:20260422T213935
CREATED:20230711T205046Z
LAST-MODIFIED:20230813T183436Z
UID:5944-1711303200-1711306800@aritonbc.org
SUMMARY:Evening Service: In-House
DESCRIPTION:
URL:https://aritonbc.org/event/evening-service-in-house-64/
END:VEVENT
BEGIN:VEVENT
DTSTART;TZID=America/Chicago:20240324T170000
DTEND;TZID=America/Chicago:20240324T180000
DTSTAMP:20260422T213935
CREATED:20240116T214948Z
LAST-MODIFIED:20240324T190436Z
UID:6702-1711299600-1711303200@aritonbc.org
SUMMARY:Discipleship Training
DESCRIPTION:
URL:https://aritonbc.org/event/discipleship-training-107/
END:VEVENT
BEGIN:VEVENT
DTSTART;TZID=America/Chicago:20240324T170000
DTEND;TZID=America/Chicago:20240324T180000
DTSTAMP:20260422T213935
CREATED:20230710T205001Z
LAST-MODIFIED:20240115T214940Z
UID:5939-1711299600-1711303200@aritonbc.org
SUMMARY:Discipleship Training
DESCRIPTION:
URL:https://aritonbc.org/event/discipleship-training-64/
END:VEVENT
BEGIN:VEVENT
DTSTART;TZID=America/Chicago:20240324T110000
DTEND;TZID=America/Chicago:20240324T120000
DTSTAMP:20260422T213935
CREATED:20230710T205001Z
LAST-MODIFIED:20240323T190451Z
UID:5938-1711278000-1711281600@aritonbc.org
SUMMARY:Worship Service In-House & Posted to Facebook Later
DESCRIPTION:
URL:https://aritonbc.org/event/worship-service-in-house-posted-to-facebook-later-65/
END:VEVENT
BEGIN:VEVENT
DTSTART;TZID=America/Chicago:20240324T094500
DTEND;TZID=America/Chicago:20240324T104500
DTSTAMP:20260422T213935
CREATED:20230710T205001Z
LAST-MODIFIED:20240323T190451Z
UID:5937-1711273500-1711277100@aritonbc.org
SUMMARY:In-House Sunday School
DESCRIPTION:Large Group Adult\, Youth\, Children & Toddler SS Classes. Nursery Provided.
URL:https://aritonbc.org/event/in-house-sunday-school-64/
END:VEVENT
BEGIN:VEVENT
DTSTART;TZID=America/Chicago:20240321T110000
DTEND;TZID=America/Chicago:20240321T130000
DTSTAMP:20260422T213935
CREATED:20231105T060540Z
LAST-MODIFIED:20240320T185131Z
UID:6135-1711018800-1711026000@aritonbc.org
SUMMARY:Wonderful Widows Luncheon
DESCRIPTION:
URL:https://aritonbc.org/event/wonderful-widows-luncheon-5/
END:VEVENT
BEGIN:VEVENT
DTSTART;TZID=America/Chicago:20240320T183000
DTEND;TZID=America/Chicago:20240320T193000
DTSTAMP:20260422T213935
CREATED:20230709T205037Z
LAST-MODIFIED:20240320T185131Z
UID:5930-1710959400-1710963000@aritonbc.org
SUMMARY:Wednesday Night Service
DESCRIPTION:Check Ariton Baptist Facebook page for instructions
URL:https://aritonbc.org/event/wednesday-night-service-65/
END:VEVENT
BEGIN:VEVENT
DTSTART;TZID=America/Chicago:20240320T173000
DTEND;TZID=America/Chicago:20240320T183000
DTSTAMP:20260422T213935
CREATED:20230710T205001Z
LAST-MODIFIED:20240320T185131Z
UID:5935-1710955800-1710959400@aritonbc.org
SUMMARY:Wednesday Night Meal
DESCRIPTION:
URL:https://aritonbc.org/event/wednesday-night-meal-64/
END:VEVENT
BEGIN:VEVENT
DTSTART;TZID=America/Chicago:20240320T093000
DTEND;TZID=America/Chicago:20240320T130000
DTSTAMP:20260422T213935
CREATED:20230709T205036Z
LAST-MODIFIED:20240319T185152Z
UID:5929-1710927000-1710939600@aritonbc.org
SUMMARY:BROWN BAG MINISTRY Pick-up
DESCRIPTION:
URL:https://aritonbc.org/event/brown-bag-ministry-pick-up-13/
END:VEVENT
BEGIN:VEVENT
DTSTART;TZID=America/Chicago:20240319T093000
DTEND;TZID=America/Chicago:20240319T110000
DTSTAMP:20260422T213935
CREATED:20240119T220452Z
LAST-MODIFIED:20240126T221949Z
UID:6802-1710840600-1710846000@aritonbc.org
SUMMARY:Women's Bible Study
DESCRIPTION:
URL:https://aritonbc.org/event/womens-bible-study-22/
END:VEVENT
BEGIN:VEVENT
DTSTART;VALUE=DATE:20240319
DTEND;VALUE=DATE:20240320
DTSTAMP:20260422T213935
CREATED:20230708T203450Z
LAST-MODIFIED:20240319T185152Z
UID:5926-1710806400-1710892799@aritonbc.org
SUMMARY:Pack BROWN BAGS after 2PM
DESCRIPTION:
URL:https://aritonbc.org/event/pack-brown-bags-after-2pm-13/
END:VEVENT
BEGIN:VEVENT
DTSTART;TZID=America/Chicago:20240317T180000
DTEND;TZID=America/Chicago:20240317T190000
DTSTAMP:20260422T213935
CREATED:20240119T220452Z
LAST-MODIFIED:20240317T183536Z
UID:6801-1710698400-1710702000@aritonbc.org
SUMMARY:Bible Recap Bible Study
DESCRIPTION:
URL:https://aritonbc.org/event/bible-recap-bible-study-9/
END:VEVENT
BEGIN:VEVENT
DTSTART;TZID=America/Chicago:20240317T180000
DTEND;TZID=America/Chicago:20240317T190000
DTSTAMP:20260422T213935
CREATED:20230707T203442Z
LAST-MODIFIED:20230813T183436Z
UID:5922-1710698400-1710702000@aritonbc.org
SUMMARY:Evening Service: In-House
DESCRIPTION:
URL:https://aritonbc.org/event/evening-service-in-house-63/
END:VEVENT
BEGIN:VEVENT
DTSTART;TZID=America/Chicago:20240317T170000
DTEND;TZID=America/Chicago:20240317T180000
DTSTAMP:20260422T213935
CREATED:20240116T214947Z
LAST-MODIFIED:20240317T183536Z
UID:6701-1710694800-1710698400@aritonbc.org
SUMMARY:Discipleship Training
DESCRIPTION:
URL:https://aritonbc.org/event/discipleship-training-106/
END:VEVENT
END:VCALENDAR