BEGIN:VCALENDAR
VERSION:2.0
PRODID:-//Ariton Baptist Church - ECPv6.15.13.1//NONSGML v1.0//EN
CALSCALE:GREGORIAN
METHOD:PUBLISH
X-WR-CALNAME:Ariton Baptist Church
X-ORIGINAL-URL:https://aritonbc.org
X-WR-CALDESC:Events for Ariton Baptist Church
REFRESH-INTERVAL;VALUE=DURATION:PT1H
X-Robots-Tag:noindex
X-PUBLISHED-TTL:PT1H
BEGIN:VTIMEZONE
TZID:America/Chicago
BEGIN:DAYLIGHT
TZOFFSETFROM:-0600
TZOFFSETTO:-0500
TZNAME:CDT
DTSTART:20250309T080000
END:DAYLIGHT
BEGIN:STANDARD
TZOFFSETFROM:-0500
TZOFFSETTO:-0600
TZNAME:CST
DTSTART:20251102T070000
END:STANDARD
BEGIN:DAYLIGHT
TZOFFSETFROM:-0600
TZOFFSETTO:-0500
TZNAME:CDT
DTSTART:20260308T080000
END:DAYLIGHT
BEGIN:STANDARD
TZOFFSETFROM:-0500
TZOFFSETTO:-0600
TZNAME:CST
DTSTART:20261101T070000
END:STANDARD
BEGIN:DAYLIGHT
TZOFFSETFROM:-0600
TZOFFSETTO:-0500
TZNAME:CDT
DTSTART:20270314T080000
END:DAYLIGHT
BEGIN:STANDARD
TZOFFSETFROM:-0500
TZOFFSETTO:-0600
TZNAME:CST
DTSTART:20271107T070000
END:STANDARD
END:VTIMEZONE
BEGIN:VEVENT
DTSTART;TZID=America/Chicago:20260217T220000
DTEND;TZID=America/Chicago:20260217T230000
DTSTAMP:20260421T120707
CREATED:20251201T185351Z
LAST-MODIFIED:20251201T185351Z
UID:10880-1771365600-1771369200@aritonbc.org
SUMMARY:Post prayer
DESCRIPTION:
URL:https://aritonbc.org/event/post-prayer-79/
END:VEVENT
BEGIN:VEVENT
DTSTART;TZID=America/Chicago:20260217T220000
DTEND;TZID=America/Chicago:20260217T230000
DTSTAMP:20260421T120707
CREATED:20251202T185356Z
LAST-MODIFIED:20251204T185348Z
UID:11021-1771365600-1771369200@aritonbc.org
SUMMARY:Post prayer
DESCRIPTION:
URL:https://aritonbc.org/event/post-prayer-214/
END:VEVENT
BEGIN:VEVENT
DTSTART;TZID=America/Chicago:20260218T093000
DTEND;TZID=America/Chicago:20260218T130000
DTSTAMP:20260421T120707
CREATED:20250526T223910Z
LAST-MODIFIED:20260217T203846Z
UID:9902-1771407000-1771419600@aritonbc.org
SUMMARY:BROWN BAG MINISTRY Pick-up
DESCRIPTION:
URL:https://aritonbc.org/event/brown-bag-ministry-pick-up-36/
END:VEVENT
BEGIN:VEVENT
DTSTART;TZID=America/Chicago:20260218T173000
DTEND;TZID=America/Chicago:20260218T183000
DTSTAMP:20260421T120707
CREATED:20250526T223910Z
LAST-MODIFIED:20250703T180858Z
UID:9904-1771435800-1771439400@aritonbc.org
SUMMARY:Wednesday Night Meal
DESCRIPTION:
URL:https://aritonbc.org/event/wednesday-night-meal-162/
END:VEVENT
BEGIN:VEVENT
DTSTART;TZID=America/Chicago:20260218T173000
DTEND;TZID=America/Chicago:20260218T183000
DTSTAMP:20260421T120707
CREATED:20250707T180906Z
LAST-MODIFIED:20260218T203846Z
UID:10191-1771435800-1771439400@aritonbc.org
SUMMARY:Wednesday Meal
DESCRIPTION:
URL:https://aritonbc.org/event/wednesday-meal-33/
END:VEVENT
BEGIN:VEVENT
DTSTART;TZID=America/Chicago:20260218T183000
DTEND;TZID=America/Chicago:20260218T193000
DTSTAMP:20260421T120707
CREATED:20250526T223910Z
LAST-MODIFIED:20260218T203846Z
UID:9903-1771439400-1771443000@aritonbc.org
SUMMARY:Wednesday Night Service
DESCRIPTION:Check Ariton Baptist Facebook page for instructions
URL:https://aritonbc.org/event/wednesday-night-service-163/
END:VEVENT
BEGIN:VEVENT
DTSTART;TZID=America/Chicago:20260218T220000
DTEND;TZID=America/Chicago:20260218T230000
DTSTAMP:20260421T120707
CREATED:20251201T185351Z
LAST-MODIFIED:20251201T185351Z
UID:10881-1771452000-1771455600@aritonbc.org
SUMMARY:Post prayer
DESCRIPTION:
URL:https://aritonbc.org/event/post-prayer-80/
END:VEVENT
BEGIN:VEVENT
DTSTART;TZID=America/Chicago:20260218T220000
DTEND;TZID=America/Chicago:20260218T230000
DTSTAMP:20260421T120707
CREATED:20251202T185356Z
LAST-MODIFIED:20251204T185348Z
UID:11022-1771452000-1771455600@aritonbc.org
SUMMARY:Post prayer
DESCRIPTION:
URL:https://aritonbc.org/event/post-prayer-215/
END:VEVENT
BEGIN:VEVENT
DTSTART;TZID=America/Chicago:20260219T110000
DTEND;TZID=America/Chicago:20260219T130000
DTSTAMP:20260421T120707
CREATED:20250528T223852Z
LAST-MODIFIED:20260218T203846Z
UID:9910-1771498800-1771506000@aritonbc.org
SUMMARY:Wonderful Widows Luncheon
DESCRIPTION:
URL:https://aritonbc.org/event/wonderful-widows-luncheon-28/
END:VEVENT
BEGIN:VEVENT
DTSTART;TZID=America/Chicago:20260219T220000
DTEND;TZID=America/Chicago:20260219T230000
DTSTAMP:20260421T120707
CREATED:20251201T185351Z
LAST-MODIFIED:20251201T185351Z
UID:10882-1771538400-1771542000@aritonbc.org
SUMMARY:Post prayer
DESCRIPTION:
URL:https://aritonbc.org/event/post-prayer-81/
END:VEVENT
BEGIN:VEVENT
DTSTART;TZID=America/Chicago:20260219T220000
DTEND;TZID=America/Chicago:20260219T230000
DTSTAMP:20260421T120707
CREATED:20251202T185356Z
LAST-MODIFIED:20251204T185348Z
UID:11023-1771538400-1771542000@aritonbc.org
SUMMARY:Post prayer
DESCRIPTION:
URL:https://aritonbc.org/event/post-prayer-216/
END:VEVENT
BEGIN:VEVENT
DTSTART;TZID=America/Chicago:20260220T220000
DTEND;TZID=America/Chicago:20260220T230000
DTSTAMP:20260421T120707
CREATED:20251201T185351Z
LAST-MODIFIED:20251201T185351Z
UID:10883-1771624800-1771628400@aritonbc.org
SUMMARY:Post prayer
DESCRIPTION:
URL:https://aritonbc.org/event/post-prayer-82/
END:VEVENT
BEGIN:VEVENT
DTSTART;TZID=America/Chicago:20260220T220000
DTEND;TZID=America/Chicago:20260220T230000
DTSTAMP:20260421T120707
CREATED:20251202T185356Z
LAST-MODIFIED:20251204T185348Z
UID:11024-1771624800-1771628400@aritonbc.org
SUMMARY:Post prayer
DESCRIPTION:
URL:https://aritonbc.org/event/post-prayer-217/
END:VEVENT
BEGIN:VEVENT
DTSTART;TZID=America/Chicago:20260221T220000
DTEND;TZID=America/Chicago:20260221T230000
DTSTAMP:20260421T120707
CREATED:20251201T185351Z
LAST-MODIFIED:20251201T185351Z
UID:10884-1771711200-1771714800@aritonbc.org
SUMMARY:Post prayer
DESCRIPTION:
URL:https://aritonbc.org/event/post-prayer-83/
END:VEVENT
BEGIN:VEVENT
DTSTART;TZID=America/Chicago:20260221T220000
DTEND;TZID=America/Chicago:20260221T230000
DTSTAMP:20260421T120707
CREATED:20251202T185356Z
LAST-MODIFIED:20251204T185348Z
UID:11025-1771711200-1771714800@aritonbc.org
SUMMARY:Post prayer
DESCRIPTION:
URL:https://aritonbc.org/event/post-prayer-218/
END:VEVENT
BEGIN:VEVENT
DTSTART;TZID=America/Chicago:20260222T094500
DTEND;TZID=America/Chicago:20260222T104500
DTSTAMP:20260421T120707
CREATED:20250529T223923Z
LAST-MODIFIED:20260221T203848Z
UID:9913-1771753500-1771757100@aritonbc.org
SUMMARY:In-House Sunday School
DESCRIPTION:Large Group Adult\, Youth\, Children & Toddler SS Classes. Nursery Provided.
URL:https://aritonbc.org/event/in-house-sunday-school-164/
END:VEVENT
BEGIN:VEVENT
DTSTART;TZID=America/Chicago:20260222T110000
DTEND;TZID=America/Chicago:20260222T120000
DTSTAMP:20260421T120707
CREATED:20250529T223923Z
LAST-MODIFIED:20260221T203848Z
UID:9914-1771758000-1771761600@aritonbc.org
SUMMARY:Worship Service In-House & Posted to Facebook Later
DESCRIPTION:
URL:https://aritonbc.org/event/worship-service-in-house-posted-to-facebook-later-165/
END:VEVENT
BEGIN:VEVENT
DTSTART;TZID=America/Chicago:20260222T140000
DTEND;TZID=America/Chicago:20260222T160000
DTSTAMP:20260421T120707
CREATED:20260126T192353Z
LAST-MODIFIED:20260222T205349Z
UID:11546-1771768800-1771776000@aritonbc.org
SUMMARY:Bridal Shower-Avery Zubaly
DESCRIPTION:
URL:https://aritonbc.org/event/bridal-shower-avery-zubaly/
END:VEVENT
BEGIN:VEVENT
DTSTART;TZID=America/Chicago:20260222T170000
DTEND;TZID=America/Chicago:20260222T180000
DTSTAMP:20260421T120707
CREATED:20250531T224004Z
LAST-MODIFIED:20260125T192348Z
UID:9919-1771779600-1771783200@aritonbc.org
SUMMARY:Bible Recap Bible Study
DESCRIPTION:
URL:https://aritonbc.org/event/bible-recap-bible-study-162/
END:VEVENT
BEGIN:VEVENT
DTSTART;TZID=America/Chicago:20260222T180000
DTEND;TZID=America/Chicago:20260222T190000
DTSTAMP:20260421T120707
CREATED:20250601T225409Z
LAST-MODIFIED:20260222T205349Z
UID:9926-1771783200-1771786800@aritonbc.org
SUMMARY:Sunday Evening Service
DESCRIPTION:
URL:https://aritonbc.org/event/sunday-evening-service-59/
END:VEVENT
BEGIN:VEVENT
DTSTART;TZID=America/Chicago:20260222T220000
DTEND;TZID=America/Chicago:20260222T230000
DTSTAMP:20260421T120707
CREATED:20251201T185352Z
LAST-MODIFIED:20251201T185352Z
UID:10885-1771797600-1771801200@aritonbc.org
SUMMARY:Post prayer
DESCRIPTION:
URL:https://aritonbc.org/event/post-prayer-84/
END:VEVENT
BEGIN:VEVENT
DTSTART;TZID=America/Chicago:20260222T220000
DTEND;TZID=America/Chicago:20260222T230000
DTSTAMP:20260421T120707
CREATED:20251202T185356Z
LAST-MODIFIED:20251204T185348Z
UID:11026-1771797600-1771801200@aritonbc.org
SUMMARY:Post prayer
DESCRIPTION:
URL:https://aritonbc.org/event/post-prayer-219/
END:VEVENT
BEGIN:VEVENT
DTSTART;TZID=America/Chicago:20260223T220000
DTEND;TZID=America/Chicago:20260223T230000
DTSTAMP:20260421T120707
CREATED:20251201T185352Z
LAST-MODIFIED:20251201T185352Z
UID:10886-1771884000-1771887600@aritonbc.org
SUMMARY:Post prayer
DESCRIPTION:
URL:https://aritonbc.org/event/post-prayer-85/
END:VEVENT
BEGIN:VEVENT
DTSTART;TZID=America/Chicago:20260223T220000
DTEND;TZID=America/Chicago:20260223T230000
DTSTAMP:20260421T120707
CREATED:20251202T185356Z
LAST-MODIFIED:20251204T185348Z
UID:11027-1771884000-1771887600@aritonbc.org
SUMMARY:Post prayer
DESCRIPTION:
URL:https://aritonbc.org/event/post-prayer-220/
END:VEVENT
BEGIN:VEVENT
DTSTART;VALUE=DATE:20260224
DTEND;VALUE=DATE:20260225
DTSTAMP:20260421T120707
CREATED:20250601T225409Z
LAST-MODIFIED:20260224T205347Z
UID:9927-1771891200-1771977599@aritonbc.org
SUMMARY:Magazines Out
DESCRIPTION:
URL:https://aritonbc.org/event/magazines-out-39/
END:VEVENT
BEGIN:VEVENT
DTSTART;TZID=America/Chicago:20260224T220000
DTEND;TZID=America/Chicago:20260224T230000
DTSTAMP:20260421T120707
CREATED:20251201T185352Z
LAST-MODIFIED:20251201T185352Z
UID:10887-1771970400-1771974000@aritonbc.org
SUMMARY:Post prayer
DESCRIPTION:
URL:https://aritonbc.org/event/post-prayer-86/
END:VEVENT
BEGIN:VEVENT
DTSTART;TZID=America/Chicago:20260224T220000
DTEND;TZID=America/Chicago:20260224T230000
DTSTAMP:20260421T120707
CREATED:20251202T185356Z
LAST-MODIFIED:20251204T185348Z
UID:11028-1771970400-1771974000@aritonbc.org
SUMMARY:Post prayer
DESCRIPTION:
URL:https://aritonbc.org/event/post-prayer-221/
END:VEVENT
BEGIN:VEVENT
DTSTART;TZID=America/Chicago:20260225T173000
DTEND;TZID=America/Chicago:20260225T183000
DTSTAMP:20260421T120707
CREATED:20250601T225409Z
LAST-MODIFIED:20250703T180858Z
UID:9928-1772040600-1772044200@aritonbc.org
SUMMARY:Wednesday Night Meal
DESCRIPTION:
URL:https://aritonbc.org/event/wednesday-night-meal-163/
END:VEVENT
BEGIN:VEVENT
DTSTART;TZID=America/Chicago:20260225T173000
DTEND;TZID=America/Chicago:20260225T183000
DTSTAMP:20260421T120707
CREATED:20250707T180906Z
LAST-MODIFIED:20260225T205355Z
UID:10192-1772040600-1772044200@aritonbc.org
SUMMARY:Wednesday Meal
DESCRIPTION:
URL:https://aritonbc.org/event/wednesday-meal-34/
END:VEVENT
BEGIN:VEVENT
DTSTART;TZID=America/Chicago:20260225T183000
DTEND;TZID=America/Chicago:20260225T193000
DTSTAMP:20260421T120707
CREATED:20250602T225354Z
LAST-MODIFIED:20260225T205355Z
UID:9933-1772044200-1772047800@aritonbc.org
SUMMARY:Wednesday Night Service
DESCRIPTION:Check Ariton Baptist Facebook page for instructions
URL:https://aritonbc.org/event/wednesday-night-service-164/
END:VEVENT
END:VCALENDAR