BEGIN:VCALENDAR
VERSION:2.0
PRODID:-//Ariton Baptist Church - ECPv6.15.13.1//NONSGML v1.0//EN
CALSCALE:GREGORIAN
METHOD:PUBLISH
X-WR-CALNAME:Ariton Baptist Church
X-ORIGINAL-URL:https://aritonbc.org
X-WR-CALDESC:Events for Ariton Baptist Church
REFRESH-INTERVAL;VALUE=DURATION:PT1H
X-Robots-Tag:noindex
X-PUBLISHED-TTL:PT1H
BEGIN:VTIMEZONE
TZID:America/Chicago
BEGIN:DAYLIGHT
TZOFFSETFROM:-0600
TZOFFSETTO:-0500
TZNAME:CDT
DTSTART:20230312T080000
END:DAYLIGHT
BEGIN:STANDARD
TZOFFSETFROM:-0500
TZOFFSETTO:-0600
TZNAME:CST
DTSTART:20231105T070000
END:STANDARD
BEGIN:DAYLIGHT
TZOFFSETFROM:-0600
TZOFFSETTO:-0500
TZNAME:CDT
DTSTART:20240310T080000
END:DAYLIGHT
BEGIN:STANDARD
TZOFFSETFROM:-0500
TZOFFSETTO:-0600
TZNAME:CST
DTSTART:20241103T070000
END:STANDARD
BEGIN:DAYLIGHT
TZOFFSETFROM:-0600
TZOFFSETTO:-0500
TZNAME:CDT
DTSTART:20250309T080000
END:DAYLIGHT
BEGIN:STANDARD
TZOFFSETFROM:-0500
TZOFFSETTO:-0600
TZNAME:CST
DTSTART:20251102T070000
END:STANDARD
END:VTIMEZONE
BEGIN:VEVENT
DTSTART;TZID=America/Chicago:20240417T183000
DTEND;TZID=America/Chicago:20240417T193000
DTSTAMP:20260422T165128
CREATED:20230727T181954Z
LAST-MODIFIED:20240417T200651Z
UID:6017-1713378600-1713382200@aritonbc.org
SUMMARY:Wednesday Night Service
DESCRIPTION:Check Ariton Baptist Facebook page for instructions
URL:https://aritonbc.org/event/wednesday-night-service-69/
END:VEVENT
BEGIN:VEVENT
DTSTART;TZID=America/Chicago:20240417T180000
DTEND;TZID=America/Chicago:20240417T193000
DTSTAMP:20260422T165128
CREATED:20240319T185153Z
LAST-MODIFIED:20240417T200651Z
UID:7706-1713376800-1713382200@aritonbc.org
SUMMARY:Vertical Marriage
DESCRIPTION:
URL:https://aritonbc.org/event/vertical-marriage/
END:VEVENT
BEGIN:VEVENT
DTSTART;TZID=America/Chicago:20240417T173000
DTEND;TZID=America/Chicago:20240417T183000
DTSTAMP:20260422T165128
CREATED:20230730T181937Z
LAST-MODIFIED:20240417T200651Z
UID:6025-1713375000-1713378600@aritonbc.org
SUMMARY:Wednesday Night Meal
DESCRIPTION:
URL:https://aritonbc.org/event/wednesday-night-meal-68/
END:VEVENT
BEGIN:VEVENT
DTSTART;TZID=America/Chicago:20240417T093000
DTEND;TZID=America/Chicago:20240417T130000
DTSTAMP:20260422T165128
CREATED:20230727T181954Z
LAST-MODIFIED:20240416T200457Z
UID:6016-1713346200-1713358800@aritonbc.org
SUMMARY:BROWN BAG MINISTRY Pick-up
DESCRIPTION:
URL:https://aritonbc.org/event/brown-bag-ministry-pick-up-14/
END:VEVENT
BEGIN:VEVENT
DTSTART;VALUE=DATE:20240417
DTEND;VALUE=DATE:20240418
DTSTAMP:20260422T165128
CREATED:20230727T181954Z
LAST-MODIFIED:20240417T200651Z
UID:6018-1713312000-1713398399@aritonbc.org
SUMMARY:Finance Committee Meeting
DESCRIPTION:
URL:https://aritonbc.org/event/finance-committee-meeting-7/
END:VEVENT
BEGIN:VEVENT
DTSTART;TZID=America/Chicago:20240416T093000
DTEND;TZID=America/Chicago:20240416T110000
DTSTAMP:20260422T165128
CREATED:20240119T220453Z
LAST-MODIFIED:20240126T221950Z
UID:6810-1713259800-1713265200@aritonbc.org
SUMMARY:Women's Bible Study
DESCRIPTION:
URL:https://aritonbc.org/event/womens-bible-study-26/
END:VEVENT
BEGIN:VEVENT
DTSTART;VALUE=DATE:20240416
DTEND;VALUE=DATE:20240417
DTSTAMP:20260422T165128
CREATED:20230726T180531Z
LAST-MODIFIED:20240416T200457Z
UID:6013-1713225600-1713311999@aritonbc.org
SUMMARY:Pack BROWN BAGS after 2PM
DESCRIPTION:
URL:https://aritonbc.org/event/pack-brown-bags-after-2pm-14/
END:VEVENT
BEGIN:VEVENT
DTSTART;VALUE=DATE:20240415
DTEND;VALUE=DATE:20240416
DTSTAMP:20260422T165128
CREATED:20240405T195030Z
LAST-MODIFIED:20240415T195802Z
UID:7829-1713139200-1713225599@aritonbc.org
SUMMARY:Tax Day
DESCRIPTION:
URL:https://aritonbc.org/event/tax-day-2/
END:VEVENT
BEGIN:VEVENT
DTSTART;TZID=America/Chicago:20240414T180000
DTEND;TZID=America/Chicago:20240414T190000
DTSTAMP:20260422T165128
CREATED:20240119T220453Z
LAST-MODIFIED:20240414T195127Z
UID:6809-1713117600-1713121200@aritonbc.org
SUMMARY:Bible Recap Bible Study
DESCRIPTION:
URL:https://aritonbc.org/event/bible-recap-bible-study-13/
END:VEVENT
BEGIN:VEVENT
DTSTART;TZID=America/Chicago:20240414T180000
DTEND;TZID=America/Chicago:20240414T190000
DTSTAMP:20260422T165128
CREATED:20230724T175014Z
LAST-MODIFIED:20230813T183436Z
UID:6007-1713117600-1713121200@aritonbc.org
SUMMARY:Evening Service: In-House
DESCRIPTION:
URL:https://aritonbc.org/event/evening-service-in-house-67/
END:VEVENT
BEGIN:VEVENT
DTSTART;TZID=America/Chicago:20240414T170000
DTEND;TZID=America/Chicago:20240414T190000
DTSTAMP:20260422T165128
CREATED:20240405T195030Z
LAST-MODIFIED:20240414T195127Z
UID:7830-1713114000-1713121200@aritonbc.org
SUMMARY:Teen Girls Bible Study-Etheredge Home
DESCRIPTION:Dinner is provided.
URL:https://aritonbc.org/event/teen-girls-bible-study-etheredge-home-2/
END:VEVENT
BEGIN:VEVENT
DTSTART;TZID=America/Chicago:20240414T170000
DTEND;TZID=America/Chicago:20240414T190000
DTSTAMP:20260422T165128
CREATED:20240329T192146Z
LAST-MODIFIED:20240404T193545Z
UID:7747-1713114000-1713121200@aritonbc.org
SUMMARY:Teen Girl Bible Study-Etheredges
DESCRIPTION:Dinner is provided.
URL:https://aritonbc.org/event/teen-girl-bible-study-etheredges-2/
END:VEVENT
BEGIN:VEVENT
DTSTART;TZID=America/Chicago:20240414T170000
DTEND;TZID=America/Chicago:20240414T180000
DTSTAMP:20260422T165128
CREATED:20240116T214948Z
LAST-MODIFIED:20240414T195127Z
UID:6705-1713114000-1713117600@aritonbc.org
SUMMARY:Discipleship Training
DESCRIPTION:
URL:https://aritonbc.org/event/discipleship-training-110/
END:VEVENT
BEGIN:VEVENT
DTSTART;TZID=America/Chicago:20240414T170000
DTEND;TZID=America/Chicago:20240414T180000
DTSTAMP:20260422T165128
CREATED:20230724T175014Z
LAST-MODIFIED:20240115T214940Z
UID:6008-1713114000-1713117600@aritonbc.org
SUMMARY:Discipleship Training
DESCRIPTION:
URL:https://aritonbc.org/event/discipleship-training-67/
END:VEVENT
BEGIN:VEVENT
DTSTART;TZID=America/Chicago:20240414T140000
DTEND;TZID=America/Chicago:20240414T160000
DTSTAMP:20260422T165128
CREATED:20240404T193545Z
LAST-MODIFIED:20240414T195127Z
UID:7804-1713103200-1713110400@aritonbc.org
SUMMARY:Church Reserved
DESCRIPTION:
URL:https://aritonbc.org/event/church-reserved-3/
END:VEVENT
BEGIN:VEVENT
DTSTART;TZID=America/Chicago:20240414T110000
DTEND;TZID=America/Chicago:20240414T120000
DTSTAMP:20260422T165128
CREATED:20230723T174954Z
LAST-MODIFIED:20240413T194954Z
UID:5999-1713092400-1713096000@aritonbc.org
SUMMARY:Worship Service In-House & Posted to Facebook Later
DESCRIPTION:
URL:https://aritonbc.org/event/worship-service-in-house-posted-to-facebook-later-68/
END:VEVENT
BEGIN:VEVENT
DTSTART;TZID=America/Chicago:20240414T094500
DTEND;TZID=America/Chicago:20240414T104500
DTSTAMP:20260422T165128
CREATED:20230723T174954Z
LAST-MODIFIED:20240413T194954Z
UID:5998-1713087900-1713091500@aritonbc.org
SUMMARY:In-House Sunday School
DESCRIPTION:Large Group Adult\, Youth\, Children & Toddler SS Classes. Nursery Provided.
URL:https://aritonbc.org/event/in-house-sunday-school-67/
END:VEVENT
BEGIN:VEVENT
DTSTART;TZID=America/Chicago:20240414T080000
DTEND;TZID=America/Chicago:20240414T090000
DTSTAMP:20260422T165128
CREATED:20240109T214944Z
LAST-MODIFIED:20240413T194954Z
UID:6645-1713081600-1713085200@aritonbc.org
SUMMARY:Brotherhood Breakfast
DESCRIPTION:
URL:https://aritonbc.org/event/brotherhood-breakfast-26/
END:VEVENT
BEGIN:VEVENT
DTSTART;TZID=America/Chicago:20240414T080000
DTEND;TZID=America/Chicago:20240414T090000
DTSTAMP:20260422T165128
CREATED:20230721T175039Z
LAST-MODIFIED:20240108T215017Z
UID:5994-1713081600-1713085200@aritonbc.org
SUMMARY:Brotherhood Breakfast
DESCRIPTION:
URL:https://aritonbc.org/event/brotherhood-breakfast-16/
END:VEVENT
BEGIN:VEVENT
DTSTART;VALUE=DATE:20240413
DTEND;VALUE=DATE:20240414
DTSTAMP:20260422T165128
CREATED:20240206T235012Z
LAST-MODIFIED:20240413T194953Z
UID:7568-1712966400-1713052799@aritonbc.org
SUMMARY:Church reserved
DESCRIPTION:
URL:https://aritonbc.org/event/church-reserved-2/
END:VEVENT
BEGIN:VEVENT
DTSTART;TZID=America/Chicago:20240410T183000
DTEND;TZID=America/Chicago:20240410T193000
DTSTAMP:20260422T165128
CREATED:20230720T174951Z
LAST-MODIFIED:20240410T194937Z
UID:5987-1712773800-1712777400@aritonbc.org
SUMMARY:Wednesday Night Service
DESCRIPTION:Check Ariton Baptist Facebook page for instructions
URL:https://aritonbc.org/event/wednesday-night-service-68/
END:VEVENT
BEGIN:VEVENT
DTSTART;TZID=America/Chicago:20240410T173000
DTEND;TZID=America/Chicago:20240410T183000
DTSTAMP:20260422T165128
CREATED:20230720T174951Z
LAST-MODIFIED:20240410T194937Z
UID:5988-1712770200-1712773800@aritonbc.org
SUMMARY:Wednesday Night Meal
DESCRIPTION:
URL:https://aritonbc.org/event/wednesday-night-meal-67/
END:VEVENT
BEGIN:VEVENT
DTSTART;TZID=America/Chicago:20240409T093000
DTEND;TZID=America/Chicago:20240409T110000
DTSTAMP:20260422T165128
CREATED:20240119T220453Z
LAST-MODIFIED:20240126T221950Z
UID:6808-1712655000-1712660400@aritonbc.org
SUMMARY:Women's Bible Study
DESCRIPTION:
URL:https://aritonbc.org/event/womens-bible-study-25/
END:VEVENT
BEGIN:VEVENT
DTSTART;TZID=America/Chicago:20240407T180000
DTEND;TZID=America/Chicago:20240407T190000
DTSTAMP:20260422T165128
CREATED:20240119T220453Z
LAST-MODIFIED:20240407T194949Z
UID:6807-1712512800-1712516400@aritonbc.org
SUMMARY:Bible Recap Bible Study
DESCRIPTION:
URL:https://aritonbc.org/event/bible-recap-bible-study-12/
END:VEVENT
BEGIN:VEVENT
DTSTART;TZID=America/Chicago:20240407T180000
DTEND;TZID=America/Chicago:20240407T190000
DTSTAMP:20260422T165128
CREATED:20230720T174951Z
LAST-MODIFIED:20230813T183436Z
UID:5985-1712512800-1712516400@aritonbc.org
SUMMARY:Evening Service: In-House
DESCRIPTION:
URL:https://aritonbc.org/event/evening-service-in-house-66/
END:VEVENT
BEGIN:VEVENT
DTSTART;TZID=America/Chicago:20240407T170000
DTEND;TZID=America/Chicago:20240407T190000
DTSTAMP:20260422T165128
CREATED:20240405T195030Z
LAST-MODIFIED:20240407T194949Z
UID:7827-1712509200-1712516400@aritonbc.org
SUMMARY:Teen Girls Bible Study-Etheredge Home
DESCRIPTION:Dinner is provided.
URL:https://aritonbc.org/event/teen-girls-bible-study-etheredge-home/
END:VEVENT
BEGIN:VEVENT
DTSTART;TZID=America/Chicago:20240407T170000
DTEND;TZID=America/Chicago:20240407T190000
DTSTAMP:20260422T165128
CREATED:20240329T192145Z
LAST-MODIFIED:20240404T193546Z
UID:7746-1712509200-1712516400@aritonbc.org
SUMMARY:Teen Girl Bible Study-Etheredges
DESCRIPTION:Dinner is provided.
URL:https://aritonbc.org/event/teen-girl-bible-study-etheredges/
END:VEVENT
BEGIN:VEVENT
DTSTART;TZID=America/Chicago:20240407T170000
DTEND;TZID=America/Chicago:20240407T180000
DTSTAMP:20260422T165128
CREATED:20240116T214948Z
LAST-MODIFIED:20240407T194949Z
UID:6704-1712509200-1712512800@aritonbc.org
SUMMARY:Discipleship Training
DESCRIPTION:
URL:https://aritonbc.org/event/discipleship-training-109/
END:VEVENT
BEGIN:VEVENT
DTSTART;TZID=America/Chicago:20240407T170000
DTEND;TZID=America/Chicago:20240407T180000
DTSTAMP:20260422T165128
CREATED:20230720T174951Z
LAST-MODIFIED:20240115T214940Z
UID:5986-1712509200-1712512800@aritonbc.org
SUMMARY:Discipleship Training
DESCRIPTION:
URL:https://aritonbc.org/event/discipleship-training-66/
END:VEVENT
BEGIN:VEVENT
DTSTART;TZID=America/Chicago:20240407T110000
DTEND;TZID=America/Chicago:20240407T120000
DTSTAMP:20260422T165128
CREATED:20230719T173450Z
LAST-MODIFIED:20240406T195049Z
UID:5982-1712487600-1712491200@aritonbc.org
SUMMARY:Worship Service In-House & Posted to Facebook Later
DESCRIPTION:
URL:https://aritonbc.org/event/worship-service-in-house-posted-to-facebook-later-67/
END:VEVENT
END:VCALENDAR