BEGIN:VCALENDAR
VERSION:2.0
PRODID:-//Ariton Baptist Church - ECPv6.15.13.1//NONSGML v1.0//EN
CALSCALE:GREGORIAN
METHOD:PUBLISH
X-ORIGINAL-URL:https://aritonbc.org
X-WR-CALDESC:Events for Ariton Baptist Church
REFRESH-INTERVAL;VALUE=DURATION:PT1H
X-Robots-Tag:noindex
X-PUBLISHED-TTL:PT1H
BEGIN:VTIMEZONE
TZID:America/Chicago
BEGIN:DAYLIGHT
TZOFFSETFROM:-0600
TZOFFSETTO:-0500
TZNAME:CDT
DTSTART:20250309T080000
END:DAYLIGHT
BEGIN:STANDARD
TZOFFSETFROM:-0500
TZOFFSETTO:-0600
TZNAME:CST
DTSTART:20251102T070000
END:STANDARD
BEGIN:DAYLIGHT
TZOFFSETFROM:-0600
TZOFFSETTO:-0500
TZNAME:CDT
DTSTART:20260308T080000
END:DAYLIGHT
BEGIN:STANDARD
TZOFFSETFROM:-0500
TZOFFSETTO:-0600
TZNAME:CST
DTSTART:20261101T070000
END:STANDARD
BEGIN:DAYLIGHT
TZOFFSETFROM:-0600
TZOFFSETTO:-0500
TZNAME:CDT
DTSTART:20270314T080000
END:DAYLIGHT
BEGIN:STANDARD
TZOFFSETFROM:-0500
TZOFFSETTO:-0600
TZNAME:CST
DTSTART:20271107T070000
END:STANDARD
END:VTIMEZONE
BEGIN:VEVENT
DTSTART;TZID=America/Chicago:20260109T220000
DTEND;TZID=America/Chicago:20260109T230000
DTSTAMP:20260420T220002
CREATED:20251201T185348Z
LAST-MODIFIED:20251201T185348Z
UID:10841-1767996000-1767999600@aritonbc.org
SUMMARY:Post prayer
DESCRIPTION:
URL:https://aritonbc.org/event/post-prayer-40/
END:VEVENT
BEGIN:VEVENT
DTSTART;TZID=America/Chicago:20260109T220000
DTEND;TZID=America/Chicago:20260109T230000
DTSTAMP:20260420T220002
CREATED:20251202T185352Z
LAST-MODIFIED:20251204T185345Z
UID:10982-1767996000-1767999600@aritonbc.org
SUMMARY:Post prayer
DESCRIPTION:
URL:https://aritonbc.org/event/post-prayer-175/
END:VEVENT
BEGIN:VEVENT
DTSTART;TZID=America/Chicago:20260110T180000
DTEND;TZID=America/Chicago:20260110T190000
DTSTAMP:20260420T220002
CREATED:20251205T185346Z
LAST-MODIFIED:20260110T185347Z
UID:11229-1768068000-1768071600@aritonbc.org
SUMMARY:Deacons & Wives Dinner
DESCRIPTION:
URL:https://aritonbc.org/event/deacons-wives-dinner/
END:VEVENT
BEGIN:VEVENT
DTSTART;TZID=America/Chicago:20260110T220000
DTEND;TZID=America/Chicago:20260110T230000
DTSTAMP:20260420T220002
CREATED:20251201T185348Z
LAST-MODIFIED:20251201T185348Z
UID:10842-1768082400-1768086000@aritonbc.org
SUMMARY:Post prayer
DESCRIPTION:
URL:https://aritonbc.org/event/post-prayer-41/
END:VEVENT
BEGIN:VEVENT
DTSTART;TZID=America/Chicago:20260110T220000
DTEND;TZID=America/Chicago:20260110T230000
DTSTAMP:20260420T220002
CREATED:20251202T185352Z
LAST-MODIFIED:20251204T185345Z
UID:10983-1768082400-1768086000@aritonbc.org
SUMMARY:Post prayer
DESCRIPTION:
URL:https://aritonbc.org/event/post-prayer-176/
END:VEVENT
BEGIN:VEVENT
DTSTART;TZID=America/Chicago:20260111T080000
DTEND;TZID=America/Chicago:20260111T090000
DTSTAMP:20260420T220002
CREATED:20250424T215425Z
LAST-MODIFIED:20260110T185347Z
UID:9713-1768118400-1768122000@aritonbc.org
SUMMARY:Brotherhood Breakfast
DESCRIPTION:
URL:https://aritonbc.org/event/brotherhood-breakfast-48/
END:VEVENT
BEGIN:VEVENT
DTSTART;TZID=America/Chicago:20260111T094500
DTEND;TZID=America/Chicago:20260111T104500
DTSTAMP:20260420T220002
CREATED:20250424T215425Z
LAST-MODIFIED:20260110T185347Z
UID:9714-1768124700-1768128300@aritonbc.org
SUMMARY:In-House Sunday School
DESCRIPTION:Large Group Adult\, Youth\, Children & Toddler SS Classes. Nursery Provided.
URL:https://aritonbc.org/event/in-house-sunday-school-158/
END:VEVENT
BEGIN:VEVENT
DTSTART;TZID=America/Chicago:20260111T110000
DTEND;TZID=America/Chicago:20260111T120000
DTSTAMP:20260420T220002
CREATED:20250424T215425Z
LAST-MODIFIED:20260110T185347Z
UID:9715-1768129200-1768132800@aritonbc.org
SUMMARY:Worship Service In-House & Posted to Facebook Later
DESCRIPTION:
URL:https://aritonbc.org/event/worship-service-in-house-posted-to-facebook-later-159/
END:VEVENT
BEGIN:VEVENT
DTSTART;TZID=America/Chicago:20260111T140000
DTEND;TZID=America/Chicago:20260111T150000
DTSTAMP:20260420T220002
CREATED:20251205T185346Z
LAST-MODIFIED:20260111T190845Z
UID:11230-1768140000-1768143600@aritonbc.org
SUMMARY:Rec department
DESCRIPTION:
URL:https://aritonbc.org/event/rec-department/
END:VEVENT
BEGIN:VEVENT
DTSTART;TZID=America/Chicago:20260111T170000
DTEND;TZID=America/Chicago:20260111T180000
DTSTAMP:20260420T220002
CREATED:20250427T215422Z
LAST-MODIFIED:20260111T190845Z
UID:9732-1768150800-1768154400@aritonbc.org
SUMMARY:Bible Recap Bible Study
DESCRIPTION:
URL:https://aritonbc.org/event/bible-recap-bible-study-156/
END:VEVENT
BEGIN:VEVENT
DTSTART;TZID=America/Chicago:20260111T180000
DTEND;TZID=America/Chicago:20260111T190000
DTSTAMP:20260420T220002
CREATED:20250427T215422Z
LAST-MODIFIED:20260111T190845Z
UID:9733-1768154400-1768158000@aritonbc.org
SUMMARY:Sunday Evening Service
DESCRIPTION:
URL:https://aritonbc.org/event/sunday-evening-service-53/
END:VEVENT
BEGIN:VEVENT
DTSTART;TZID=America/Chicago:20260111T220000
DTEND;TZID=America/Chicago:20260111T230000
DTSTAMP:20260420T220002
CREATED:20251201T185348Z
LAST-MODIFIED:20251201T185348Z
UID:10843-1768168800-1768172400@aritonbc.org
SUMMARY:Post prayer
DESCRIPTION:
URL:https://aritonbc.org/event/post-prayer-42/
END:VEVENT
BEGIN:VEVENT
DTSTART;TZID=America/Chicago:20260111T220000
DTEND;TZID=America/Chicago:20260111T230000
DTSTAMP:20260420T220002
CREATED:20251202T185352Z
LAST-MODIFIED:20251204T185346Z
UID:10984-1768168800-1768172400@aritonbc.org
SUMMARY:Post prayer
DESCRIPTION:
URL:https://aritonbc.org/event/post-prayer-177/
END:VEVENT
BEGIN:VEVENT
DTSTART;TZID=America/Chicago:20260112T220000
DTEND;TZID=America/Chicago:20260112T230000
DTSTAMP:20260420T220002
CREATED:20251201T185349Z
LAST-MODIFIED:20251201T185349Z
UID:10844-1768255200-1768258800@aritonbc.org
SUMMARY:Post prayer
DESCRIPTION:
URL:https://aritonbc.org/event/post-prayer-43/
END:VEVENT
BEGIN:VEVENT
DTSTART;TZID=America/Chicago:20260112T220000
DTEND;TZID=America/Chicago:20260112T230000
DTSTAMP:20260420T220002
CREATED:20251202T185352Z
LAST-MODIFIED:20251204T185346Z
UID:10985-1768255200-1768258800@aritonbc.org
SUMMARY:Post prayer
DESCRIPTION:
URL:https://aritonbc.org/event/post-prayer-178/
END:VEVENT
BEGIN:VEVENT
DTSTART;TZID=America/Chicago:20260113T220000
DTEND;TZID=America/Chicago:20260113T230000
DTSTAMP:20260420T220002
CREATED:20251201T185349Z
LAST-MODIFIED:20251201T185349Z
UID:10845-1768341600-1768345200@aritonbc.org
SUMMARY:Post prayer
DESCRIPTION:
URL:https://aritonbc.org/event/post-prayer-44/
END:VEVENT
BEGIN:VEVENT
DTSTART;TZID=America/Chicago:20260113T220000
DTEND;TZID=America/Chicago:20260113T230000
DTSTAMP:20260420T220002
CREATED:20251202T185352Z
LAST-MODIFIED:20251204T185346Z
UID:10986-1768341600-1768345200@aritonbc.org
SUMMARY:Post prayer
DESCRIPTION:
URL:https://aritonbc.org/event/post-prayer-179/
END:VEVENT
BEGIN:VEVENT
DTSTART;TZID=America/Chicago:20260114T173000
DTEND;TZID=America/Chicago:20260114T183000
DTSTAMP:20260420T220002
CREATED:20250428T215459Z
LAST-MODIFIED:20250703T180857Z
UID:9737-1768411800-1768415400@aritonbc.org
SUMMARY:Wednesday Night Meal
DESCRIPTION:
URL:https://aritonbc.org/event/wednesday-night-meal-157/
END:VEVENT
BEGIN:VEVENT
DTSTART;TZID=America/Chicago:20260114T173000
DTEND;TZID=America/Chicago:20260114T183000
DTSTAMP:20260420T220002
CREATED:20250707T180905Z
LAST-MODIFIED:20260114T190853Z
UID:10186-1768411800-1768415400@aritonbc.org
SUMMARY:Wednesday Meal
DESCRIPTION:
URL:https://aritonbc.org/event/wednesday-meal-28/
END:VEVENT
BEGIN:VEVENT
DTSTART;TZID=America/Chicago:20260114T183000
DTEND;TZID=America/Chicago:20260114T193000
DTSTAMP:20260420T220002
CREATED:20250428T215459Z
LAST-MODIFIED:20260114T190853Z
UID:9738-1768415400-1768419000@aritonbc.org
SUMMARY:Wednesday Night Service
DESCRIPTION:Check Ariton Baptist Facebook page for instructions
URL:https://aritonbc.org/event/wednesday-night-service-158/
END:VEVENT
BEGIN:VEVENT
DTSTART;TZID=America/Chicago:20260114T220000
DTEND;TZID=America/Chicago:20260114T230000
DTSTAMP:20260420T220002
CREATED:20251201T185349Z
LAST-MODIFIED:20251201T185349Z
UID:10846-1768428000-1768431600@aritonbc.org
SUMMARY:Post prayer
DESCRIPTION:
URL:https://aritonbc.org/event/post-prayer-45/
END:VEVENT
BEGIN:VEVENT
DTSTART;TZID=America/Chicago:20260114T220000
DTEND;TZID=America/Chicago:20260114T230000
DTSTAMP:20260420T220002
CREATED:20251202T185352Z
LAST-MODIFIED:20251204T185346Z
UID:10987-1768428000-1768431600@aritonbc.org
SUMMARY:Post prayer
DESCRIPTION:
URL:https://aritonbc.org/event/post-prayer-180/
END:VEVENT
BEGIN:VEVENT
DTSTART;TZID=America/Chicago:20260115T220000
DTEND;TZID=America/Chicago:20260115T230000
DTSTAMP:20260420T220002
CREATED:20251201T185349Z
LAST-MODIFIED:20251201T185349Z
UID:10847-1768514400-1768518000@aritonbc.org
SUMMARY:Post prayer
DESCRIPTION:
URL:https://aritonbc.org/event/post-prayer-46/
END:VEVENT
BEGIN:VEVENT
DTSTART;TZID=America/Chicago:20260115T220000
DTEND;TZID=America/Chicago:20260115T230000
DTSTAMP:20260420T220002
CREATED:20251202T185352Z
LAST-MODIFIED:20251204T185346Z
UID:10988-1768514400-1768518000@aritonbc.org
SUMMARY:Post prayer
DESCRIPTION:
URL:https://aritonbc.org/event/post-prayer-181/
END:VEVENT
BEGIN:VEVENT
DTSTART;TZID=America/Chicago:20260116T220000
DTEND;TZID=America/Chicago:20260116T230000
DTSTAMP:20260420T220002
CREATED:20251201T185349Z
LAST-MODIFIED:20251201T185349Z
UID:10848-1768600800-1768604400@aritonbc.org
SUMMARY:Post prayer
DESCRIPTION:
URL:https://aritonbc.org/event/post-prayer-47/
END:VEVENT
BEGIN:VEVENT
DTSTART;TZID=America/Chicago:20260116T220000
DTEND;TZID=America/Chicago:20260116T230000
DTSTAMP:20260420T220002
CREATED:20251202T185352Z
LAST-MODIFIED:20251204T185346Z
UID:10989-1768600800-1768604400@aritonbc.org
SUMMARY:Post prayer
DESCRIPTION:
URL:https://aritonbc.org/event/post-prayer-182/
END:VEVENT
BEGIN:VEVENT
DTSTART;TZID=America/Chicago:20260117T220000
DTEND;TZID=America/Chicago:20260117T230000
DTSTAMP:20260420T220002
CREATED:20251201T185349Z
LAST-MODIFIED:20251201T185349Z
UID:10849-1768687200-1768690800@aritonbc.org
SUMMARY:Post prayer
DESCRIPTION:
URL:https://aritonbc.org/event/post-prayer-48/
END:VEVENT
BEGIN:VEVENT
DTSTART;TZID=America/Chicago:20260117T220000
DTEND;TZID=America/Chicago:20260117T230000
DTSTAMP:20260420T220002
CREATED:20251202T185352Z
LAST-MODIFIED:20251204T185346Z
UID:10990-1768687200-1768690800@aritonbc.org
SUMMARY:Post prayer
DESCRIPTION:
URL:https://aritonbc.org/event/post-prayer-183/
END:VEVENT
BEGIN:VEVENT
DTSTART;TZID=America/Chicago:20260118T094500
DTEND;TZID=America/Chicago:20260118T104500
DTSTAMP:20260420T220002
CREATED:20250429T215407Z
LAST-MODIFIED:20260117T190846Z
UID:9744-1768729500-1768733100@aritonbc.org
SUMMARY:In-House Sunday School
DESCRIPTION:Large Group Adult\, Youth\, Children & Toddler SS Classes. Nursery Provided.
URL:https://aritonbc.org/event/in-house-sunday-school-159/
END:VEVENT
BEGIN:VEVENT
DTSTART;TZID=America/Chicago:20260118T110000
DTEND;TZID=America/Chicago:20260118T120000
DTSTAMP:20260420T220002
CREATED:20250430T215446Z
LAST-MODIFIED:20260117T190846Z
UID:9747-1768734000-1768737600@aritonbc.org
SUMMARY:Worship Service In-House & Posted to Facebook Later
DESCRIPTION:
URL:https://aritonbc.org/event/worship-service-in-house-posted-to-facebook-later-160/
END:VEVENT
END:VCALENDAR