BEGIN:VCALENDAR
VERSION:2.0
PRODID:-//Ariton Baptist Church - ECPv6.15.13.1//NONSGML v1.0//EN
CALSCALE:GREGORIAN
METHOD:PUBLISH
X-ORIGINAL-URL:https://aritonbc.org
X-WR-CALDESC:Events for Ariton Baptist Church
REFRESH-INTERVAL;VALUE=DURATION:PT1H
X-Robots-Tag:noindex
X-PUBLISHED-TTL:PT1H
BEGIN:VTIMEZONE
TZID:America/Chicago
BEGIN:DAYLIGHT
TZOFFSETFROM:-0600
TZOFFSETTO:-0500
TZNAME:CDT
DTSTART:20250309T080000
END:DAYLIGHT
BEGIN:STANDARD
TZOFFSETFROM:-0500
TZOFFSETTO:-0600
TZNAME:CST
DTSTART:20251102T070000
END:STANDARD
BEGIN:DAYLIGHT
TZOFFSETFROM:-0600
TZOFFSETTO:-0500
TZNAME:CDT
DTSTART:20260308T080000
END:DAYLIGHT
BEGIN:STANDARD
TZOFFSETFROM:-0500
TZOFFSETTO:-0600
TZNAME:CST
DTSTART:20261101T070000
END:STANDARD
BEGIN:DAYLIGHT
TZOFFSETFROM:-0600
TZOFFSETTO:-0500
TZNAME:CDT
DTSTART:20270314T080000
END:DAYLIGHT
BEGIN:STANDARD
TZOFFSETFROM:-0500
TZOFFSETTO:-0600
TZNAME:CST
DTSTART:20271107T070000
END:STANDARD
END:VTIMEZONE
BEGIN:VEVENT
DTSTART;TZID=America/Chicago:20260125T220000
DTEND;TZID=America/Chicago:20260125T230000
DTSTAMP:20260420T220117
CREATED:20251202T185353Z
LAST-MODIFIED:20251204T185346Z
UID:10998-1769378400-1769382000@aritonbc.org
SUMMARY:Post prayer
DESCRIPTION:
URL:https://aritonbc.org/event/post-prayer-191/
END:VEVENT
BEGIN:VEVENT
DTSTART;TZID=America/Chicago:20260126T220000
DTEND;TZID=America/Chicago:20260126T230000
DTSTAMP:20260420T220117
CREATED:20251201T185350Z
LAST-MODIFIED:20251201T185350Z
UID:10858-1769464800-1769468400@aritonbc.org
SUMMARY:Post prayer
DESCRIPTION:
URL:https://aritonbc.org/event/post-prayer-57/
END:VEVENT
BEGIN:VEVENT
DTSTART;TZID=America/Chicago:20260126T220000
DTEND;TZID=America/Chicago:20260126T230000
DTSTAMP:20260420T220117
CREATED:20251202T185353Z
LAST-MODIFIED:20251204T185347Z
UID:10999-1769464800-1769468400@aritonbc.org
SUMMARY:Post prayer
DESCRIPTION:
URL:https://aritonbc.org/event/post-prayer-192/
END:VEVENT
BEGIN:VEVENT
DTSTART;VALUE=DATE:20260127
DTEND;VALUE=DATE:20260128
DTSTAMP:20260420T220117
CREATED:20250511T222356Z
LAST-MODIFIED:20260127T192345Z
UID:9790-1769472000-1769558399@aritonbc.org
SUMMARY:Magazines Out
DESCRIPTION:
URL:https://aritonbc.org/event/magazines-out-38/
END:VEVENT
BEGIN:VEVENT
DTSTART;TZID=America/Chicago:20260127T220000
DTEND;TZID=America/Chicago:20260127T230000
DTSTAMP:20260420T220117
CREATED:20251201T185350Z
LAST-MODIFIED:20251201T185350Z
UID:10859-1769551200-1769554800@aritonbc.org
SUMMARY:Post prayer
DESCRIPTION:
URL:https://aritonbc.org/event/post-prayer-58/
END:VEVENT
BEGIN:VEVENT
DTSTART;TZID=America/Chicago:20260127T220000
DTEND;TZID=America/Chicago:20260127T230000
DTSTAMP:20260420T220117
CREATED:20251202T185353Z
LAST-MODIFIED:20251204T185347Z
UID:11000-1769551200-1769554800@aritonbc.org
SUMMARY:Post prayer
DESCRIPTION:
URL:https://aritonbc.org/event/post-prayer-193/
END:VEVENT
BEGIN:VEVENT
DTSTART;VALUE=DATE:20260128
DTEND;VALUE=DATE:20260129
DTSTAMP:20260420T220117
CREATED:20250511T222356Z
LAST-MODIFIED:20260128T192346Z
UID:9789-1769558400-1769644799@aritonbc.org
SUMMARY:Quarterly Business Meeting
DESCRIPTION:
URL:https://aritonbc.org/event/quarterly-business-meeting-13/
END:VEVENT
BEGIN:VEVENT
DTSTART;TZID=America/Chicago:20260128T173000
DTEND;TZID=America/Chicago:20260128T183000
DTSTAMP:20260420T220117
CREATED:20250512T222430Z
LAST-MODIFIED:20250703T180857Z
UID:9795-1769621400-1769625000@aritonbc.org
SUMMARY:Wednesday Night Meal
DESCRIPTION:
URL:https://aritonbc.org/event/wednesday-night-meal-159/
END:VEVENT
BEGIN:VEVENT
DTSTART;TZID=America/Chicago:20260128T173000
DTEND;TZID=America/Chicago:20260128T183000
DTSTAMP:20260420T220117
CREATED:20250707T180905Z
LAST-MODIFIED:20260128T192346Z
UID:10188-1769621400-1769625000@aritonbc.org
SUMMARY:Wednesday Meal
DESCRIPTION:
URL:https://aritonbc.org/event/wednesday-meal-30/
END:VEVENT
BEGIN:VEVENT
DTSTART;TZID=America/Chicago:20260128T183000
DTEND;TZID=America/Chicago:20260128T193000
DTSTAMP:20260420T220117
CREATED:20250512T222430Z
LAST-MODIFIED:20260128T192346Z
UID:9794-1769625000-1769628600@aritonbc.org
SUMMARY:Wednesday Night Service
DESCRIPTION:Check Ariton Baptist Facebook page for instructions
URL:https://aritonbc.org/event/wednesday-night-service-160/
END:VEVENT
BEGIN:VEVENT
DTSTART;TZID=America/Chicago:20260128T220000
DTEND;TZID=America/Chicago:20260128T230000
DTSTAMP:20260420T220117
CREATED:20251201T185350Z
LAST-MODIFIED:20251201T185350Z
UID:10860-1769637600-1769641200@aritonbc.org
SUMMARY:Post prayer
DESCRIPTION:
URL:https://aritonbc.org/event/post-prayer-59/
END:VEVENT
BEGIN:VEVENT
DTSTART;TZID=America/Chicago:20260128T220000
DTEND;TZID=America/Chicago:20260128T230000
DTSTAMP:20260420T220117
CREATED:20251202T185354Z
LAST-MODIFIED:20251204T185347Z
UID:11001-1769637600-1769641200@aritonbc.org
SUMMARY:Post prayer
DESCRIPTION:
URL:https://aritonbc.org/event/post-prayer-194/
END:VEVENT
BEGIN:VEVENT
DTSTART;TZID=America/Chicago:20260129T220000
DTEND;TZID=America/Chicago:20260129T230000
DTSTAMP:20260420T220117
CREATED:20251201T185350Z
LAST-MODIFIED:20251201T185350Z
UID:10861-1769724000-1769727600@aritonbc.org
SUMMARY:Post prayer
DESCRIPTION:
URL:https://aritonbc.org/event/post-prayer-60/
END:VEVENT
BEGIN:VEVENT
DTSTART;TZID=America/Chicago:20260129T220000
DTEND;TZID=America/Chicago:20260129T230000
DTSTAMP:20260420T220117
CREATED:20251202T185354Z
LAST-MODIFIED:20251204T185347Z
UID:11002-1769724000-1769727600@aritonbc.org
SUMMARY:Post prayer
DESCRIPTION:
URL:https://aritonbc.org/event/post-prayer-195/
END:VEVENT
BEGIN:VEVENT
DTSTART;TZID=America/Chicago:20260130T220000
DTEND;TZID=America/Chicago:20260130T230000
DTSTAMP:20260420T220117
CREATED:20251201T185350Z
LAST-MODIFIED:20251201T185350Z
UID:10862-1769810400-1769814000@aritonbc.org
SUMMARY:Post prayer
DESCRIPTION:
URL:https://aritonbc.org/event/post-prayer-61/
END:VEVENT
BEGIN:VEVENT
DTSTART;TZID=America/Chicago:20260130T220000
DTEND;TZID=America/Chicago:20260130T230000
DTSTAMP:20260420T220117
CREATED:20251202T185354Z
LAST-MODIFIED:20251204T185347Z
UID:11003-1769810400-1769814000@aritonbc.org
SUMMARY:Post prayer
DESCRIPTION:
URL:https://aritonbc.org/event/post-prayer-196/
END:VEVENT
BEGIN:VEVENT
DTSTART;TZID=America/Chicago:20260131T220000
DTEND;TZID=America/Chicago:20260131T230000
DTSTAMP:20260420T220117
CREATED:20251201T185350Z
LAST-MODIFIED:20251201T185350Z
UID:10863-1769896800-1769900400@aritonbc.org
SUMMARY:Post prayer
DESCRIPTION:
URL:https://aritonbc.org/event/post-prayer-62/
END:VEVENT
BEGIN:VEVENT
DTSTART;TZID=America/Chicago:20260131T220000
DTEND;TZID=America/Chicago:20260131T230000
DTSTAMP:20260420T220117
CREATED:20251202T185354Z
LAST-MODIFIED:20251204T185347Z
UID:11004-1769896800-1769900400@aritonbc.org
SUMMARY:Post prayer
DESCRIPTION:
URL:https://aritonbc.org/event/post-prayer-197/
END:VEVENT
BEGIN:VEVENT
DTSTART;TZID=America/Chicago:20260201T080000
DTEND;TZID=America/Chicago:20260201T090000
DTSTAMP:20260420T220117
CREATED:20250515T222409Z
LAST-MODIFIED:20250717T190858Z
UID:9802-1769932800-1769936400@aritonbc.org
SUMMARY:Deacon's Meeting
DESCRIPTION:
URL:https://aritonbc.org/event/deacons-meeting-19/
END:VEVENT
BEGIN:VEVENT
DTSTART;TZID=America/Chicago:20260201T083000
DTEND;TZID=America/Chicago:20260201T093000
DTSTAMP:20260420T220117
CREATED:20250718T190914Z
LAST-MODIFIED:20260131T192352Z
UID:10259-1769934600-1769938200@aritonbc.org
SUMMARY:Deacon's Meeting
DESCRIPTION:
URL:https://aritonbc.org/event/deacons-meeting-24/
END:VEVENT
BEGIN:VEVENT
DTSTART;TZID=America/Chicago:20260201T094500
DTEND;TZID=America/Chicago:20260201T104500
DTSTAMP:20260420T220117
CREATED:20250515T222409Z
LAST-MODIFIED:20260131T192352Z
UID:9803-1769939100-1769942700@aritonbc.org
SUMMARY:In-House Sunday School
DESCRIPTION:Large Group Adult\, Youth\, Children & Toddler SS Classes. Nursery Provided.
URL:https://aritonbc.org/event/in-house-sunday-school-161/
END:VEVENT
BEGIN:VEVENT
DTSTART;TZID=America/Chicago:20260201T110000
DTEND;TZID=America/Chicago:20260201T120000
DTSTAMP:20260420T220117
CREATED:20250515T222409Z
LAST-MODIFIED:20260131T192352Z
UID:9804-1769943600-1769947200@aritonbc.org
SUMMARY:Worship Service In-House & Posted to Facebook Later
DESCRIPTION:
URL:https://aritonbc.org/event/worship-service-in-house-posted-to-facebook-later-162/
END:VEVENT
BEGIN:VEVENT
DTSTART;TZID=America/Chicago:20260201T170000
DTEND;TZID=America/Chicago:20260201T180000
DTSTAMP:20260420T220117
CREATED:20250518T222355Z
LAST-MODIFIED:20260125T192347Z
UID:9811-1769965200-1769968800@aritonbc.org
SUMMARY:Bible Recap Bible Study
DESCRIPTION:
URL:https://aritonbc.org/event/bible-recap-bible-study-159/
END:VEVENT
BEGIN:VEVENT
DTSTART;TZID=America/Chicago:20260201T180000
DTEND;TZID=America/Chicago:20260201T190000
DTSTAMP:20260420T220117
CREATED:20250518T222355Z
LAST-MODIFIED:20260201T192351Z
UID:9812-1769968800-1769972400@aritonbc.org
SUMMARY:Sunday Evening Service
DESCRIPTION:
URL:https://aritonbc.org/event/sunday-evening-service-56/
END:VEVENT
BEGIN:VEVENT
DTSTART;TZID=America/Chicago:20260201T220000
DTEND;TZID=America/Chicago:20260201T230000
DTSTAMP:20260420T220117
CREATED:20251201T185350Z
LAST-MODIFIED:20251201T185350Z
UID:10864-1769983200-1769986800@aritonbc.org
SUMMARY:Post prayer
DESCRIPTION:
URL:https://aritonbc.org/event/post-prayer-63/
END:VEVENT
BEGIN:VEVENT
DTSTART;TZID=America/Chicago:20260201T220000
DTEND;TZID=America/Chicago:20260201T230000
DTSTAMP:20260420T220117
CREATED:20251202T185354Z
LAST-MODIFIED:20251204T185347Z
UID:11005-1769983200-1769986800@aritonbc.org
SUMMARY:Post prayer
DESCRIPTION:
URL:https://aritonbc.org/event/post-prayer-198/
END:VEVENT
BEGIN:VEVENT
DTSTART;TZID=America/Chicago:20260202T220000
DTEND;TZID=America/Chicago:20260202T230000
DTSTAMP:20260420T220117
CREATED:20251201T185350Z
LAST-MODIFIED:20251201T185350Z
UID:10865-1770069600-1770073200@aritonbc.org
SUMMARY:Post prayer
DESCRIPTION:
URL:https://aritonbc.org/event/post-prayer-64/
END:VEVENT
BEGIN:VEVENT
DTSTART;TZID=America/Chicago:20260202T220000
DTEND;TZID=America/Chicago:20260202T230000
DTSTAMP:20260420T220117
CREATED:20251202T185354Z
LAST-MODIFIED:20251204T185347Z
UID:11006-1770069600-1770073200@aritonbc.org
SUMMARY:Post prayer
DESCRIPTION:
URL:https://aritonbc.org/event/post-prayer-199/
END:VEVENT
BEGIN:VEVENT
DTSTART;TZID=America/Chicago:20260203T220000
DTEND;TZID=America/Chicago:20260203T230000
DTSTAMP:20260420T220117
CREATED:20251201T185350Z
LAST-MODIFIED:20251201T185350Z
UID:10866-1770156000-1770159600@aritonbc.org
SUMMARY:Post prayer
DESCRIPTION:
URL:https://aritonbc.org/event/post-prayer-65/
END:VEVENT
BEGIN:VEVENT
DTSTART;TZID=America/Chicago:20260203T220000
DTEND;TZID=America/Chicago:20260203T230000
DTSTAMP:20260420T220117
CREATED:20251202T185354Z
LAST-MODIFIED:20251204T185347Z
UID:11007-1770156000-1770159600@aritonbc.org
SUMMARY:Post prayer
DESCRIPTION:
URL:https://aritonbc.org/event/post-prayer-200/
END:VEVENT
END:VCALENDAR