BEGIN:VCALENDAR
VERSION:2.0
PRODID:-//Ariton Baptist Church - ECPv6.15.13.1//NONSGML v1.0//EN
CALSCALE:GREGORIAN
METHOD:PUBLISH
X-WR-CALNAME:Ariton Baptist Church
X-ORIGINAL-URL:https://aritonbc.org
X-WR-CALDESC:Events for Ariton Baptist Church
REFRESH-INTERVAL;VALUE=DURATION:PT1H
X-Robots-Tag:noindex
X-PUBLISHED-TTL:PT1H
BEGIN:VTIMEZONE
TZID:America/Chicago
BEGIN:DAYLIGHT
TZOFFSETFROM:-0600
TZOFFSETTO:-0500
TZNAME:CDT
DTSTART:20250309T080000
END:DAYLIGHT
BEGIN:STANDARD
TZOFFSETFROM:-0500
TZOFFSETTO:-0600
TZNAME:CST
DTSTART:20251102T070000
END:STANDARD
BEGIN:DAYLIGHT
TZOFFSETFROM:-0600
TZOFFSETTO:-0500
TZNAME:CDT
DTSTART:20260308T080000
END:DAYLIGHT
BEGIN:STANDARD
TZOFFSETFROM:-0500
TZOFFSETTO:-0600
TZNAME:CST
DTSTART:20261101T070000
END:STANDARD
BEGIN:DAYLIGHT
TZOFFSETFROM:-0600
TZOFFSETTO:-0500
TZNAME:CDT
DTSTART:20270314T080000
END:DAYLIGHT
BEGIN:STANDARD
TZOFFSETFROM:-0500
TZOFFSETTO:-0600
TZNAME:CST
DTSTART:20271107T070000
END:STANDARD
END:VTIMEZONE
BEGIN:VEVENT
DTSTART;TZID=America/Chicago:20260120T220000
DTEND;TZID=America/Chicago:20260120T230000
DTSTAMP:20260421T000850
CREATED:20251202T185353Z
LAST-MODIFIED:20251204T185346Z
UID:10993-1768946400-1768950000@aritonbc.org
SUMMARY:Post prayer
DESCRIPTION:
URL:https://aritonbc.org/event/post-prayer-186/
END:VEVENT
BEGIN:VEVENT
DTSTART;TZID=America/Chicago:20260121T093000
DTEND;TZID=America/Chicago:20260121T130000
DTSTAMP:20260421T000850
CREATED:20250501T215440Z
LAST-MODIFIED:20260120T190851Z
UID:9754-1768987800-1769000400@aritonbc.org
SUMMARY:BROWN BAG MINISTRY Pick-up
DESCRIPTION:
URL:https://aritonbc.org/event/brown-bag-ministry-pick-up-35/
END:VEVENT
BEGIN:VEVENT
DTSTART;TZID=America/Chicago:20260121T173000
DTEND;TZID=America/Chicago:20260121T183000
DTSTAMP:20260421T000850
CREATED:20250504T215448Z
LAST-MODIFIED:20250703T180857Z
UID:9764-1769016600-1769020200@aritonbc.org
SUMMARY:Wednesday Night Meal
DESCRIPTION:
URL:https://aritonbc.org/event/wednesday-night-meal-158/
END:VEVENT
BEGIN:VEVENT
DTSTART;TZID=America/Chicago:20260121T173000
DTEND;TZID=America/Chicago:20260121T183000
DTSTAMP:20260421T000850
CREATED:20250707T180905Z
LAST-MODIFIED:20260121T190845Z
UID:10187-1769016600-1769020200@aritonbc.org
SUMMARY:Wednesday Meal
DESCRIPTION:
URL:https://aritonbc.org/event/wednesday-meal-29/
END:VEVENT
BEGIN:VEVENT
DTSTART;TZID=America/Chicago:20260121T183000
DTEND;TZID=America/Chicago:20260121T193000
DTSTAMP:20260421T000850
CREATED:20250502T215404Z
LAST-MODIFIED:20260121T190845Z
UID:9760-1769020200-1769023800@aritonbc.org
SUMMARY:Wednesday Night Service
DESCRIPTION:Check Ariton Baptist Facebook page for instructions
URL:https://aritonbc.org/event/wednesday-night-service-159/
END:VEVENT
BEGIN:VEVENT
DTSTART;TZID=America/Chicago:20260121T220000
DTEND;TZID=America/Chicago:20260121T230000
DTSTAMP:20260421T000850
CREATED:20251201T185349Z
LAST-MODIFIED:20251201T185349Z
UID:10853-1769032800-1769036400@aritonbc.org
SUMMARY:Post prayer
DESCRIPTION:
URL:https://aritonbc.org/event/post-prayer-52/
END:VEVENT
BEGIN:VEVENT
DTSTART;TZID=America/Chicago:20260121T220000
DTEND;TZID=America/Chicago:20260121T230000
DTSTAMP:20260421T000850
CREATED:20251202T185353Z
LAST-MODIFIED:20251204T185346Z
UID:10994-1769032800-1769036400@aritonbc.org
SUMMARY:Post prayer
DESCRIPTION:
URL:https://aritonbc.org/event/post-prayer-187/
END:VEVENT
BEGIN:VEVENT
DTSTART;TZID=America/Chicago:20260122T110000
DTEND;TZID=America/Chicago:20260122T130000
DTSTAMP:20260421T000850
CREATED:20250428T215459Z
LAST-MODIFIED:20260121T190845Z
UID:9739-1769079600-1769086800@aritonbc.org
SUMMARY:Wonderful Widows Luncheon
DESCRIPTION:
URL:https://aritonbc.org/event/wonderful-widows-luncheon-27/
END:VEVENT
BEGIN:VEVENT
DTSTART;TZID=America/Chicago:20260122T220000
DTEND;TZID=America/Chicago:20260122T230000
DTSTAMP:20260421T000850
CREATED:20251201T185349Z
LAST-MODIFIED:20251201T185349Z
UID:10854-1769119200-1769122800@aritonbc.org
SUMMARY:Post prayer
DESCRIPTION:
URL:https://aritonbc.org/event/post-prayer-53/
END:VEVENT
BEGIN:VEVENT
DTSTART;TZID=America/Chicago:20260122T220000
DTEND;TZID=America/Chicago:20260122T230000
DTSTAMP:20260421T000850
CREATED:20251202T185353Z
LAST-MODIFIED:20251204T185346Z
UID:10995-1769119200-1769122800@aritonbc.org
SUMMARY:Post prayer
DESCRIPTION:
URL:https://aritonbc.org/event/post-prayer-188/
END:VEVENT
BEGIN:VEVENT
DTSTART;TZID=America/Chicago:20260123T220000
DTEND;TZID=America/Chicago:20260123T230000
DTSTAMP:20260421T000850
CREATED:20251201T185349Z
LAST-MODIFIED:20251201T185349Z
UID:10855-1769205600-1769209200@aritonbc.org
SUMMARY:Post prayer
DESCRIPTION:
URL:https://aritonbc.org/event/post-prayer-54/
END:VEVENT
BEGIN:VEVENT
DTSTART;TZID=America/Chicago:20260123T220000
DTEND;TZID=America/Chicago:20260123T230000
DTSTAMP:20260421T000850
CREATED:20251202T185353Z
LAST-MODIFIED:20251204T185346Z
UID:10996-1769205600-1769209200@aritonbc.org
SUMMARY:Post prayer
DESCRIPTION:
URL:https://aritonbc.org/event/post-prayer-189/
END:VEVENT
BEGIN:VEVENT
DTSTART;TZID=America/Chicago:20260124T220000
DTEND;TZID=America/Chicago:20260124T230000
DTSTAMP:20260421T000850
CREATED:20251201T185349Z
LAST-MODIFIED:20251201T185349Z
UID:10856-1769292000-1769295600@aritonbc.org
SUMMARY:Post prayer
DESCRIPTION:
URL:https://aritonbc.org/event/post-prayer-55/
END:VEVENT
BEGIN:VEVENT
DTSTART;TZID=America/Chicago:20260124T220000
DTEND;TZID=America/Chicago:20260124T230000
DTSTAMP:20260421T000850
CREATED:20251202T185353Z
LAST-MODIFIED:20251204T185346Z
UID:10997-1769292000-1769295600@aritonbc.org
SUMMARY:Post prayer
DESCRIPTION:
URL:https://aritonbc.org/event/post-prayer-190/
END:VEVENT
BEGIN:VEVENT
DTSTART;VALUE=DATE:20260125
DTEND;VALUE=DATE:20260126
DTSTAMP:20260421T000850
CREATED:20250501T215440Z
LAST-MODIFIED:20260125T192347Z
UID:9755-1769299200-1769385599@aritonbc.org
SUMMARY:⛪️💰Finance Committee Meeting-After Morning Service
DESCRIPTION:
URL:https://aritonbc.org/event/finance-committee-meeting-14/
END:VEVENT
BEGIN:VEVENT
DTSTART;TZID=America/Chicago:20260125T094500
DTEND;TZID=America/Chicago:20260125T104500
DTSTAMP:20260421T000850
CREATED:20250504T215448Z
LAST-MODIFIED:20260124T190901Z
UID:9766-1769334300-1769337900@aritonbc.org
SUMMARY:In-House Sunday School
DESCRIPTION:Large Group Adult\, Youth\, Children & Toddler SS Classes. Nursery Provided.
URL:https://aritonbc.org/event/in-house-sunday-school-160/
END:VEVENT
BEGIN:VEVENT
DTSTART;TZID=America/Chicago:20260125T110000
DTEND;TZID=America/Chicago:20260125T120000
DTSTAMP:20260421T000850
CREATED:20250505T215358Z
LAST-MODIFIED:20260124T190901Z
UID:9774-1769338800-1769342400@aritonbc.org
SUMMARY:Worship Service In-House & Posted to Facebook Later
DESCRIPTION:
URL:https://aritonbc.org/event/worship-service-in-house-posted-to-facebook-later-161/
END:VEVENT
BEGIN:VEVENT
DTSTART;TZID=America/Chicago:20260125T170000
DTEND;TZID=America/Chicago:20260125T180000
DTSTAMP:20260421T000850
CREATED:20250508T215459Z
LAST-MODIFIED:20260125T192347Z
UID:9781-1769360400-1769364000@aritonbc.org
SUMMARY:Bible Recap Bible Study
DESCRIPTION:
URL:https://aritonbc.org/event/bible-recap-bible-study-158/
END:VEVENT
BEGIN:VEVENT
DTSTART;TZID=America/Chicago:20260125T180000
DTEND;TZID=America/Chicago:20260125T190000
DTSTAMP:20260421T000850
CREATED:20250505T215358Z
LAST-MODIFIED:20260125T192347Z
UID:9775-1769364000-1769367600@aritonbc.org
SUMMARY:Sunday Evening Service
DESCRIPTION:
URL:https://aritonbc.org/event/sunday-evening-service-55/
END:VEVENT
BEGIN:VEVENT
DTSTART;TZID=America/Chicago:20260125T220000
DTEND;TZID=America/Chicago:20260125T230000
DTSTAMP:20260421T000850
CREATED:20251201T185349Z
LAST-MODIFIED:20251201T185349Z
UID:10857-1769378400-1769382000@aritonbc.org
SUMMARY:Post prayer
DESCRIPTION:
URL:https://aritonbc.org/event/post-prayer-56/
END:VEVENT
BEGIN:VEVENT
DTSTART;TZID=America/Chicago:20260125T220000
DTEND;TZID=America/Chicago:20260125T230000
DTSTAMP:20260421T000850
CREATED:20251202T185353Z
LAST-MODIFIED:20251204T185346Z
UID:10998-1769378400-1769382000@aritonbc.org
SUMMARY:Post prayer
DESCRIPTION:
URL:https://aritonbc.org/event/post-prayer-191/
END:VEVENT
BEGIN:VEVENT
DTSTART;TZID=America/Chicago:20260126T220000
DTEND;TZID=America/Chicago:20260126T230000
DTSTAMP:20260421T000850
CREATED:20251201T185350Z
LAST-MODIFIED:20251201T185350Z
UID:10858-1769464800-1769468400@aritonbc.org
SUMMARY:Post prayer
DESCRIPTION:
URL:https://aritonbc.org/event/post-prayer-57/
END:VEVENT
BEGIN:VEVENT
DTSTART;TZID=America/Chicago:20260126T220000
DTEND;TZID=America/Chicago:20260126T230000
DTSTAMP:20260421T000850
CREATED:20251202T185353Z
LAST-MODIFIED:20251204T185347Z
UID:10999-1769464800-1769468400@aritonbc.org
SUMMARY:Post prayer
DESCRIPTION:
URL:https://aritonbc.org/event/post-prayer-192/
END:VEVENT
BEGIN:VEVENT
DTSTART;VALUE=DATE:20260127
DTEND;VALUE=DATE:20260128
DTSTAMP:20260421T000850
CREATED:20250511T222356Z
LAST-MODIFIED:20260127T192345Z
UID:9790-1769472000-1769558399@aritonbc.org
SUMMARY:Magazines Out
DESCRIPTION:
URL:https://aritonbc.org/event/magazines-out-38/
END:VEVENT
BEGIN:VEVENT
DTSTART;TZID=America/Chicago:20260127T220000
DTEND;TZID=America/Chicago:20260127T230000
DTSTAMP:20260421T000850
CREATED:20251201T185350Z
LAST-MODIFIED:20251201T185350Z
UID:10859-1769551200-1769554800@aritonbc.org
SUMMARY:Post prayer
DESCRIPTION:
URL:https://aritonbc.org/event/post-prayer-58/
END:VEVENT
BEGIN:VEVENT
DTSTART;TZID=America/Chicago:20260127T220000
DTEND;TZID=America/Chicago:20260127T230000
DTSTAMP:20260421T000850
CREATED:20251202T185353Z
LAST-MODIFIED:20251204T185347Z
UID:11000-1769551200-1769554800@aritonbc.org
SUMMARY:Post prayer
DESCRIPTION:
URL:https://aritonbc.org/event/post-prayer-193/
END:VEVENT
BEGIN:VEVENT
DTSTART;VALUE=DATE:20260128
DTEND;VALUE=DATE:20260129
DTSTAMP:20260421T000850
CREATED:20250511T222356Z
LAST-MODIFIED:20260128T192346Z
UID:9789-1769558400-1769644799@aritonbc.org
SUMMARY:Quarterly Business Meeting
DESCRIPTION:
URL:https://aritonbc.org/event/quarterly-business-meeting-13/
END:VEVENT
BEGIN:VEVENT
DTSTART;TZID=America/Chicago:20260128T173000
DTEND;TZID=America/Chicago:20260128T183000
DTSTAMP:20260421T000850
CREATED:20250512T222430Z
LAST-MODIFIED:20250703T180857Z
UID:9795-1769621400-1769625000@aritonbc.org
SUMMARY:Wednesday Night Meal
DESCRIPTION:
URL:https://aritonbc.org/event/wednesday-night-meal-159/
END:VEVENT
BEGIN:VEVENT
DTSTART;TZID=America/Chicago:20260128T173000
DTEND;TZID=America/Chicago:20260128T183000
DTSTAMP:20260421T000850
CREATED:20250707T180905Z
LAST-MODIFIED:20260128T192346Z
UID:10188-1769621400-1769625000@aritonbc.org
SUMMARY:Wednesday Meal
DESCRIPTION:
URL:https://aritonbc.org/event/wednesday-meal-30/
END:VEVENT
BEGIN:VEVENT
DTSTART;TZID=America/Chicago:20260128T183000
DTEND;TZID=America/Chicago:20260128T193000
DTSTAMP:20260421T000850
CREATED:20250512T222430Z
LAST-MODIFIED:20260128T192346Z
UID:9794-1769625000-1769628600@aritonbc.org
SUMMARY:Wednesday Night Service
DESCRIPTION:Check Ariton Baptist Facebook page for instructions
URL:https://aritonbc.org/event/wednesday-night-service-160/
END:VEVENT
END:VCALENDAR