BEGIN:VCALENDAR
VERSION:2.0
PRODID:-//Ariton Baptist Church - ECPv6.15.13.1//NONSGML v1.0//EN
CALSCALE:GREGORIAN
METHOD:PUBLISH
X-ORIGINAL-URL:https://aritonbc.org
X-WR-CALDESC:Events for Ariton Baptist Church
REFRESH-INTERVAL;VALUE=DURATION:PT1H
X-Robots-Tag:noindex
X-PUBLISHED-TTL:PT1H
BEGIN:VTIMEZONE
TZID:America/Chicago
BEGIN:DAYLIGHT
TZOFFSETFROM:-0600
TZOFFSETTO:-0500
TZNAME:CDT
DTSTART:20250309T080000
END:DAYLIGHT
BEGIN:STANDARD
TZOFFSETFROM:-0500
TZOFFSETTO:-0600
TZNAME:CST
DTSTART:20251102T070000
END:STANDARD
BEGIN:DAYLIGHT
TZOFFSETFROM:-0600
TZOFFSETTO:-0500
TZNAME:CDT
DTSTART:20260308T080000
END:DAYLIGHT
BEGIN:STANDARD
TZOFFSETFROM:-0500
TZOFFSETTO:-0600
TZNAME:CST
DTSTART:20261101T070000
END:STANDARD
BEGIN:DAYLIGHT
TZOFFSETFROM:-0600
TZOFFSETTO:-0500
TZNAME:CDT
DTSTART:20270314T080000
END:DAYLIGHT
BEGIN:STANDARD
TZOFFSETFROM:-0500
TZOFFSETTO:-0600
TZNAME:CST
DTSTART:20271107T070000
END:STANDARD
END:VTIMEZONE
BEGIN:VEVENT
DTSTART;VALUE=DATE:20260101
DTEND;VALUE=DATE:20260102
DTSTAMP:20260420T171711
CREATED:20250916T222435Z
LAST-MODIFIED:20260101T183845Z
UID:10461-1767225600-1767311999@aritonbc.org
SUMMARY:New Year's Day
DESCRIPTION:
URL:https://aritonbc.org/event/new-years-day-4/
END:VEVENT
BEGIN:VEVENT
DTSTART;TZID=America/Chicago:20260101T220000
DTEND;TZID=America/Chicago:20260101T230000
DTSTAMP:20260420T171711
CREATED:20251201T185348Z
LAST-MODIFIED:20251201T185348Z
UID:10833-1767304800-1767308400@aritonbc.org
SUMMARY:Post prayer
DESCRIPTION:
URL:https://aritonbc.org/event/post-prayer-32/
END:VEVENT
BEGIN:VEVENT
DTSTART;TZID=America/Chicago:20260101T220000
DTEND;TZID=America/Chicago:20260101T230000
DTSTAMP:20260420T171711
CREATED:20251202T185351Z
LAST-MODIFIED:20251204T185345Z
UID:10974-1767304800-1767308400@aritonbc.org
SUMMARY:Post prayer
DESCRIPTION:
URL:https://aritonbc.org/event/post-prayer-167/
END:VEVENT
BEGIN:VEVENT
DTSTART;TZID=America/Chicago:20260102T220000
DTEND;TZID=America/Chicago:20260102T230000
DTSTAMP:20260420T171711
CREATED:20251201T185348Z
LAST-MODIFIED:20251201T185348Z
UID:10834-1767391200-1767394800@aritonbc.org
SUMMARY:Post prayer
DESCRIPTION:
URL:https://aritonbc.org/event/post-prayer-33/
END:VEVENT
BEGIN:VEVENT
DTSTART;TZID=America/Chicago:20260102T220000
DTEND;TZID=America/Chicago:20260102T230000
DTSTAMP:20260420T171711
CREATED:20251202T185351Z
LAST-MODIFIED:20251204T185345Z
UID:10975-1767391200-1767394800@aritonbc.org
SUMMARY:Post prayer
DESCRIPTION:
URL:https://aritonbc.org/event/post-prayer-168/
END:VEVENT
BEGIN:VEVENT
DTSTART;TZID=America/Chicago:20260103T220000
DTEND;TZID=America/Chicago:20260103T230000
DTSTAMP:20260420T171711
CREATED:20251201T185348Z
LAST-MODIFIED:20251201T185348Z
UID:10835-1767477600-1767481200@aritonbc.org
SUMMARY:Post prayer
DESCRIPTION:
URL:https://aritonbc.org/event/post-prayer-34/
END:VEVENT
BEGIN:VEVENT
DTSTART;TZID=America/Chicago:20260103T220000
DTEND;TZID=America/Chicago:20260103T230000
DTSTAMP:20260420T171711
CREATED:20251202T185351Z
LAST-MODIFIED:20251204T185345Z
UID:10976-1767477600-1767481200@aritonbc.org
SUMMARY:Post prayer
DESCRIPTION:
URL:https://aritonbc.org/event/post-prayer-169/
END:VEVENT
BEGIN:VEVENT
DTSTART;TZID=America/Chicago:20260104T094500
DTEND;TZID=America/Chicago:20260104T104500
DTSTAMP:20260420T171711
CREATED:20250421T215407Z
LAST-MODIFIED:20260103T183848Z
UID:9700-1767519900-1767523500@aritonbc.org
SUMMARY:In-House Sunday School
DESCRIPTION:Large Group Adult\, Youth\, Children & Toddler SS Classes. Nursery Provided.
URL:https://aritonbc.org/event/in-house-sunday-school-157/
END:VEVENT
BEGIN:VEVENT
DTSTART;TZID=America/Chicago:20260104T110000
DTEND;TZID=America/Chicago:20260104T120000
DTSTAMP:20260420T171711
CREATED:20250421T215407Z
LAST-MODIFIED:20260103T183848Z
UID:9701-1767524400-1767528000@aritonbc.org
SUMMARY:Worship Service In-House & Posted to Facebook Later
DESCRIPTION:
URL:https://aritonbc.org/event/worship-service-in-house-posted-to-facebook-later-158/
END:VEVENT
BEGIN:VEVENT
DTSTART;TZID=America/Chicago:20260104T170000
DTEND;TZID=America/Chicago:20260104T180000
DTSTAMP:20260420T171711
CREATED:20250424T215425Z
LAST-MODIFIED:20260104T185346Z
UID:9710-1767546000-1767549600@aritonbc.org
SUMMARY:Bible Recap Bible Study
DESCRIPTION:
URL:https://aritonbc.org/event/bible-recap-bible-study-155/
END:VEVENT
BEGIN:VEVENT
DTSTART;TZID=America/Chicago:20260104T180000
DTEND;TZID=America/Chicago:20260104T190000
DTSTAMP:20260420T171711
CREATED:20250423T215357Z
LAST-MODIFIED:20260104T185346Z
UID:9707-1767549600-1767553200@aritonbc.org
SUMMARY:Sunday Evening Service
DESCRIPTION:
URL:https://aritonbc.org/event/sunday-evening-service-52/
END:VEVENT
BEGIN:VEVENT
DTSTART;TZID=America/Chicago:20260104T220000
DTEND;TZID=America/Chicago:20260104T230000
DTSTAMP:20260420T171711
CREATED:20251201T185348Z
LAST-MODIFIED:20251201T185348Z
UID:10836-1767564000-1767567600@aritonbc.org
SUMMARY:Post prayer
DESCRIPTION:
URL:https://aritonbc.org/event/post-prayer-35/
END:VEVENT
BEGIN:VEVENT
DTSTART;TZID=America/Chicago:20260104T220000
DTEND;TZID=America/Chicago:20260104T230000
DTSTAMP:20260420T171711
CREATED:20251202T185351Z
LAST-MODIFIED:20251204T185345Z
UID:10977-1767564000-1767567600@aritonbc.org
SUMMARY:Post prayer
DESCRIPTION:
URL:https://aritonbc.org/event/post-prayer-170/
END:VEVENT
BEGIN:VEVENT
DTSTART;VALUE=DATE:20260105
DTEND;VALUE=DATE:20260106
DTSTAMP:20260420T171711
CREATED:20250916T222435Z
LAST-MODIFIED:20260105T185348Z
UID:10462-1767571200-1767657599@aritonbc.org
SUMMARY:Bowling Trip
DESCRIPTION:
URL:https://aritonbc.org/event/bowling-trip/
END:VEVENT
BEGIN:VEVENT
DTSTART;TZID=America/Chicago:20260105T220000
DTEND;TZID=America/Chicago:20260105T230000
DTSTAMP:20260420T171711
CREATED:20251201T185348Z
LAST-MODIFIED:20251201T185348Z
UID:10837-1767650400-1767654000@aritonbc.org
SUMMARY:Post prayer
DESCRIPTION:
URL:https://aritonbc.org/event/post-prayer-36/
END:VEVENT
BEGIN:VEVENT
DTSTART;TZID=America/Chicago:20260105T220000
DTEND;TZID=America/Chicago:20260105T230000
DTSTAMP:20260420T171711
CREATED:20251202T185351Z
LAST-MODIFIED:20251204T185345Z
UID:10978-1767650400-1767654000@aritonbc.org
SUMMARY:Post prayer
DESCRIPTION:
URL:https://aritonbc.org/event/post-prayer-171/
END:VEVENT
BEGIN:VEVENT
DTSTART;TZID=America/Chicago:20260106T220000
DTEND;TZID=America/Chicago:20260106T230000
DTSTAMP:20260420T171711
CREATED:20251201T185348Z
LAST-MODIFIED:20251201T185348Z
UID:10838-1767736800-1767740400@aritonbc.org
SUMMARY:Post prayer
DESCRIPTION:
URL:https://aritonbc.org/event/post-prayer-37/
END:VEVENT
BEGIN:VEVENT
DTSTART;TZID=America/Chicago:20260106T220000
DTEND;TZID=America/Chicago:20260106T230000
DTSTAMP:20260420T171711
CREATED:20251202T185351Z
LAST-MODIFIED:20251204T185345Z
UID:10979-1767736800-1767740400@aritonbc.org
SUMMARY:Post prayer
DESCRIPTION:
URL:https://aritonbc.org/event/post-prayer-172/
END:VEVENT
BEGIN:VEVENT
DTSTART;TZID=America/Chicago:20260107T173000
DTEND;TZID=America/Chicago:20260107T183000
DTSTAMP:20260420T171711
CREATED:20250424T215425Z
LAST-MODIFIED:20250703T180856Z
UID:9712-1767807000-1767810600@aritonbc.org
SUMMARY:Wednesday Night Meal
DESCRIPTION:
URL:https://aritonbc.org/event/wednesday-night-meal-156/
END:VEVENT
BEGIN:VEVENT
DTSTART;TZID=America/Chicago:20260107T173000
DTEND;TZID=America/Chicago:20260107T183000
DTSTAMP:20260420T171711
CREATED:20250707T180904Z
LAST-MODIFIED:20260107T185357Z
UID:10185-1767807000-1767810600@aritonbc.org
SUMMARY:Wednesday Meal
DESCRIPTION:
URL:https://aritonbc.org/event/wednesday-meal-27/
END:VEVENT
BEGIN:VEVENT
DTSTART;TZID=America/Chicago:20260107T183000
DTEND;TZID=America/Chicago:20260107T193000
DTSTAMP:20260420T171711
CREATED:20250424T215425Z
LAST-MODIFIED:20260107T185358Z
UID:9711-1767810600-1767814200@aritonbc.org
SUMMARY:Wednesday Night Service
DESCRIPTION:Check Ariton Baptist Facebook page for instructions
URL:https://aritonbc.org/event/wednesday-night-service-157/
END:VEVENT
BEGIN:VEVENT
DTSTART;TZID=America/Chicago:20260107T220000
DTEND;TZID=America/Chicago:20260107T230000
DTSTAMP:20260420T171711
CREATED:20251201T185348Z
LAST-MODIFIED:20251201T185348Z
UID:10839-1767823200-1767826800@aritonbc.org
SUMMARY:Post prayer
DESCRIPTION:
URL:https://aritonbc.org/event/post-prayer-38/
END:VEVENT
BEGIN:VEVENT
DTSTART;TZID=America/Chicago:20260107T220000
DTEND;TZID=America/Chicago:20260107T230000
DTSTAMP:20260420T171711
CREATED:20251202T185351Z
LAST-MODIFIED:20251204T185345Z
UID:10980-1767823200-1767826800@aritonbc.org
SUMMARY:Post prayer
DESCRIPTION:
URL:https://aritonbc.org/event/post-prayer-173/
END:VEVENT
BEGIN:VEVENT
DTSTART;TZID=America/Chicago:20260108T220000
DTEND;TZID=America/Chicago:20260108T230000
DTSTAMP:20260420T171711
CREATED:20251201T185348Z
LAST-MODIFIED:20251201T185348Z
UID:10840-1767909600-1767913200@aritonbc.org
SUMMARY:Post prayer
DESCRIPTION:
URL:https://aritonbc.org/event/post-prayer-39/
END:VEVENT
BEGIN:VEVENT
DTSTART;TZID=America/Chicago:20260108T220000
DTEND;TZID=America/Chicago:20260108T230000
DTSTAMP:20260420T171711
CREATED:20251202T185352Z
LAST-MODIFIED:20251204T185345Z
UID:10981-1767909600-1767913200@aritonbc.org
SUMMARY:Post prayer
DESCRIPTION:
URL:https://aritonbc.org/event/post-prayer-174/
END:VEVENT
BEGIN:VEVENT
DTSTART;TZID=America/Chicago:20260109T220000
DTEND;TZID=America/Chicago:20260109T230000
DTSTAMP:20260420T171711
CREATED:20251201T185348Z
LAST-MODIFIED:20251201T185348Z
UID:10841-1767996000-1767999600@aritonbc.org
SUMMARY:Post prayer
DESCRIPTION:
URL:https://aritonbc.org/event/post-prayer-40/
END:VEVENT
BEGIN:VEVENT
DTSTART;TZID=America/Chicago:20260109T220000
DTEND;TZID=America/Chicago:20260109T230000
DTSTAMP:20260420T171711
CREATED:20251202T185352Z
LAST-MODIFIED:20251204T185345Z
UID:10982-1767996000-1767999600@aritonbc.org
SUMMARY:Post prayer
DESCRIPTION:
URL:https://aritonbc.org/event/post-prayer-175/
END:VEVENT
BEGIN:VEVENT
DTSTART;TZID=America/Chicago:20260110T180000
DTEND;TZID=America/Chicago:20260110T190000
DTSTAMP:20260420T171711
CREATED:20251205T185346Z
LAST-MODIFIED:20260110T185347Z
UID:11229-1768068000-1768071600@aritonbc.org
SUMMARY:Deacons & Wives Dinner
DESCRIPTION:
URL:https://aritonbc.org/event/deacons-wives-dinner/
END:VEVENT
BEGIN:VEVENT
DTSTART;TZID=America/Chicago:20260110T220000
DTEND;TZID=America/Chicago:20260110T230000
DTSTAMP:20260420T171711
CREATED:20251201T185348Z
LAST-MODIFIED:20251201T185348Z
UID:10842-1768082400-1768086000@aritonbc.org
SUMMARY:Post prayer
DESCRIPTION:
URL:https://aritonbc.org/event/post-prayer-41/
END:VEVENT
BEGIN:VEVENT
DTSTART;TZID=America/Chicago:20260110T220000
DTEND;TZID=America/Chicago:20260110T230000
DTSTAMP:20260420T171711
CREATED:20251202T185352Z
LAST-MODIFIED:20251204T185345Z
UID:10983-1768082400-1768086000@aritonbc.org
SUMMARY:Post prayer
DESCRIPTION:
URL:https://aritonbc.org/event/post-prayer-176/
END:VEVENT
END:VCALENDAR