BEGIN:VCALENDAR
VERSION:2.0
PRODID:-//Ariton Baptist Church - ECPv6.15.13.1//NONSGML v1.0//EN
CALSCALE:GREGORIAN
METHOD:PUBLISH
X-WR-CALNAME:Ariton Baptist Church
X-ORIGINAL-URL:https://aritonbc.org
X-WR-CALDESC:Events for Ariton Baptist Church
REFRESH-INTERVAL;VALUE=DURATION:PT1H
X-Robots-Tag:noindex
X-PUBLISHED-TTL:PT1H
BEGIN:VTIMEZONE
TZID:America/Chicago
BEGIN:DAYLIGHT
TZOFFSETFROM:-0600
TZOFFSETTO:-0500
TZNAME:CDT
DTSTART:20230312T080000
END:DAYLIGHT
BEGIN:STANDARD
TZOFFSETFROM:-0500
TZOFFSETTO:-0600
TZNAME:CST
DTSTART:20231105T070000
END:STANDARD
BEGIN:DAYLIGHT
TZOFFSETFROM:-0600
TZOFFSETTO:-0500
TZNAME:CDT
DTSTART:20240310T080000
END:DAYLIGHT
BEGIN:STANDARD
TZOFFSETFROM:-0500
TZOFFSETTO:-0600
TZNAME:CST
DTSTART:20241103T070000
END:STANDARD
BEGIN:DAYLIGHT
TZOFFSETFROM:-0600
TZOFFSETTO:-0500
TZNAME:CDT
DTSTART:20250309T080000
END:DAYLIGHT
BEGIN:STANDARD
TZOFFSETFROM:-0500
TZOFFSETTO:-0600
TZNAME:CST
DTSTART:20251102T070000
END:STANDARD
END:VTIMEZONE
BEGIN:VEVENT
DTSTART;TZID=America/Chicago:20240616T170000
DTEND;TZID=America/Chicago:20240616T190000
DTSTAMP:20260420T015111
CREATED:20240329T192148Z
LAST-MODIFIED:20240404T193547Z
UID:7756-1718557200-1718564400@aritonbc.org
SUMMARY:Teen Girl Bible Study-Etheredges
DESCRIPTION:Dinner is provided.
URL:https://aritonbc.org/event/teen-girl-bible-study-etheredges-11/
END:VEVENT
BEGIN:VEVENT
DTSTART;TZID=America/Chicago:20240616T170000
DTEND;TZID=America/Chicago:20240616T180000
DTSTAMP:20260420T015111
CREATED:20240116T214950Z
LAST-MODIFIED:20240404T193547Z
UID:6714-1718557200-1718560800@aritonbc.org
SUMMARY:Discipleship Training
DESCRIPTION:
URL:https://aritonbc.org/event/discipleship-training-119/
END:VEVENT
BEGIN:VEVENT
DTSTART;TZID=America/Chicago:20240616T170000
DTEND;TZID=America/Chicago:20240616T180000
DTSTAMP:20260420T015111
CREATED:20231105T060542Z
LAST-MODIFIED:20240115T214942Z
UID:6181-1718557200-1718560800@aritonbc.org
SUMMARY:Discipleship Training
DESCRIPTION:
URL:https://aritonbc.org/event/discipleship-training-76/
END:VEVENT
BEGIN:VEVENT
DTSTART;TZID=America/Chicago:20240616T110000
DTEND;TZID=America/Chicago:20240616T120000
DTSTAMP:20260420T015111
CREATED:20231105T060542Z
LAST-MODIFIED:20240610T233432Z
UID:6180-1718535600-1718539200@aritonbc.org
SUMMARY:Worship Service In-House & Posted to Facebook Later
DESCRIPTION:
URL:https://aritonbc.org/event/worship-service-in-house-posted-to-facebook-later-77/
END:VEVENT
BEGIN:VEVENT
DTSTART;TZID=America/Chicago:20240616T094500
DTEND;TZID=America/Chicago:20240616T104500
DTSTAMP:20260420T015111
CREATED:20231105T060542Z
LAST-MODIFIED:20240610T233432Z
UID:6179-1718531100-1718534700@aritonbc.org
SUMMARY:In-House Sunday School
DESCRIPTION:Large Group Adult\, Youth\, Children & Toddler SS Classes. Nursery Provided.
URL:https://aritonbc.org/event/in-house-sunday-school-76/
END:VEVENT
BEGIN:VEVENT
DTSTART;VALUE=DATE:20240616
DTEND;VALUE=DATE:20240617
DTSTAMP:20260420T015111
CREATED:20240405T195032Z
LAST-MODIFIED:20240610T233432Z
UID:7850-1718496000-1718582399@aritonbc.org
SUMMARY:Father's Day
DESCRIPTION:
URL:https://aritonbc.org/event/fathers-day-2/
END:VEVENT
BEGIN:VEVENT
DTSTART;VALUE=DATE:20240616
DTEND;VALUE=DATE:20240617
DTSTAMP:20260420T015111
CREATED:20240405T195032Z
LAST-MODIFIED:20240610T233432Z
UID:7851-1718496000-1718582399@aritonbc.org
SUMMARY:NO EVENING SERVICES
DESCRIPTION:
URL:https://aritonbc.org/event/no-evening-services-5/
END:VEVENT
BEGIN:VEVENT
DTSTART;TZID=America/Chicago:20240612T183000
DTEND;TZID=America/Chicago:20240612T193000
DTSTAMP:20260420T015111
CREATED:20231105T060542Z
LAST-MODIFIED:20240610T233432Z
UID:6178-1718217000-1718220600@aritonbc.org
SUMMARY:Wednesday Night Service
DESCRIPTION:Check Ariton Baptist Facebook page for instructions
URL:https://aritonbc.org/event/wednesday-night-service-77/
END:VEVENT
BEGIN:VEVENT
DTSTART;TZID=America/Chicago:20240612T173000
DTEND;TZID=America/Chicago:20240612T183000
DTSTAMP:20260420T015111
CREATED:20231105T060542Z
LAST-MODIFIED:20240610T233432Z
UID:6177-1718213400-1718217000@aritonbc.org
SUMMARY:Wednesday Night Meal
DESCRIPTION:
URL:https://aritonbc.org/event/wednesday-night-meal-76/
END:VEVENT
BEGIN:VEVENT
DTSTART;VALUE=DATE:20240612
DTEND;VALUE=DATE:20240613
DTSTAMP:20260420T015111
CREATED:20240528T233534Z
LAST-MODIFIED:20240610T233432Z
UID:8166-1718150400-1718236799@aritonbc.org
SUMMARY:NO WED MEAL
DESCRIPTION:
URL:https://aritonbc.org/event/no-wed-meal-4/
END:VEVENT
BEGIN:VEVENT
DTSTART;TZID=America/Chicago:20240611T093000
DTEND;TZID=America/Chicago:20240611T110000
DTSTAMP:20260420T015111
CREATED:20240119T220455Z
LAST-MODIFIED:20240126T221952Z
UID:6826-1718098200-1718103600@aritonbc.org
SUMMARY:Women's Bible Study
DESCRIPTION:
URL:https://aritonbc.org/event/womens-bible-study-34/
END:VEVENT
BEGIN:VEVENT
DTSTART;TZID=America/Chicago:20240609T180000
DTEND;TZID=America/Chicago:20240609T190000
DTSTAMP:20260420T015111
CREATED:20240119T220455Z
LAST-MODIFIED:20240609T233527Z
UID:6825-1717956000-1717959600@aritonbc.org
SUMMARY:Bible Recap Bible Study
DESCRIPTION:
URL:https://aritonbc.org/event/bible-recap-bible-study-21/
END:VEVENT
BEGIN:VEVENT
DTSTART;TZID=America/Chicago:20240609T170000
DTEND;TZID=America/Chicago:20240609T190000
DTSTAMP:20260420T015111
CREATED:20240405T195032Z
LAST-MODIFIED:20240609T233527Z
UID:7849-1717952400-1717959600@aritonbc.org
SUMMARY:Teen Girls Bible Study-Etheredge Home
DESCRIPTION:Dinner is provided.
URL:https://aritonbc.org/event/teen-girls-bible-study-etheredge-home-9/
END:VEVENT
BEGIN:VEVENT
DTSTART;TZID=America/Chicago:20240609T170000
DTEND;TZID=America/Chicago:20240609T190000
DTSTAMP:20260420T015111
CREATED:20240329T192147Z
LAST-MODIFIED:20240404T193547Z
UID:7755-1717952400-1717959600@aritonbc.org
SUMMARY:Teen Girl Bible Study-Etheredges
DESCRIPTION:Dinner is provided.
URL:https://aritonbc.org/event/teen-girl-bible-study-etheredges-10/
END:VEVENT
BEGIN:VEVENT
DTSTART;TZID=America/Chicago:20240609T170000
DTEND;TZID=America/Chicago:20240609T180000
DTSTAMP:20260420T015111
CREATED:20240116T214950Z
LAST-MODIFIED:20240608T233518Z
UID:6713-1717952400-1717956000@aritonbc.org
SUMMARY:Discipleship Training
DESCRIPTION:
URL:https://aritonbc.org/event/discipleship-training-118/
END:VEVENT
BEGIN:VEVENT
DTSTART;TZID=America/Chicago:20240609T170000
DTEND;TZID=America/Chicago:20240609T180000
DTSTAMP:20260420T015111
CREATED:20231105T060542Z
LAST-MODIFIED:20240115T214941Z
UID:6176-1717952400-1717956000@aritonbc.org
SUMMARY:Discipleship Training
DESCRIPTION:
URL:https://aritonbc.org/event/discipleship-training-75/
END:VEVENT
BEGIN:VEVENT
DTSTART;TZID=America/Chicago:20240609T110000
DTEND;TZID=America/Chicago:20240609T120000
DTSTAMP:20260420T015111
CREATED:20231105T060542Z
LAST-MODIFIED:20240608T233518Z
UID:6175-1717930800-1717934400@aritonbc.org
SUMMARY:Worship Service In-House & Posted to Facebook Later
DESCRIPTION:
URL:https://aritonbc.org/event/worship-service-in-house-posted-to-facebook-later-76/
END:VEVENT
BEGIN:VEVENT
DTSTART;TZID=America/Chicago:20240609T094500
DTEND;TZID=America/Chicago:20240609T104500
DTSTAMP:20260420T015111
CREATED:20231105T060542Z
LAST-MODIFIED:20240608T233518Z
UID:6174-1717926300-1717929900@aritonbc.org
SUMMARY:In-House Sunday School
DESCRIPTION:Large Group Adult\, Youth\, Children & Toddler SS Classes. Nursery Provided.
URL:https://aritonbc.org/event/in-house-sunday-school-75/
END:VEVENT
BEGIN:VEVENT
DTSTART;TZID=America/Chicago:20240609T080000
DTEND;TZID=America/Chicago:20240609T090000
DTSTAMP:20260420T015111
CREATED:20240109T214945Z
LAST-MODIFIED:20240608T233518Z
UID:6647-1717920000-1717923600@aritonbc.org
SUMMARY:Brotherhood Breakfast
DESCRIPTION:
URL:https://aritonbc.org/event/brotherhood-breakfast-28/
END:VEVENT
BEGIN:VEVENT
DTSTART;TZID=America/Chicago:20240609T080000
DTEND;TZID=America/Chicago:20240609T090000
DTSTAMP:20260420T015111
CREATED:20231105T060542Z
LAST-MODIFIED:20240108T215018Z
UID:6173-1717920000-1717923600@aritonbc.org
SUMMARY:Brotherhood Breakfast
DESCRIPTION:
URL:https://aritonbc.org/event/brotherhood-breakfast-18/
END:VEVENT
BEGIN:VEVENT
DTSTART;TZID=America/Chicago:20240605T183000
DTEND;TZID=America/Chicago:20240605T193000
DTSTAMP:20260420T015111
CREATED:20231105T060542Z
LAST-MODIFIED:20240605T233434Z
UID:6171-1717612200-1717615800@aritonbc.org
SUMMARY:Wednesday Night Service
DESCRIPTION:Check Ariton Baptist Facebook page for instructions
URL:https://aritonbc.org/event/wednesday-night-service-76/
END:VEVENT
BEGIN:VEVENT
DTSTART;TZID=America/Chicago:20240605T173000
DTEND;TZID=America/Chicago:20240605T183000
DTSTAMP:20260420T015111
CREATED:20231105T060542Z
LAST-MODIFIED:20240404T193547Z
UID:6172-1717608600-1717612200@aritonbc.org
SUMMARY:Wednesday Night Meal
DESCRIPTION:
URL:https://aritonbc.org/event/wednesday-night-meal-75/
END:VEVENT
BEGIN:VEVENT
DTSTART;VALUE=DATE:20240605
DTEND;VALUE=DATE:20240606
DTSTAMP:20260420T015111
CREATED:20240405T195032Z
LAST-MODIFIED:20240527T233455Z
UID:7847-1717545600-1717631999@aritonbc.org
SUMMARY:NO WED MEAL
DESCRIPTION:
URL:https://aritonbc.org/event/no-wed-meal-2/
END:VEVENT
BEGIN:VEVENT
DTSTART;TZID=America/Chicago:20240604T093000
DTEND;TZID=America/Chicago:20240604T110000
DTSTAMP:20260420T015111
CREATED:20240119T220455Z
LAST-MODIFIED:20240126T221952Z
UID:6824-1717493400-1717498800@aritonbc.org
SUMMARY:Women's Bible Study
DESCRIPTION:
URL:https://aritonbc.org/event/womens-bible-study-33/
END:VEVENT
BEGIN:VEVENT
DTSTART;TZID=America/Chicago:20240603T083000
DTEND;TZID=America/Chicago:20240607T113000
DTSTAMP:20260420T015111
CREATED:20240102T213456Z
LAST-MODIFIED:20240606T233554Z
UID:6618-1717403400-1717759800@aritonbc.org
SUMMARY:ABC VBS
DESCRIPTION:
URL:https://aritonbc.org/event/abc-vbs/
END:VEVENT
BEGIN:VEVENT
DTSTART;TZID=America/Chicago:20240602T180000
DTEND;TZID=America/Chicago:20240602T190000
DTSTAMP:20260420T015111
CREATED:20240119T220455Z
LAST-MODIFIED:20240404T193547Z
UID:6823-1717351200-1717354800@aritonbc.org
SUMMARY:Bible Recap Bible Study
DESCRIPTION:
URL:https://aritonbc.org/event/bible-recap-bible-study-20/
END:VEVENT
BEGIN:VEVENT
DTSTART;TZID=America/Chicago:20240602T170000
DTEND;TZID=America/Chicago:20240602T190000
DTSTAMP:20260420T015111
CREATED:20240405T195032Z
LAST-MODIFIED:20240602T233648Z
UID:7846-1717347600-1717354800@aritonbc.org
SUMMARY:Teen Girls Bible Study-Etheredge Home
DESCRIPTION:Dinner is provided.
URL:https://aritonbc.org/event/teen-girls-bible-study-etheredge-home-8/
END:VEVENT
BEGIN:VEVENT
DTSTART;TZID=America/Chicago:20240602T170000
DTEND;TZID=America/Chicago:20240602T190000
DTSTAMP:20260420T015111
CREATED:20240329T192147Z
LAST-MODIFIED:20240404T193547Z
UID:7754-1717347600-1717354800@aritonbc.org
SUMMARY:Teen Girl Bible Study-Etheredges
DESCRIPTION:Dinner is provided.
URL:https://aritonbc.org/event/teen-girl-bible-study-etheredges-9/
END:VEVENT
BEGIN:VEVENT
DTSTART;TZID=America/Chicago:20240602T170000
DTEND;TZID=America/Chicago:20240602T180000
DTSTAMP:20260420T015111
CREATED:20240116T214950Z
LAST-MODIFIED:20240404T193547Z
UID:6712-1717347600-1717351200@aritonbc.org
SUMMARY:Discipleship Training
DESCRIPTION:
URL:https://aritonbc.org/event/discipleship-training-117/
END:VEVENT
BEGIN:VEVENT
DTSTART;TZID=America/Chicago:20240602T170000
DTEND;TZID=America/Chicago:20240602T180000
DTSTAMP:20260420T015111
CREATED:20231105T060542Z
LAST-MODIFIED:20240115T214941Z
UID:6170-1717347600-1717351200@aritonbc.org
SUMMARY:Discipleship Training
DESCRIPTION:
URL:https://aritonbc.org/event/discipleship-training-74/
END:VEVENT
END:VCALENDAR