BEGIN:VCALENDAR
VERSION:2.0
PRODID:-//Ariton Baptist Church - ECPv6.15.13.1//NONSGML v1.0//EN
CALSCALE:GREGORIAN
METHOD:PUBLISH
X-WR-CALNAME:Ariton Baptist Church
X-ORIGINAL-URL:https://aritonbc.org
X-WR-CALDESC:Events for Ariton Baptist Church
REFRESH-INTERVAL;VALUE=DURATION:PT1H
X-Robots-Tag:noindex
X-PUBLISHED-TTL:PT1H
BEGIN:VTIMEZONE
TZID:America/Chicago
BEGIN:DAYLIGHT
TZOFFSETFROM:-0600
TZOFFSETTO:-0500
TZNAME:CDT
DTSTART:20230312T080000
END:DAYLIGHT
BEGIN:STANDARD
TZOFFSETFROM:-0500
TZOFFSETTO:-0600
TZNAME:CST
DTSTART:20231105T070000
END:STANDARD
BEGIN:DAYLIGHT
TZOFFSETFROM:-0600
TZOFFSETTO:-0500
TZNAME:CDT
DTSTART:20240310T080000
END:DAYLIGHT
BEGIN:STANDARD
TZOFFSETFROM:-0500
TZOFFSETTO:-0600
TZNAME:CST
DTSTART:20241103T070000
END:STANDARD
BEGIN:DAYLIGHT
TZOFFSETFROM:-0600
TZOFFSETTO:-0500
TZNAME:CDT
DTSTART:20250309T080000
END:DAYLIGHT
BEGIN:STANDARD
TZOFFSETFROM:-0500
TZOFFSETTO:-0600
TZNAME:CST
DTSTART:20251102T070000
END:STANDARD
END:VTIMEZONE
BEGIN:VEVENT
DTSTART;TZID=America/Chicago:20240716T093000
DTEND;TZID=America/Chicago:20240716T110000
DTSTAMP:20260419T194647
CREATED:20240119T220456Z
LAST-MODIFIED:20240126T221953Z
UID:6836-1721122200-1721127600@aritonbc.org
SUMMARY:Women's Bible Study
DESCRIPTION:
URL:https://aritonbc.org/event/womens-bible-study-39/
END:VEVENT
BEGIN:VEVENT
DTSTART;VALUE=DATE:20240716
DTEND;VALUE=DATE:20240717
DTSTAMP:20260419T194647
CREATED:20231105T060543Z
LAST-MODIFIED:20240610T233432Z
UID:6209-1721088000-1721174399@aritonbc.org
SUMMARY:Pack BROWN BAGS after 2PM
DESCRIPTION:
URL:https://aritonbc.org/event/pack-brown-bags-after-2pm-17/
END:VEVENT
BEGIN:VEVENT
DTSTART;TZID=America/Chicago:20240714T180000
DTEND;TZID=America/Chicago:20240714T190000
DTSTAMP:20260419T194647
CREATED:20240119T220456Z
LAST-MODIFIED:20240610T233432Z
UID:6835-1720980000-1720983600@aritonbc.org
SUMMARY:Bible Recap Bible Study
DESCRIPTION:
URL:https://aritonbc.org/event/bible-recap-bible-study-26/
END:VEVENT
BEGIN:VEVENT
DTSTART;TZID=America/Chicago:20240714T170000
DTEND;TZID=America/Chicago:20240714T180000
DTSTAMP:20260419T194647
CREATED:20240116T214951Z
LAST-MODIFIED:20240610T233432Z
UID:6718-1720976400-1720980000@aritonbc.org
SUMMARY:Discipleship Training
DESCRIPTION:
URL:https://aritonbc.org/event/discipleship-training-123/
END:VEVENT
BEGIN:VEVENT
DTSTART;TZID=America/Chicago:20240714T170000
DTEND;TZID=America/Chicago:20240714T180000
DTSTAMP:20260419T194647
CREATED:20231105T060543Z
LAST-MODIFIED:20240115T214942Z
UID:6207-1720976400-1720980000@aritonbc.org
SUMMARY:Discipleship Training
DESCRIPTION:
URL:https://aritonbc.org/event/discipleship-training-80/
END:VEVENT
BEGIN:VEVENT
DTSTART;TZID=America/Chicago:20240714T110000
DTEND;TZID=America/Chicago:20240714T120000
DTSTAMP:20260419T194647
CREATED:20231105T060543Z
LAST-MODIFIED:20240610T233432Z
UID:6206-1720954800-1720958400@aritonbc.org
SUMMARY:Worship Service In-House & Posted to Facebook Later
DESCRIPTION:
URL:https://aritonbc.org/event/worship-service-in-house-posted-to-facebook-later-81/
END:VEVENT
BEGIN:VEVENT
DTSTART;TZID=America/Chicago:20240714T094500
DTEND;TZID=America/Chicago:20240714T104500
DTSTAMP:20260419T194647
CREATED:20231105T060543Z
LAST-MODIFIED:20240610T233432Z
UID:6205-1720950300-1720953900@aritonbc.org
SUMMARY:In-House Sunday School
DESCRIPTION:Large Group Adult\, Youth\, Children & Toddler SS Classes. Nursery Provided.
URL:https://aritonbc.org/event/in-house-sunday-school-80/
END:VEVENT
BEGIN:VEVENT
DTSTART;TZID=America/Chicago:20240714T080000
DTEND;TZID=America/Chicago:20240714T090000
DTSTAMP:20260419T194647
CREATED:20240109T214946Z
LAST-MODIFIED:20240610T233432Z
UID:6648-1720944000-1720947600@aritonbc.org
SUMMARY:Brotherhood Breakfast
DESCRIPTION:
URL:https://aritonbc.org/event/brotherhood-breakfast-29/
END:VEVENT
BEGIN:VEVENT
DTSTART;TZID=America/Chicago:20240714T080000
DTEND;TZID=America/Chicago:20240714T090000
DTSTAMP:20260419T194647
CREATED:20231105T060543Z
LAST-MODIFIED:20240108T215019Z
UID:6204-1720944000-1720947600@aritonbc.org
SUMMARY:Brotherhood Breakfast
DESCRIPTION:
URL:https://aritonbc.org/event/brotherhood-breakfast-19/
END:VEVENT
BEGIN:VEVENT
DTSTART;VALUE=DATE:20240712
DTEND;VALUE=DATE:20240713
DTSTAMP:20260419T194647
CREATED:20240129T225004Z
LAST-MODIFIED:20240404T193548Z
UID:7421-1720742400-1720828799@aritonbc.org
SUMMARY:Tables of Joy-Potential
DESCRIPTION:
URL:https://aritonbc.org/event/tables-of-joy-potential/
END:VEVENT
BEGIN:VEVENT
DTSTART;TZID=America/Chicago:20240710T183000
DTEND;TZID=America/Chicago:20240710T193000
DTSTAMP:20260419T194647
CREATED:20231105T060543Z
LAST-MODIFIED:20240610T233432Z
UID:6203-1720636200-1720639800@aritonbc.org
SUMMARY:Wednesday Night Service
DESCRIPTION:Check Ariton Baptist Facebook page for instructions
URL:https://aritonbc.org/event/wednesday-night-service-81/
END:VEVENT
BEGIN:VEVENT
DTSTART;TZID=America/Chicago:20240710T173000
DTEND;TZID=America/Chicago:20240710T183000
DTSTAMP:20260419T194647
CREATED:20231105T060543Z
LAST-MODIFIED:20240610T233432Z
UID:6202-1720632600-1720636200@aritonbc.org
SUMMARY:Wednesday Night Meal
DESCRIPTION:
URL:https://aritonbc.org/event/wednesday-night-meal-80/
END:VEVENT
BEGIN:VEVENT
DTSTART;TZID=America/Chicago:20240709T093000
DTEND;TZID=America/Chicago:20240709T110000
DTSTAMP:20260419T194647
CREATED:20240119T220456Z
LAST-MODIFIED:20240126T221953Z
UID:6834-1720517400-1720522800@aritonbc.org
SUMMARY:Women's Bible Study
DESCRIPTION:
URL:https://aritonbc.org/event/womens-bible-study-38/
END:VEVENT
BEGIN:VEVENT
DTSTART;TZID=America/Chicago:20240707T180000
DTEND;TZID=America/Chicago:20240707T190000
DTSTAMP:20260419T194647
CREATED:20240119T220456Z
LAST-MODIFIED:20240610T233432Z
UID:6833-1720375200-1720378800@aritonbc.org
SUMMARY:Bible Recap Bible Study
DESCRIPTION:
URL:https://aritonbc.org/event/bible-recap-bible-study-25/
END:VEVENT
BEGIN:VEVENT
DTSTART;TZID=America/Chicago:20240707T170000
DTEND;TZID=America/Chicago:20240707T180000
DTSTAMP:20260419T194647
CREATED:20240116T214950Z
LAST-MODIFIED:20240610T233432Z
UID:6717-1720371600-1720375200@aritonbc.org
SUMMARY:Discipleship Training
DESCRIPTION:
URL:https://aritonbc.org/event/discipleship-training-122/
END:VEVENT
BEGIN:VEVENT
DTSTART;TZID=America/Chicago:20240707T170000
DTEND;TZID=America/Chicago:20240707T180000
DTSTAMP:20260419T194647
CREATED:20231105T060543Z
LAST-MODIFIED:20240115T214942Z
UID:6201-1720371600-1720375200@aritonbc.org
SUMMARY:Discipleship Training
DESCRIPTION:
URL:https://aritonbc.org/event/discipleship-training-79/
END:VEVENT
BEGIN:VEVENT
DTSTART;TZID=America/Chicago:20240707T110000
DTEND;TZID=America/Chicago:20240707T120000
DTSTAMP:20260419T194647
CREATED:20231105T060543Z
LAST-MODIFIED:20240610T233431Z
UID:6200-1720350000-1720353600@aritonbc.org
SUMMARY:Worship Service In-House & Posted to Facebook Later
DESCRIPTION:
URL:https://aritonbc.org/event/worship-service-in-house-posted-to-facebook-later-80/
END:VEVENT
BEGIN:VEVENT
DTSTART;TZID=America/Chicago:20240707T094500
DTEND;TZID=America/Chicago:20240707T104500
DTSTAMP:20260419T194647
CREATED:20231105T060543Z
LAST-MODIFIED:20240610T233431Z
UID:6199-1720345500-1720349100@aritonbc.org
SUMMARY:In-House Sunday School
DESCRIPTION:Large Group Adult\, Youth\, Children & Toddler SS Classes. Nursery Provided.
URL:https://aritonbc.org/event/in-house-sunday-school-79/
END:VEVENT
BEGIN:VEVENT
DTSTART;VALUE=DATE:20240704
DTEND;VALUE=DATE:20240705
DTSTAMP:20260419T194647
CREATED:20240405T195032Z
LAST-MODIFIED:20240610T233431Z
UID:7854-1720051200-1720137599@aritonbc.org
SUMMARY:Independence Day
DESCRIPTION:
URL:https://aritonbc.org/event/independence-day-2/
END:VEVENT
BEGIN:VEVENT
DTSTART;TZID=America/Chicago:20240703T183000
DTEND;TZID=America/Chicago:20240703T193000
DTSTAMP:20260419T194647
CREATED:20231105T060543Z
LAST-MODIFIED:20240610T233431Z
UID:6197-1720031400-1720035000@aritonbc.org
SUMMARY:Wednesday Night Service
DESCRIPTION:Check Ariton Baptist Facebook page for instructions
URL:https://aritonbc.org/event/wednesday-night-service-80/
END:VEVENT
BEGIN:VEVENT
DTSTART;TZID=America/Chicago:20240703T173000
DTEND;TZID=America/Chicago:20240703T183000
DTSTAMP:20260419T194647
CREATED:20231105T060543Z
LAST-MODIFIED:20240404T193548Z
UID:6198-1720027800-1720031400@aritonbc.org
SUMMARY:Wednesday Night Meal
DESCRIPTION:
URL:https://aritonbc.org/event/wednesday-night-meal-79/
END:VEVENT
BEGIN:VEVENT
DTSTART;VALUE=DATE:20240703
DTEND;VALUE=DATE:20240704
DTSTAMP:20260419T194647
CREATED:20240405T195033Z
LAST-MODIFIED:20240527T233455Z
UID:7855-1719964800-1720051199@aritonbc.org
SUMMARY:NO WED MEAL
DESCRIPTION:
URL:https://aritonbc.org/event/no-wed-meal-3/
END:VEVENT
BEGIN:VEVENT
DTSTART;TZID=America/Chicago:20240702T093000
DTEND;TZID=America/Chicago:20240702T110000
DTSTAMP:20260419T194647
CREATED:20240119T220456Z
LAST-MODIFIED:20240126T221953Z
UID:6832-1719912600-1719918000@aritonbc.org
SUMMARY:Women's Bible Study
DESCRIPTION:
URL:https://aritonbc.org/event/womens-bible-study-37/
END:VEVENT
BEGIN:VEVENT
DTSTART;TZID=America/Chicago:20240630T180000
DTEND;TZID=America/Chicago:20240630T190000
DTSTAMP:20260419T194647
CREATED:20240119T220456Z
LAST-MODIFIED:20240610T233431Z
UID:6831-1719770400-1719774000@aritonbc.org
SUMMARY:Bible Recap Bible Study
DESCRIPTION:
URL:https://aritonbc.org/event/bible-recap-bible-study-24/
END:VEVENT
BEGIN:VEVENT
DTSTART;TZID=America/Chicago:20240630T170000
DTEND;TZID=America/Chicago:20240630T190000
DTSTAMP:20260419T194647
CREATED:20240405T195032Z
LAST-MODIFIED:20240610T233431Z
UID:7853-1719766800-1719774000@aritonbc.org
SUMMARY:Teen Girls Bible Study-Etheredge Home
DESCRIPTION:Dinner is provided.
URL:https://aritonbc.org/event/teen-girls-bible-study-etheredge-home-11/
END:VEVENT
BEGIN:VEVENT
DTSTART;TZID=America/Chicago:20240630T170000
DTEND;TZID=America/Chicago:20240630T180000
DTSTAMP:20260419T194647
CREATED:20240116T214950Z
LAST-MODIFIED:20240610T233431Z
UID:6716-1719766800-1719770400@aritonbc.org
SUMMARY:Discipleship Training
DESCRIPTION:
URL:https://aritonbc.org/event/discipleship-training-121/
END:VEVENT
BEGIN:VEVENT
DTSTART;TZID=America/Chicago:20240630T170000
DTEND;TZID=America/Chicago:20240630T180000
DTSTAMP:20260419T194647
CREATED:20231105T060543Z
LAST-MODIFIED:20240115T214942Z
UID:6196-1719766800-1719770400@aritonbc.org
SUMMARY:Discipleship Training
DESCRIPTION:
URL:https://aritonbc.org/event/discipleship-training-78/
END:VEVENT
BEGIN:VEVENT
DTSTART;TZID=America/Chicago:20240630T110000
DTEND;TZID=America/Chicago:20240630T120000
DTSTAMP:20260419T194647
CREATED:20231105T060543Z
LAST-MODIFIED:20240610T233431Z
UID:6194-1719745200-1719748800@aritonbc.org
SUMMARY:Worship Service In-House & Posted to Facebook Later
DESCRIPTION:
URL:https://aritonbc.org/event/worship-service-in-house-posted-to-facebook-later-79/
END:VEVENT
BEGIN:VEVENT
DTSTART;TZID=America/Chicago:20240630T094500
DTEND;TZID=America/Chicago:20240630T104500
DTSTAMP:20260419T194647
CREATED:20231105T060543Z
LAST-MODIFIED:20240610T233431Z
UID:6193-1719740700-1719744300@aritonbc.org
SUMMARY:In-House Sunday School
DESCRIPTION:Large Group Adult\, Youth\, Children & Toddler SS Classes. Nursery Provided.
URL:https://aritonbc.org/event/in-house-sunday-school-78/
END:VEVENT
BEGIN:VEVENT
DTSTART;VALUE=DATE:20240630
DTEND;VALUE=DATE:20240701
DTSTAMP:20260419T194647
CREATED:20231105T060543Z
LAST-MODIFIED:20240610T233431Z
UID:6195-1719705600-1719791999@aritonbc.org
SUMMARY:Lord's Supper
DESCRIPTION:
URL:https://aritonbc.org/event/lords-supper-6/
END:VEVENT
END:VCALENDAR