BEGIN:VCALENDAR
VERSION:2.0
PRODID:-//Ariton Baptist Church - ECPv6.15.13.1//NONSGML v1.0//EN
CALSCALE:GREGORIAN
METHOD:PUBLISH
X-ORIGINAL-URL:https://aritonbc.org
X-WR-CALDESC:Events for Ariton Baptist Church
REFRESH-INTERVAL;VALUE=DURATION:PT1H
X-Robots-Tag:noindex
X-PUBLISHED-TTL:PT1H
BEGIN:VTIMEZONE
TZID:America/Chicago
BEGIN:DAYLIGHT
TZOFFSETFROM:-0600
TZOFFSETTO:-0500
TZNAME:CDT
DTSTART:20240310T080000
END:DAYLIGHT
BEGIN:STANDARD
TZOFFSETFROM:-0500
TZOFFSETTO:-0600
TZNAME:CST
DTSTART:20241103T070000
END:STANDARD
BEGIN:DAYLIGHT
TZOFFSETFROM:-0600
TZOFFSETTO:-0500
TZNAME:CDT
DTSTART:20250309T080000
END:DAYLIGHT
BEGIN:STANDARD
TZOFFSETFROM:-0500
TZOFFSETTO:-0600
TZNAME:CST
DTSTART:20251102T070000
END:STANDARD
BEGIN:DAYLIGHT
TZOFFSETFROM:-0600
TZOFFSETTO:-0500
TZNAME:CDT
DTSTART:20260308T080000
END:DAYLIGHT
BEGIN:STANDARD
TZOFFSETFROM:-0500
TZOFFSETTO:-0600
TZNAME:CST
DTSTART:20261101T070000
END:STANDARD
END:VTIMEZONE
BEGIN:VEVENT
DTSTART;TZID=America/Chicago:20251212T220000
DTEND;TZID=America/Chicago:20251212T230000
DTSTAMP:20260420T021348
CREATED:20251201T185346Z
LAST-MODIFIED:20251201T185346Z
UID:10813-1765576800-1765580400@aritonbc.org
SUMMARY:Post prayer
DESCRIPTION:
URL:https://aritonbc.org/event/post-prayer-12/
END:VEVENT
BEGIN:VEVENT
DTSTART;TZID=America/Chicago:20251212T220000
DTEND;TZID=America/Chicago:20251212T230000
DTSTAMP:20260420T021348
CREATED:20251202T185349Z
LAST-MODIFIED:20251204T185344Z
UID:10954-1765576800-1765580400@aritonbc.org
SUMMARY:Post prayer
DESCRIPTION:
URL:https://aritonbc.org/event/post-prayer-147/
END:VEVENT
BEGIN:VEVENT
DTSTART;TZID=America/Chicago:20251213T183000
DTEND;TZID=America/Chicago:20251213T203000
DTSTAMP:20260420T021348
CREATED:20250827T205357Z
LAST-MODIFIED:20251213T192344Z
UID:10364-1765650600-1765657800@aritonbc.org
SUMMARY:Youth Christmas Play
DESCRIPTION:
URL:https://aritonbc.org/event/youth-play/
END:VEVENT
BEGIN:VEVENT
DTSTART;TZID=America/Chicago:20251213T220000
DTEND;TZID=America/Chicago:20251213T230000
DTSTAMP:20260420T021348
CREATED:20251201T185346Z
LAST-MODIFIED:20251201T185346Z
UID:10814-1765663200-1765666800@aritonbc.org
SUMMARY:Post prayer
DESCRIPTION:
URL:https://aritonbc.org/event/post-prayer-13/
END:VEVENT
BEGIN:VEVENT
DTSTART;TZID=America/Chicago:20251213T220000
DTEND;TZID=America/Chicago:20251213T230000
DTSTAMP:20260420T021348
CREATED:20251202T185349Z
LAST-MODIFIED:20251204T185344Z
UID:10955-1765663200-1765666800@aritonbc.org
SUMMARY:Post prayer
DESCRIPTION:
URL:https://aritonbc.org/event/post-prayer-148/
END:VEVENT
BEGIN:VEVENT
DTSTART;TZID=America/Chicago:20251214T080000
DTEND;TZID=America/Chicago:20251214T090000
DTSTAMP:20260420T021348
CREATED:20250323T200852Z
LAST-MODIFIED:20251213T192344Z
UID:9503-1765699200-1765702800@aritonbc.org
SUMMARY:Brotherhood Breakfast
DESCRIPTION:
URL:https://aritonbc.org/event/brotherhood-breakfast-47/
END:VEVENT
BEGIN:VEVENT
DTSTART;TZID=America/Chicago:20251214T094500
DTEND;TZID=America/Chicago:20251214T104500
DTSTAMP:20260420T021348
CREATED:20250323T200852Z
LAST-MODIFIED:20251213T192344Z
UID:9504-1765705500-1765709100@aritonbc.org
SUMMARY:In-House Sunday School
DESCRIPTION:Large Group Adult\, Youth\, Children & Toddler SS Classes. Nursery Provided.
URL:https://aritonbc.org/event/in-house-sunday-school-154/
END:VEVENT
BEGIN:VEVENT
DTSTART;TZID=America/Chicago:20251214T110000
DTEND;TZID=America/Chicago:20251214T120000
DTSTAMP:20260420T021348
CREATED:20250324T200841Z
LAST-MODIFIED:20251213T192344Z
UID:9511-1765710000-1765713600@aritonbc.org
SUMMARY:Worship Service In-House & Posted to Facebook Later
DESCRIPTION:
URL:https://aritonbc.org/event/worship-service-in-house-posted-to-facebook-later-155/
END:VEVENT
BEGIN:VEVENT
DTSTART;TZID=America/Chicago:20251214T170000
DTEND;TZID=America/Chicago:20251214T180000
DTSTAMP:20260420T021348
CREATED:20250407T205418Z
LAST-MODIFIED:20250915T220906Z
UID:9595-1765731600-1765735200@aritonbc.org
SUMMARY:Bible Recap Bible Study
DESCRIPTION:
URL:https://aritonbc.org/event/bible-recap-bible-study-152/
END:VEVENT
BEGIN:VEVENT
DTSTART;TZID=America/Chicago:20251214T180000
DTEND;TZID=America/Chicago:20251214T190000
DTSTAMP:20260420T021348
CREATED:20250407T205418Z
LAST-MODIFIED:20250915T220906Z
UID:9596-1765735200-1765738800@aritonbc.org
SUMMARY:Sunday Evening Service
DESCRIPTION:
URL:https://aritonbc.org/event/sunday-evening-service-49/
END:VEVENT
BEGIN:VEVENT
DTSTART;TZID=America/Chicago:20251214T183000
DTEND;TZID=America/Chicago:20251214T203000
DTSTAMP:20260420T021348
CREATED:20250827T205357Z
LAST-MODIFIED:20251214T192345Z
UID:10365-1765737000-1765744200@aritonbc.org
SUMMARY:Youth Christmas Play
DESCRIPTION:
URL:https://aritonbc.org/event/youth-play-2/
END:VEVENT
BEGIN:VEVENT
DTSTART;TZID=America/Chicago:20251214T220000
DTEND;TZID=America/Chicago:20251214T230000
DTSTAMP:20260420T021348
CREATED:20251201T185346Z
LAST-MODIFIED:20251201T185346Z
UID:10815-1765749600-1765753200@aritonbc.org
SUMMARY:Post prayer
DESCRIPTION:
URL:https://aritonbc.org/event/post-prayer-14/
END:VEVENT
BEGIN:VEVENT
DTSTART;TZID=America/Chicago:20251214T220000
DTEND;TZID=America/Chicago:20251214T230000
DTSTAMP:20260420T021348
CREATED:20251202T185349Z
LAST-MODIFIED:20251204T185344Z
UID:10956-1765749600-1765753200@aritonbc.org
SUMMARY:Post prayer
DESCRIPTION:
URL:https://aritonbc.org/event/post-prayer-149/
END:VEVENT
BEGIN:VEVENT
DTSTART;TZID=America/Chicago:20251215T220000
DTEND;TZID=America/Chicago:20251215T230000
DTSTAMP:20260420T021348
CREATED:20251201T185346Z
LAST-MODIFIED:20251201T185346Z
UID:10816-1765836000-1765839600@aritonbc.org
SUMMARY:Post prayer
DESCRIPTION:
URL:https://aritonbc.org/event/post-prayer-15/
END:VEVENT
BEGIN:VEVENT
DTSTART;TZID=America/Chicago:20251215T220000
DTEND;TZID=America/Chicago:20251215T230000
DTSTAMP:20260420T021348
CREATED:20251202T185349Z
LAST-MODIFIED:20251204T185344Z
UID:10957-1765836000-1765839600@aritonbc.org
SUMMARY:Post prayer
DESCRIPTION:
URL:https://aritonbc.org/event/post-prayer-150/
END:VEVENT
BEGIN:VEVENT
DTSTART;VALUE=DATE:20251216
DTEND;VALUE=DATE:20251217
DTSTAMP:20260420T021348
CREATED:20250407T205418Z
LAST-MODIFIED:20251216T193848Z
UID:9597-1765843200-1765929599@aritonbc.org
SUMMARY:Pack BROWN BAGS
DESCRIPTION:
URL:https://aritonbc.org/event/pack-brown-bags-13/
END:VEVENT
BEGIN:VEVENT
DTSTART;TZID=America/Chicago:20251216T103000
DTEND;TZID=America/Chicago:20251216T113000
DTSTAMP:20260420T021348
CREATED:20251210T190844Z
LAST-MODIFIED:20251215T193845Z
UID:11292-1765881000-1765884600@aritonbc.org
SUMMARY:AMS Search at Pinckard BC
DESCRIPTION:
URL:https://aritonbc.org/event/ams-search-at-pinckard-bc/
END:VEVENT
BEGIN:VEVENT
DTSTART;TZID=America/Chicago:20251216T220000
DTEND;TZID=America/Chicago:20251216T230000
DTSTAMP:20260420T021348
CREATED:20251201T185347Z
LAST-MODIFIED:20251201T185347Z
UID:10817-1765922400-1765926000@aritonbc.org
SUMMARY:Post prayer
DESCRIPTION:
URL:https://aritonbc.org/event/post-prayer-16/
END:VEVENT
BEGIN:VEVENT
DTSTART;TZID=America/Chicago:20251216T220000
DTEND;TZID=America/Chicago:20251216T230000
DTSTAMP:20260420T021348
CREATED:20251202T185349Z
LAST-MODIFIED:20251204T185344Z
UID:10958-1765922400-1765926000@aritonbc.org
SUMMARY:Post prayer
DESCRIPTION:
URL:https://aritonbc.org/event/post-prayer-151/
END:VEVENT
BEGIN:VEVENT
DTSTART;VALUE=DATE:20251217
DTEND;VALUE=DATE:20251218
DTSTAMP:20260420T021348
CREATED:20250916T222434Z
LAST-MODIFIED:20251216T193848Z
UID:10457-1765929600-1766015999@aritonbc.org
SUMMARY:Youth Christsmas Party
DESCRIPTION:
URL:https://aritonbc.org/event/youth-christsmas-party/
END:VEVENT
BEGIN:VEVENT
DTSTART;VALUE=DATE:20251217
DTEND;VALUE=DATE:20251218
DTSTAMP:20260420T021348
CREATED:20251119T180850Z
LAST-MODIFIED:20251216T193848Z
UID:10738-1765929600-1766015999@aritonbc.org
SUMMARY:Angel Tree Drop-Off
DESCRIPTION:
URL:https://aritonbc.org/event/angel-tree-drop-off/
END:VEVENT
BEGIN:VEVENT
DTSTART;TZID=America/Chicago:20251217T093000
DTEND;TZID=America/Chicago:20251217T130000
DTSTAMP:20260420T021348
CREATED:20250407T205418Z
LAST-MODIFIED:20251216T193848Z
UID:9598-1765963800-1765976400@aritonbc.org
SUMMARY:BROWN BAG MINISTRY Pick-up
DESCRIPTION:
URL:https://aritonbc.org/event/brown-bag-ministry-pick-up-34/
END:VEVENT
BEGIN:VEVENT
DTSTART;TZID=America/Chicago:20251217T173000
DTEND;TZID=America/Chicago:20251217T183000
DTSTAMP:20260420T021348
CREATED:20250410T205357Z
LAST-MODIFIED:20250703T180856Z
UID:9620-1765992600-1765996200@aritonbc.org
SUMMARY:Wednesday Night Meal
DESCRIPTION:
URL:https://aritonbc.org/event/wednesday-night-meal-153/
END:VEVENT
BEGIN:VEVENT
DTSTART;TZID=America/Chicago:20251217T173000
DTEND;TZID=America/Chicago:20251217T183000
DTSTAMP:20260420T021348
CREATED:20250707T180904Z
LAST-MODIFIED:20251216T193848Z
UID:10182-1765992600-1765996200@aritonbc.org
SUMMARY:Wednesday Meal
DESCRIPTION:
URL:https://aritonbc.org/event/wednesday-meal-24/
END:VEVENT
BEGIN:VEVENT
DTSTART;TZID=America/Chicago:20251217T183000
DTEND;TZID=America/Chicago:20251217T193000
DTSTAMP:20260420T021348
CREATED:20250410T205357Z
LAST-MODIFIED:20251216T193848Z
UID:9619-1765996200-1765999800@aritonbc.org
SUMMARY:Wednesday Night Service
DESCRIPTION:Check Ariton Baptist Facebook page for instructions
URL:https://aritonbc.org/event/wednesday-night-service-154/
END:VEVENT
BEGIN:VEVENT
DTSTART;TZID=America/Chicago:20251217T183000
DTEND;TZID=America/Chicago:20251217T193000
DTSTAMP:20260420T021348
CREATED:20251121T182350Z
LAST-MODIFIED:20251216T193848Z
UID:10752-1765996200-1765999800@aritonbc.org
SUMMARY:Special Called Business Meeting-2026 Budget
DESCRIPTION:
URL:https://aritonbc.org/event/special-called-business-meeting-2026-budget/
END:VEVENT
BEGIN:VEVENT
DTSTART;TZID=America/Chicago:20251217T220000
DTEND;TZID=America/Chicago:20251217T230000
DTSTAMP:20260420T021348
CREATED:20251201T185347Z
LAST-MODIFIED:20251201T185347Z
UID:10818-1766008800-1766012400@aritonbc.org
SUMMARY:Post prayer
DESCRIPTION:
URL:https://aritonbc.org/event/post-prayer-17/
END:VEVENT
BEGIN:VEVENT
DTSTART;TZID=America/Chicago:20251217T220000
DTEND;TZID=America/Chicago:20251217T230000
DTSTAMP:20260420T021348
CREATED:20251202T185350Z
LAST-MODIFIED:20251204T185344Z
UID:10959-1766008800-1766012400@aritonbc.org
SUMMARY:Post prayer
DESCRIPTION:
URL:https://aritonbc.org/event/post-prayer-152/
END:VEVENT
BEGIN:VEVENT
DTSTART;TZID=America/Chicago:20251218T110000
DTEND;TZID=America/Chicago:20251218T130000
DTSTAMP:20260420T021348
CREATED:20250411T205415Z
LAST-MODIFIED:20251218T180122Z
UID:9624-1766055600-1766062800@aritonbc.org
SUMMARY:Wonderful Widows Luncheon
DESCRIPTION:
URL:https://aritonbc.org/event/wonderful-widows-luncheon-26/
END:VEVENT
BEGIN:VEVENT
DTSTART;TZID=America/Chicago:20251218T153000
DTEND;TZID=America/Chicago:20251218T170000
DTSTAMP:20260420T021348
CREATED:20251119T180850Z
LAST-MODIFIED:20251218T180122Z
UID:10739-1766071800-1766077200@aritonbc.org
SUMMARY:Angel Tree Pick-up
DESCRIPTION:
URL:https://aritonbc.org/event/angel-tree-pick-up-2/
END:VEVENT
END:VCALENDAR