BEGIN:VCALENDAR
VERSION:2.0
PRODID:-//Ariton Baptist Church - ECPv6.15.13.1//NONSGML v1.0//EN
CALSCALE:GREGORIAN
METHOD:PUBLISH
X-WR-CALNAME:Ariton Baptist Church
X-ORIGINAL-URL:https://aritonbc.org
X-WR-CALDESC:Events for Ariton Baptist Church
REFRESH-INTERVAL;VALUE=DURATION:PT1H
X-Robots-Tag:noindex
X-PUBLISHED-TTL:PT1H
BEGIN:VTIMEZONE
TZID:America/Chicago
BEGIN:DAYLIGHT
TZOFFSETFROM:-0600
TZOFFSETTO:-0500
TZNAME:CDT
DTSTART:20230312T080000
END:DAYLIGHT
BEGIN:STANDARD
TZOFFSETFROM:-0500
TZOFFSETTO:-0600
TZNAME:CST
DTSTART:20231105T070000
END:STANDARD
BEGIN:DAYLIGHT
TZOFFSETFROM:-0600
TZOFFSETTO:-0500
TZNAME:CDT
DTSTART:20240310T080000
END:DAYLIGHT
BEGIN:STANDARD
TZOFFSETFROM:-0500
TZOFFSETTO:-0600
TZNAME:CST
DTSTART:20241103T070000
END:STANDARD
BEGIN:DAYLIGHT
TZOFFSETFROM:-0600
TZOFFSETTO:-0500
TZNAME:CDT
DTSTART:20250309T080000
END:DAYLIGHT
BEGIN:STANDARD
TZOFFSETFROM:-0500
TZOFFSETTO:-0600
TZNAME:CST
DTSTART:20251102T070000
END:STANDARD
END:VTIMEZONE
BEGIN:VEVENT
DTSTART;TZID=America/Chicago:20240731T173000
DTEND;TZID=America/Chicago:20240731T183000
DTSTAMP:20260419T164828
CREATED:20231105T060544Z
LAST-MODIFIED:20240610T233432Z
UID:6224-1722447000-1722450600@aritonbc.org
SUMMARY:Wednesday Night Meal
DESCRIPTION:
URL:https://aritonbc.org/event/wednesday-night-meal-83/
END:VEVENT
BEGIN:VEVENT
DTSTART;VALUE=DATE:20240731
DTEND;VALUE=DATE:20240801
DTSTAMP:20260419T164828
CREATED:20231105T060544Z
LAST-MODIFIED:20240610T233432Z
UID:6220-1722384000-1722470399@aritonbc.org
SUMMARY:Quarterly Business Meeting
DESCRIPTION:
URL:https://aritonbc.org/event/quarterly-business-meeting-7/
END:VEVENT
BEGIN:VEVENT
DTSTART;TZID=America/Chicago:20240730T093000
DTEND;TZID=America/Chicago:20240730T110000
DTSTAMP:20260419T164828
CREATED:20240119T220457Z
LAST-MODIFIED:20240126T221954Z
UID:6840-1722331800-1722337200@aritonbc.org
SUMMARY:Women's Bible Study
DESCRIPTION:
URL:https://aritonbc.org/event/womens-bible-study-41/
END:VEVENT
BEGIN:VEVENT
DTSTART;TZID=America/Chicago:20240728T180000
DTEND;TZID=America/Chicago:20240728T190000
DTSTAMP:20260419T164828
CREATED:20240119T220457Z
LAST-MODIFIED:20240610T233432Z
UID:6839-1722189600-1722193200@aritonbc.org
SUMMARY:Bible Recap Bible Study
DESCRIPTION:
URL:https://aritonbc.org/event/bible-recap-bible-study-28/
END:VEVENT
BEGIN:VEVENT
DTSTART;TZID=America/Chicago:20240728T170000
DTEND;TZID=America/Chicago:20240728T180000
DTSTAMP:20260419T164828
CREATED:20240116T214951Z
LAST-MODIFIED:20240610T233432Z
UID:6720-1722186000-1722189600@aritonbc.org
SUMMARY:Discipleship Training
DESCRIPTION:
URL:https://aritonbc.org/event/discipleship-training-125/
END:VEVENT
BEGIN:VEVENT
DTSTART;TZID=America/Chicago:20240728T170000
DTEND;TZID=America/Chicago:20240728T180000
DTSTAMP:20260419T164828
CREATED:20231105T060544Z
LAST-MODIFIED:20240115T214943Z
UID:6223-1722186000-1722189600@aritonbc.org
SUMMARY:Discipleship Training
DESCRIPTION:
URL:https://aritonbc.org/event/discipleship-training-82/
END:VEVENT
BEGIN:VEVENT
DTSTART;TZID=America/Chicago:20240728T110000
DTEND;TZID=America/Chicago:20240728T120000
DTSTAMP:20260419T164828
CREATED:20231105T060544Z
LAST-MODIFIED:20240610T233432Z
UID:6222-1722164400-1722168000@aritonbc.org
SUMMARY:Worship Service In-House & Posted to Facebook Later
DESCRIPTION:
URL:https://aritonbc.org/event/worship-service-in-house-posted-to-facebook-later-83/
END:VEVENT
BEGIN:VEVENT
DTSTART;TZID=America/Chicago:20240728T094500
DTEND;TZID=America/Chicago:20240728T104500
DTSTAMP:20260419T164828
CREATED:20231105T060544Z
LAST-MODIFIED:20240610T233432Z
UID:6221-1722159900-1722163500@aritonbc.org
SUMMARY:In-House Sunday School
DESCRIPTION:Large Group Adult\, Youth\, Children & Toddler SS Classes. Nursery Provided.
URL:https://aritonbc.org/event/in-house-sunday-school-82/
END:VEVENT
BEGIN:VEVENT
DTSTART;VALUE=DATE:20240726
DTEND;VALUE=DATE:20240727
DTSTAMP:20260419T164828
CREATED:20240402T193524Z
LAST-MODIFIED:20240404T193548Z
UID:7800-1721952000-1722038399@aritonbc.org
SUMMARY:Tables of Joy-Potential
DESCRIPTION:
URL:https://aritonbc.org/event/tables-of-joy-potential-4/
END:VEVENT
BEGIN:VEVENT
DTSTART;TZID=America/Chicago:20240724T183000
DTEND;TZID=America/Chicago:20240724T193000
DTSTAMP:20260419T164828
CREATED:20231105T060544Z
LAST-MODIFIED:20240610T233432Z
UID:6219-1721845800-1721849400@aritonbc.org
SUMMARY:Wednesday Night Service
DESCRIPTION:Check Ariton Baptist Facebook page for instructions
URL:https://aritonbc.org/event/wednesday-night-service-83/
END:VEVENT
BEGIN:VEVENT
DTSTART;TZID=America/Chicago:20240724T173000
DTEND;TZID=America/Chicago:20240724T183000
DTSTAMP:20260419T164828
CREATED:20231105T060544Z
LAST-MODIFIED:20240610T233432Z
UID:6218-1721842200-1721845800@aritonbc.org
SUMMARY:Wednesday Night Meal
DESCRIPTION:
URL:https://aritonbc.org/event/wednesday-night-meal-82/
END:VEVENT
BEGIN:VEVENT
DTSTART;VALUE=DATE:20240724
DTEND;VALUE=DATE:20240725
DTSTAMP:20260419T164828
CREATED:20231105T060543Z
LAST-MODIFIED:20240610T233432Z
UID:6208-1721779200-1721865599@aritonbc.org
SUMMARY:Finance Committee Meeting
DESCRIPTION:
URL:https://aritonbc.org/event/finance-committee-meeting-8/
END:VEVENT
BEGIN:VEVENT
DTSTART;TZID=America/Chicago:20240723T093000
DTEND;TZID=America/Chicago:20240723T110000
DTSTAMP:20260419T164828
CREATED:20240119T220456Z
LAST-MODIFIED:20240126T221954Z
UID:6838-1721727000-1721732400@aritonbc.org
SUMMARY:Women's Bible Study
DESCRIPTION:
URL:https://aritonbc.org/event/womens-bible-study-40/
END:VEVENT
BEGIN:VEVENT
DTSTART;VALUE=DATE:20240723
DTEND;VALUE=DATE:20240724
DTSTAMP:20260419T164828
CREATED:20231105T060544Z
LAST-MODIFIED:20240610T233432Z
UID:6217-1721692800-1721779199@aritonbc.org
SUMMARY:Magazines Out
DESCRIPTION:
URL:https://aritonbc.org/event/magazines-out-20/
END:VEVENT
BEGIN:VEVENT
DTSTART;TZID=America/Chicago:20240721T180000
DTEND;TZID=America/Chicago:20240721T190000
DTSTAMP:20260419T164828
CREATED:20240119T220456Z
LAST-MODIFIED:20240610T233432Z
UID:6837-1721584800-1721588400@aritonbc.org
SUMMARY:Bible Recap Bible Study
DESCRIPTION:
URL:https://aritonbc.org/event/bible-recap-bible-study-27/
END:VEVENT
BEGIN:VEVENT
DTSTART;TZID=America/Chicago:20240721T170000
DTEND;TZID=America/Chicago:20240721T180000
DTSTAMP:20260419T164828
CREATED:20240116T214951Z
LAST-MODIFIED:20240610T233432Z
UID:6719-1721581200-1721584800@aritonbc.org
SUMMARY:Discipleship Training
DESCRIPTION:
URL:https://aritonbc.org/event/discipleship-training-124/
END:VEVENT
BEGIN:VEVENT
DTSTART;TZID=America/Chicago:20240721T170000
DTEND;TZID=America/Chicago:20240721T180000
DTSTAMP:20260419T164828
CREATED:20231105T060544Z
LAST-MODIFIED:20240115T214942Z
UID:6216-1721581200-1721584800@aritonbc.org
SUMMARY:Discipleship Training
DESCRIPTION:
URL:https://aritonbc.org/event/discipleship-training-81/
END:VEVENT
BEGIN:VEVENT
DTSTART;TZID=America/Chicago:20240721T110000
DTEND;TZID=America/Chicago:20240721T120000
DTSTAMP:20260419T164828
CREATED:20231105T060544Z
LAST-MODIFIED:20240610T233432Z
UID:6215-1721559600-1721563200@aritonbc.org
SUMMARY:Worship Service In-House & Posted to Facebook Later
DESCRIPTION:
URL:https://aritonbc.org/event/worship-service-in-house-posted-to-facebook-later-82/
END:VEVENT
BEGIN:VEVENT
DTSTART;TZID=America/Chicago:20240721T094500
DTEND;TZID=America/Chicago:20240721T104500
DTSTAMP:20260419T164828
CREATED:20231105T060544Z
LAST-MODIFIED:20240610T233432Z
UID:6214-1721555100-1721558700@aritonbc.org
SUMMARY:In-House Sunday School
DESCRIPTION:Large Group Adult\, Youth\, Children & Toddler SS Classes. Nursery Provided.
URL:https://aritonbc.org/event/in-house-sunday-school-81/
END:VEVENT
BEGIN:VEVENT
DTSTART;VALUE=DATE:20240719
DTEND;VALUE=DATE:20240720
DTSTAMP:20260419T164828
CREATED:20240129T225004Z
LAST-MODIFIED:20240404T193548Z
UID:7432-1721347200-1721433599@aritonbc.org
SUMMARY:Tables of Joy-Potential
DESCRIPTION:
URL:https://aritonbc.org/event/tables-of-joy-potential-2/
END:VEVENT
BEGIN:VEVENT
DTSTART;TZID=America/Chicago:20240718T110000
DTEND;TZID=America/Chicago:20240718T130000
DTSTAMP:20260419T164828
CREATED:20231105T060544Z
LAST-MODIFIED:20240610T233432Z
UID:6213-1721300400-1721307600@aritonbc.org
SUMMARY:Wonderful Widows Luncheon
DESCRIPTION:
URL:https://aritonbc.org/event/wonderful-widows-luncheon-9/
END:VEVENT
BEGIN:VEVENT
DTSTART;TZID=America/Chicago:20240717T183000
DTEND;TZID=America/Chicago:20240717T193000
DTSTAMP:20260419T164828
CREATED:20231105T060544Z
LAST-MODIFIED:20240610T233432Z
UID:6211-1721241000-1721244600@aritonbc.org
SUMMARY:Wednesday Night Service
DESCRIPTION:Check Ariton Baptist Facebook page for instructions
URL:https://aritonbc.org/event/wednesday-night-service-82/
END:VEVENT
BEGIN:VEVENT
DTSTART;TZID=America/Chicago:20240717T173000
DTEND;TZID=America/Chicago:20240717T183000
DTSTAMP:20260419T164828
CREATED:20231105T060544Z
LAST-MODIFIED:20240610T233432Z
UID:6212-1721237400-1721241000@aritonbc.org
SUMMARY:Wednesday Night Meal
DESCRIPTION:
URL:https://aritonbc.org/event/wednesday-night-meal-81/
END:VEVENT
BEGIN:VEVENT
DTSTART;TZID=America/Chicago:20240717T093000
DTEND;TZID=America/Chicago:20240717T130000
DTSTAMP:20260419T164828
CREATED:20231105T060544Z
LAST-MODIFIED:20240610T233432Z
UID:6210-1721208600-1721221200@aritonbc.org
SUMMARY:BROWN BAG MINISTRY Pick-up
DESCRIPTION:
URL:https://aritonbc.org/event/brown-bag-ministry-pick-up-17/
END:VEVENT
BEGIN:VEVENT
DTSTART;TZID=America/Chicago:20240716T093000
DTEND;TZID=America/Chicago:20240716T110000
DTSTAMP:20260419T164828
CREATED:20240119T220456Z
LAST-MODIFIED:20240126T221953Z
UID:6836-1721122200-1721127600@aritonbc.org
SUMMARY:Women's Bible Study
DESCRIPTION:
URL:https://aritonbc.org/event/womens-bible-study-39/
END:VEVENT
BEGIN:VEVENT
DTSTART;VALUE=DATE:20240716
DTEND;VALUE=DATE:20240717
DTSTAMP:20260419T164828
CREATED:20231105T060543Z
LAST-MODIFIED:20240610T233432Z
UID:6209-1721088000-1721174399@aritonbc.org
SUMMARY:Pack BROWN BAGS after 2PM
DESCRIPTION:
URL:https://aritonbc.org/event/pack-brown-bags-after-2pm-17/
END:VEVENT
BEGIN:VEVENT
DTSTART;TZID=America/Chicago:20240714T180000
DTEND;TZID=America/Chicago:20240714T190000
DTSTAMP:20260419T164828
CREATED:20240119T220456Z
LAST-MODIFIED:20240610T233432Z
UID:6835-1720980000-1720983600@aritonbc.org
SUMMARY:Bible Recap Bible Study
DESCRIPTION:
URL:https://aritonbc.org/event/bible-recap-bible-study-26/
END:VEVENT
BEGIN:VEVENT
DTSTART;TZID=America/Chicago:20240714T170000
DTEND;TZID=America/Chicago:20240714T180000
DTSTAMP:20260419T164828
CREATED:20240116T214951Z
LAST-MODIFIED:20240610T233432Z
UID:6718-1720976400-1720980000@aritonbc.org
SUMMARY:Discipleship Training
DESCRIPTION:
URL:https://aritonbc.org/event/discipleship-training-123/
END:VEVENT
BEGIN:VEVENT
DTSTART;TZID=America/Chicago:20240714T170000
DTEND;TZID=America/Chicago:20240714T180000
DTSTAMP:20260419T164828
CREATED:20231105T060543Z
LAST-MODIFIED:20240115T214942Z
UID:6207-1720976400-1720980000@aritonbc.org
SUMMARY:Discipleship Training
DESCRIPTION:
URL:https://aritonbc.org/event/discipleship-training-80/
END:VEVENT
BEGIN:VEVENT
DTSTART;TZID=America/Chicago:20240714T110000
DTEND;TZID=America/Chicago:20240714T120000
DTSTAMP:20260419T164828
CREATED:20231105T060543Z
LAST-MODIFIED:20240610T233432Z
UID:6206-1720954800-1720958400@aritonbc.org
SUMMARY:Worship Service In-House & Posted to Facebook Later
DESCRIPTION:
URL:https://aritonbc.org/event/worship-service-in-house-posted-to-facebook-later-81/
END:VEVENT
END:VCALENDAR