BEGIN:VCALENDAR
VERSION:2.0
PRODID:-//Ariton Baptist Church - ECPv6.15.13.1//NONSGML v1.0//EN
CALSCALE:GREGORIAN
METHOD:PUBLISH
X-WR-CALNAME:Ariton Baptist Church
X-ORIGINAL-URL:https://aritonbc.org
X-WR-CALDESC:Events for Ariton Baptist Church
REFRESH-INTERVAL;VALUE=DURATION:PT1H
X-Robots-Tag:noindex
X-PUBLISHED-TTL:PT1H
BEGIN:VTIMEZONE
TZID:America/Chicago
BEGIN:DAYLIGHT
TZOFFSETFROM:-0600
TZOFFSETTO:-0500
TZNAME:CDT
DTSTART:20240310T080000
END:DAYLIGHT
BEGIN:STANDARD
TZOFFSETFROM:-0500
TZOFFSETTO:-0600
TZNAME:CST
DTSTART:20241103T070000
END:STANDARD
BEGIN:DAYLIGHT
TZOFFSETFROM:-0600
TZOFFSETTO:-0500
TZNAME:CDT
DTSTART:20250309T080000
END:DAYLIGHT
BEGIN:STANDARD
TZOFFSETFROM:-0500
TZOFFSETTO:-0600
TZNAME:CST
DTSTART:20251102T070000
END:STANDARD
BEGIN:DAYLIGHT
TZOFFSETFROM:-0600
TZOFFSETTO:-0500
TZNAME:CDT
DTSTART:20260308T080000
END:DAYLIGHT
BEGIN:STANDARD
TZOFFSETFROM:-0500
TZOFFSETTO:-0600
TZNAME:CST
DTSTART:20261101T070000
END:STANDARD
END:VTIMEZONE
BEGIN:VEVENT
DTSTART;TZID=America/Chicago:20251221T220000
DTEND;TZID=America/Chicago:20251221T230000
DTSTAMP:20260419T234532
CREATED:20251202T185350Z
LAST-MODIFIED:20251204T185344Z
UID:10963-1766354400-1766358000@aritonbc.org
SUMMARY:Post prayer
DESCRIPTION:
URL:https://aritonbc.org/event/post-prayer-156/
END:VEVENT
BEGIN:VEVENT
DTSTART;TZID=America/Chicago:20251222T220000
DTEND;TZID=America/Chicago:20251222T230000
DTSTAMP:20260419T234532
CREATED:20251201T185347Z
LAST-MODIFIED:20251201T185347Z
UID:10823-1766440800-1766444400@aritonbc.org
SUMMARY:Post prayer
DESCRIPTION:
URL:https://aritonbc.org/event/post-prayer-22/
END:VEVENT
BEGIN:VEVENT
DTSTART;TZID=America/Chicago:20251222T220000
DTEND;TZID=America/Chicago:20251222T230000
DTSTAMP:20260419T234532
CREATED:20251202T185350Z
LAST-MODIFIED:20251204T185344Z
UID:10964-1766440800-1766444400@aritonbc.org
SUMMARY:Post prayer
DESCRIPTION:
URL:https://aritonbc.org/event/post-prayer-157/
END:VEVENT
BEGIN:VEVENT
DTSTART;VALUE=DATE:20251223
DTEND;VALUE=DATE:20251224
DTSTAMP:20260419T234532
CREATED:20250414T212416Z
LAST-MODIFIED:20251223T182357Z
UID:9644-1766448000-1766534399@aritonbc.org
SUMMARY:Magazines Out
DESCRIPTION:
URL:https://aritonbc.org/event/magazines-out-37/
END:VEVENT
BEGIN:VEVENT
DTSTART;TZID=America/Chicago:20251223T220000
DTEND;TZID=America/Chicago:20251223T230000
DTSTAMP:20260419T234532
CREATED:20251201T185347Z
LAST-MODIFIED:20251201T185347Z
UID:10824-1766527200-1766530800@aritonbc.org
SUMMARY:Post prayer
DESCRIPTION:
URL:https://aritonbc.org/event/post-prayer-23/
END:VEVENT
BEGIN:VEVENT
DTSTART;TZID=America/Chicago:20251223T220000
DTEND;TZID=America/Chicago:20251223T230000
DTSTAMP:20260419T234532
CREATED:20251202T185350Z
LAST-MODIFIED:20251204T185344Z
UID:10965-1766527200-1766530800@aritonbc.org
SUMMARY:Post prayer
DESCRIPTION:
URL:https://aritonbc.org/event/post-prayer-158/
END:VEVENT
BEGIN:VEVENT
DTSTART;VALUE=DATE:20251224
DTEND;VALUE=DATE:20251225
DTSTAMP:20260419T234532
CREATED:20250916T222434Z
LAST-MODIFIED:20251224T182350Z
UID:10458-1766534400-1766620799@aritonbc.org
SUMMARY:Christmas Eve
DESCRIPTION:
URL:https://aritonbc.org/event/christmas-eve-3/
END:VEVENT
BEGIN:VEVENT
DTSTART;TZID=America/Chicago:20251224T173000
DTEND;TZID=America/Chicago:20251224T183000
DTSTAMP:20260419T234532
CREATED:20250416T212442Z
LAST-MODIFIED:20250703T180856Z
UID:9653-1766597400-1766601000@aritonbc.org
SUMMARY:Wednesday Night Meal
DESCRIPTION:
URL:https://aritonbc.org/event/wednesday-night-meal-154/
END:VEVENT
BEGIN:VEVENT
DTSTART;TZID=America/Chicago:20251224T173000
DTEND;TZID=America/Chicago:20251224T183000
DTSTAMP:20260419T234532
CREATED:20250707T180904Z
LAST-MODIFIED:20250915T220906Z
UID:10183-1766597400-1766601000@aritonbc.org
SUMMARY:Wednesday Meal
DESCRIPTION:
URL:https://aritonbc.org/event/wednesday-meal-25/
END:VEVENT
BEGIN:VEVENT
DTSTART;TZID=America/Chicago:20251224T183000
DTEND;TZID=America/Chicago:20251224T193000
DTSTAMP:20260419T234532
CREATED:20250416T212442Z
LAST-MODIFIED:20250915T220906Z
UID:9652-1766601000-1766604600@aritonbc.org
SUMMARY:Wednesday Night Service
DESCRIPTION:Check Ariton Baptist Facebook page for instructions
URL:https://aritonbc.org/event/wednesday-night-service-155/
END:VEVENT
BEGIN:VEVENT
DTSTART;TZID=America/Chicago:20251224T220000
DTEND;TZID=America/Chicago:20251224T230000
DTSTAMP:20260419T234532
CREATED:20251201T185347Z
LAST-MODIFIED:20251201T185347Z
UID:10825-1766613600-1766617200@aritonbc.org
SUMMARY:Post prayer
DESCRIPTION:
URL:https://aritonbc.org/event/post-prayer-24/
END:VEVENT
BEGIN:VEVENT
DTSTART;TZID=America/Chicago:20251224T220000
DTEND;TZID=America/Chicago:20251224T230000
DTSTAMP:20260419T234532
CREATED:20251202T185350Z
LAST-MODIFIED:20251204T185345Z
UID:10966-1766613600-1766617200@aritonbc.org
SUMMARY:Post prayer
DESCRIPTION:
URL:https://aritonbc.org/event/post-prayer-159/
END:VEVENT
BEGIN:VEVENT
DTSTART;VALUE=DATE:20251225
DTEND;VALUE=DATE:20251226
DTSTAMP:20260419T234532
CREATED:20250916T222434Z
LAST-MODIFIED:20251225T182351Z
UID:10459-1766620800-1766707199@aritonbc.org
SUMMARY:Christmas Day
DESCRIPTION:
URL:https://aritonbc.org/event/christmas-day-3/
END:VEVENT
BEGIN:VEVENT
DTSTART;TZID=America/Chicago:20251225T220000
DTEND;TZID=America/Chicago:20251225T230000
DTSTAMP:20260419T234532
CREATED:20251201T185347Z
LAST-MODIFIED:20251201T185347Z
UID:10826-1766700000-1766703600@aritonbc.org
SUMMARY:Post prayer
DESCRIPTION:
URL:https://aritonbc.org/event/post-prayer-25/
END:VEVENT
BEGIN:VEVENT
DTSTART;TZID=America/Chicago:20251225T220000
DTEND;TZID=America/Chicago:20251225T230000
DTSTAMP:20260419T234532
CREATED:20251202T185350Z
LAST-MODIFIED:20251204T185345Z
UID:10967-1766700000-1766703600@aritonbc.org
SUMMARY:Post prayer
DESCRIPTION:
URL:https://aritonbc.org/event/post-prayer-160/
END:VEVENT
BEGIN:VEVENT
DTSTART;TZID=America/Chicago:20251226T220000
DTEND;TZID=America/Chicago:20251226T230000
DTSTAMP:20260419T234532
CREATED:20251201T185347Z
LAST-MODIFIED:20251201T185347Z
UID:10827-1766786400-1766790000@aritonbc.org
SUMMARY:Post prayer
DESCRIPTION:
URL:https://aritonbc.org/event/post-prayer-26/
END:VEVENT
BEGIN:VEVENT
DTSTART;TZID=America/Chicago:20251226T220000
DTEND;TZID=America/Chicago:20251226T230000
DTSTAMP:20260419T234532
CREATED:20251202T185350Z
LAST-MODIFIED:20251204T185345Z
UID:10968-1766786400-1766790000@aritonbc.org
SUMMARY:Post prayer
DESCRIPTION:
URL:https://aritonbc.org/event/post-prayer-161/
END:VEVENT
BEGIN:VEVENT
DTSTART;TZID=America/Chicago:20251227T220000
DTEND;TZID=America/Chicago:20251227T230000
DTSTAMP:20260419T234532
CREATED:20251201T185347Z
LAST-MODIFIED:20251201T185347Z
UID:10828-1766872800-1766876400@aritonbc.org
SUMMARY:Post prayer
DESCRIPTION:
URL:https://aritonbc.org/event/post-prayer-27/
END:VEVENT
BEGIN:VEVENT
DTSTART;TZID=America/Chicago:20251227T220000
DTEND;TZID=America/Chicago:20251227T230000
DTSTAMP:20260419T234532
CREATED:20251202T185350Z
LAST-MODIFIED:20251204T185345Z
UID:10969-1766872800-1766876400@aritonbc.org
SUMMARY:Post prayer
DESCRIPTION:
URL:https://aritonbc.org/event/post-prayer-162/
END:VEVENT
BEGIN:VEVENT
DTSTART;TZID=America/Chicago:20251228T094500
DTEND;TZID=America/Chicago:20251228T104500
DTSTAMP:20260419T234532
CREATED:20250417T212526Z
LAST-MODIFIED:20251227T183938Z
UID:9675-1766915100-1766918700@aritonbc.org
SUMMARY:In-House Sunday School
DESCRIPTION:Large Group Adult\, Youth\, Children & Toddler SS Classes. Nursery Provided.
URL:https://aritonbc.org/event/in-house-sunday-school-156/
END:VEVENT
BEGIN:VEVENT
DTSTART;TZID=America/Chicago:20251228T110000
DTEND;TZID=America/Chicago:20251228T120000
DTSTAMP:20260419T234532
CREATED:20250417T212526Z
LAST-MODIFIED:20251227T183938Z
UID:9676-1766919600-1766923200@aritonbc.org
SUMMARY:Worship Service In-House & Posted to Facebook Later
DESCRIPTION:
URL:https://aritonbc.org/event/worship-service-in-house-posted-to-facebook-later-157/
END:VEVENT
BEGIN:VEVENT
DTSTART;TZID=America/Chicago:20251228T170000
DTEND;TZID=America/Chicago:20251228T180000
DTSTAMP:20260419T234532
CREATED:20250417T212526Z
LAST-MODIFIED:20251228T183852Z
UID:9678-1766941200-1766944800@aritonbc.org
SUMMARY:Bible Recap Bible Study
DESCRIPTION:
URL:https://aritonbc.org/event/bible-recap-bible-study-154/
END:VEVENT
BEGIN:VEVENT
DTSTART;TZID=America/Chicago:20251228T180000
DTEND;TZID=America/Chicago:20251228T190000
DTSTAMP:20260419T234532
CREATED:20250417T212526Z
LAST-MODIFIED:20251228T183853Z
UID:9677-1766944800-1766948400@aritonbc.org
SUMMARY:Sunday Evening Service
DESCRIPTION:
URL:https://aritonbc.org/event/sunday-evening-service-51/
END:VEVENT
BEGIN:VEVENT
DTSTART;TZID=America/Chicago:20251228T220000
DTEND;TZID=America/Chicago:20251228T230000
DTSTAMP:20260419T234532
CREATED:20251201T185347Z
LAST-MODIFIED:20251201T185347Z
UID:10829-1766959200-1766962800@aritonbc.org
SUMMARY:Post prayer
DESCRIPTION:
URL:https://aritonbc.org/event/post-prayer-28/
END:VEVENT
BEGIN:VEVENT
DTSTART;TZID=America/Chicago:20251228T220000
DTEND;TZID=America/Chicago:20251228T230000
DTSTAMP:20260419T234532
CREATED:20251202T185351Z
LAST-MODIFIED:20251204T185345Z
UID:10970-1766959200-1766962800@aritonbc.org
SUMMARY:Post prayer
DESCRIPTION:
URL:https://aritonbc.org/event/post-prayer-163/
END:VEVENT
BEGIN:VEVENT
DTSTART;TZID=America/Chicago:20251229T220000
DTEND;TZID=America/Chicago:20251229T230000
DTSTAMP:20260419T234532
CREATED:20251201T185348Z
LAST-MODIFIED:20251201T185348Z
UID:10830-1767045600-1767049200@aritonbc.org
SUMMARY:Post prayer
DESCRIPTION:
URL:https://aritonbc.org/event/post-prayer-29/
END:VEVENT
BEGIN:VEVENT
DTSTART;TZID=America/Chicago:20251229T220000
DTEND;TZID=America/Chicago:20251229T230000
DTSTAMP:20260419T234532
CREATED:20251202T185351Z
LAST-MODIFIED:20251204T185345Z
UID:10971-1767045600-1767049200@aritonbc.org
SUMMARY:Post prayer
DESCRIPTION:
URL:https://aritonbc.org/event/post-prayer-164/
END:VEVENT
BEGIN:VEVENT
DTSTART;TZID=America/Chicago:20251230T220000
DTEND;TZID=America/Chicago:20251230T230000
DTSTAMP:20260419T234532
CREATED:20251201T185348Z
LAST-MODIFIED:20251201T185348Z
UID:10831-1767132000-1767135600@aritonbc.org
SUMMARY:Post prayer
DESCRIPTION:
URL:https://aritonbc.org/event/post-prayer-30/
END:VEVENT
BEGIN:VEVENT
DTSTART;TZID=America/Chicago:20251230T220000
DTEND;TZID=America/Chicago:20251230T230000
DTSTAMP:20260419T234532
CREATED:20251202T185351Z
LAST-MODIFIED:20251204T185345Z
UID:10972-1767132000-1767135600@aritonbc.org
SUMMARY:Post prayer
DESCRIPTION:
URL:https://aritonbc.org/event/post-prayer-165/
END:VEVENT
BEGIN:VEVENT
DTSTART;VALUE=DATE:20251231
DTEND;VALUE=DATE:20260101
DTSTAMP:20260419T234532
CREATED:20250916T222435Z
LAST-MODIFIED:20251231T183845Z
UID:10460-1767139200-1767225599@aritonbc.org
SUMMARY:New Year's Eve
DESCRIPTION:
URL:https://aritonbc.org/event/new-years-eve-3/
END:VEVENT
END:VCALENDAR