BEGIN:VCALENDAR
VERSION:2.0
PRODID:-//Ariton Baptist Church - ECPv6.15.13.1//NONSGML v1.0//EN
CALSCALE:GREGORIAN
METHOD:PUBLISH
X-WR-CALNAME:Ariton Baptist Church
X-ORIGINAL-URL:https://aritonbc.org
X-WR-CALDESC:Events for Ariton Baptist Church
REFRESH-INTERVAL;VALUE=DURATION:PT1H
X-Robots-Tag:noindex
X-PUBLISHED-TTL:PT1H
BEGIN:VTIMEZONE
TZID:America/Chicago
BEGIN:DAYLIGHT
TZOFFSETFROM:-0600
TZOFFSETTO:-0500
TZNAME:CDT
DTSTART:20240310T080000
END:DAYLIGHT
BEGIN:STANDARD
TZOFFSETFROM:-0500
TZOFFSETTO:-0600
TZNAME:CST
DTSTART:20241103T070000
END:STANDARD
BEGIN:DAYLIGHT
TZOFFSETFROM:-0600
TZOFFSETTO:-0500
TZNAME:CDT
DTSTART:20250309T080000
END:DAYLIGHT
BEGIN:STANDARD
TZOFFSETFROM:-0500
TZOFFSETTO:-0600
TZNAME:CST
DTSTART:20251102T070000
END:STANDARD
BEGIN:DAYLIGHT
TZOFFSETFROM:-0600
TZOFFSETTO:-0500
TZNAME:CDT
DTSTART:20260308T080000
END:DAYLIGHT
BEGIN:STANDARD
TZOFFSETFROM:-0500
TZOFFSETTO:-0600
TZNAME:CST
DTSTART:20261101T070000
END:STANDARD
END:VTIMEZONE
BEGIN:VEVENT
DTSTART;TZID=America/Chicago:20251126T173000
DTEND;TZID=America/Chicago:20251126T183000
DTSTAMP:20260419T201254
CREATED:20250707T180903Z
LAST-MODIFIED:20251126T183909Z
UID:10179-1764178200-1764181800@aritonbc.org
SUMMARY:Wednesday Meal
DESCRIPTION:
URL:https://aritonbc.org/event/wednesday-meal-21/
END:VEVENT
BEGIN:VEVENT
DTSTART;TZID=America/Chicago:20251126T183000
DTEND;TZID=America/Chicago:20251126T193000
DTSTAMP:20260419T201254
CREATED:20250310T193845Z
LAST-MODIFIED:20251126T183909Z
UID:9453-1764181800-1764185400@aritonbc.org
SUMMARY:Wednesday Night Service
DESCRIPTION:Check Ariton Baptist Facebook page for instructions
URL:https://aritonbc.org/event/wednesday-night-service-151/
END:VEVENT
BEGIN:VEVENT
DTSTART;VALUE=DATE:20251127
DTEND;VALUE=DATE:20251128
DTSTAMP:20260419T201254
CREATED:20250916T222433Z
LAST-MODIFIED:20251127T183850Z
UID:10455-1764201600-1764287999@aritonbc.org
SUMMARY:Thanksgiving Day
DESCRIPTION:
URL:https://aritonbc.org/event/thanksgiving-day-3/
END:VEVENT
BEGIN:VEVENT
DTSTART;VALUE=DATE:20251130
DTEND;VALUE=DATE:20251201
DTSTAMP:20260419T201254
CREATED:20250311T193844Z
LAST-MODIFIED:20251130T185354Z
UID:9460-1764460800-1764547199@aritonbc.org
SUMMARY:Schedule A Budget Meeting
DESCRIPTION:
URL:https://aritonbc.org/event/schedule-a-budget-meeting-3/
END:VEVENT
BEGIN:VEVENT
DTSTART;VALUE=DATE:20251130
DTEND;VALUE=DATE:20251201
DTSTAMP:20260419T201254
CREATED:20250916T222434Z
LAST-MODIFIED:20251130T185354Z
UID:10456-1764460800-1764547199@aritonbc.org
SUMMARY:First Sunday of Advent
DESCRIPTION:
URL:https://aritonbc.org/event/first-sunday-of-advent/
END:VEVENT
BEGIN:VEVENT
DTSTART;TZID=America/Chicago:20251130T094500
DTEND;TZID=America/Chicago:20251130T104500
DTSTAMP:20260419T201254
CREATED:20250310T193845Z
LAST-MODIFIED:20251129T185344Z
UID:9455-1764495900-1764499500@aritonbc.org
SUMMARY:In-House Sunday School
DESCRIPTION:Large Group Adult\, Youth\, Children & Toddler SS Classes. Nursery Provided.
URL:https://aritonbc.org/event/in-house-sunday-school-152/
END:VEVENT
BEGIN:VEVENT
DTSTART;TZID=America/Chicago:20251130T110000
DTEND;TZID=America/Chicago:20251130T120000
DTSTAMP:20260419T201254
CREATED:20250310T193845Z
LAST-MODIFIED:20251129T185344Z
UID:9456-1764500400-1764504000@aritonbc.org
SUMMARY:Worship Service In-House & Posted to Facebook Later
DESCRIPTION:
URL:https://aritonbc.org/event/worship-service-in-house-posted-to-facebook-later-153/
END:VEVENT
BEGIN:VEVENT
DTSTART;TZID=America/Chicago:20251130T170000
DTEND;TZID=America/Chicago:20251130T180000
DTSTAMP:20260419T201254
CREATED:20250313T193955Z
LAST-MODIFIED:20251130T185354Z
UID:9466-1764522000-1764525600@aritonbc.org
SUMMARY:Bible Recap Bible Study
DESCRIPTION:
URL:https://aritonbc.org/event/bible-recap-bible-study-150/
END:VEVENT
BEGIN:VEVENT
DTSTART;TZID=America/Chicago:20251130T180000
DTEND;TZID=America/Chicago:20251130T190000
DTSTAMP:20260419T201254
CREATED:20250316T195510Z
LAST-MODIFIED:20251130T185354Z
UID:9472-1764525600-1764529200@aritonbc.org
SUMMARY:Sunday Evening Service
DESCRIPTION:
URL:https://aritonbc.org/event/sunday-evening-service-47/
END:VEVENT
BEGIN:VEVENT
DTSTART;TZID=America/Chicago:20251201T173000
DTEND;TZID=America/Chicago:20251201T203000
DTSTAMP:20260419T201254
CREATED:20251110T175346Z
LAST-MODIFIED:20251201T185345Z
UID:10694-1764610200-1764621000@aritonbc.org
SUMMARY:Decorate for Christmas
DESCRIPTION:
URL:https://aritonbc.org/event/decorate-for-christmas/
END:VEVENT
BEGIN:VEVENT
DTSTART;TZID=America/Chicago:20251201T220000
DTEND;TZID=America/Chicago:20251201T230000
DTSTAMP:20260419T201254
CREATED:20251201T185344Z
LAST-MODIFIED:20251201T185346Z
UID:10797-1764626400-1764630000@aritonbc.org
SUMMARY:Post prayer
DESCRIPTION:
URL:https://aritonbc.org/event/post-prayer/
END:VEVENT
BEGIN:VEVENT
DTSTART;TZID=America/Chicago:20251202T100000
DTEND;TZID=America/Chicago:20251202T110000
DTSTAMP:20260419T201254
CREATED:20251120T182354Z
LAST-MODIFIED:20251201T185346Z
UID:10742-1764669600-1764673200@aritonbc.org
SUMMARY:Jonathan-Cooke's Pest Control
DESCRIPTION:Cell# 334-405-6239
URL:https://aritonbc.org/event/jonathan-cookes-pest-control/
END:VEVENT
BEGIN:VEVENT
DTSTART;TZID=America/Chicago:20251202T220000
DTEND;TZID=America/Chicago:20251202T230000
DTSTAMP:20260419T201254
CREATED:20251201T185344Z
LAST-MODIFIED:20251201T185346Z
UID:10798-1764712800-1764716400@aritonbc.org
SUMMARY:Post prayer
DESCRIPTION:
URL:https://aritonbc.org/event/post-prayer-2/
END:VEVENT
BEGIN:VEVENT
DTSTART;TZID=America/Chicago:20251202T220000
DTEND;TZID=America/Chicago:20251202T230000
DTSTAMP:20260419T201254
CREATED:20251202T185348Z
LAST-MODIFIED:20251202T185348Z
UID:10939-1764712800-1764716400@aritonbc.org
SUMMARY:Post prayer
DESCRIPTION:
URL:https://aritonbc.org/event/post-prayer-137/
END:VEVENT
BEGIN:VEVENT
DTSTART;TZID=America/Chicago:20251203T173000
DTEND;TZID=America/Chicago:20251203T183000
DTSTAMP:20260419T201254
CREATED:20250316T195510Z
LAST-MODIFIED:20250703T180855Z
UID:9473-1764783000-1764786600@aritonbc.org
SUMMARY:Wednesday Night Meal
DESCRIPTION:
URL:https://aritonbc.org/event/wednesday-night-meal-151/
END:VEVENT
BEGIN:VEVENT
DTSTART;TZID=America/Chicago:20251203T173000
DTEND;TZID=America/Chicago:20251203T183000
DTSTAMP:20260419T201254
CREATED:20250707T180903Z
LAST-MODIFIED:20251203T185346Z
UID:10180-1764783000-1764786600@aritonbc.org
SUMMARY:Wednesday Meal
DESCRIPTION:
URL:https://aritonbc.org/event/wednesday-meal-22/
END:VEVENT
BEGIN:VEVENT
DTSTART;TZID=America/Chicago:20251203T183000
DTEND;TZID=America/Chicago:20251203T193000
DTSTAMP:20260419T201254
CREATED:20250317T200848Z
LAST-MODIFIED:20251203T185346Z
UID:9476-1764786600-1764790200@aritonbc.org
SUMMARY:Wednesday Night Service
DESCRIPTION:Check Ariton Baptist Facebook page for instructions
URL:https://aritonbc.org/event/wednesday-night-service-152/
END:VEVENT
BEGIN:VEVENT
DTSTART;TZID=America/Chicago:20251203T193000
DTEND;TZID=America/Chicago:20251203T203000
DTSTAMP:20260419T201254
CREATED:20251121T182349Z
LAST-MODIFIED:20251203T185346Z
UID:10750-1764790200-1764793800@aritonbc.org
SUMMARY:Finance Committee-Budget Meeting
DESCRIPTION:
URL:https://aritonbc.org/event/finance-committee-budget-meeting/
END:VEVENT
BEGIN:VEVENT
DTSTART;TZID=America/Chicago:20251203T220000
DTEND;TZID=America/Chicago:20251203T230000
DTSTAMP:20260419T201254
CREATED:20251201T185344Z
LAST-MODIFIED:20251201T185346Z
UID:10799-1764799200-1764802800@aritonbc.org
SUMMARY:Post prayer
DESCRIPTION:
URL:https://aritonbc.org/event/post-prayer-3/
END:VEVENT
BEGIN:VEVENT
DTSTART;TZID=America/Chicago:20251203T220000
DTEND;TZID=America/Chicago:20251203T230000
DTSTAMP:20260419T201254
CREATED:20251202T185348Z
LAST-MODIFIED:20251203T185346Z
UID:10940-1764799200-1764802800@aritonbc.org
SUMMARY:Post prayer
DESCRIPTION:
URL:https://aritonbc.org/event/post-prayer-138/
END:VEVENT
BEGIN:VEVENT
DTSTART;TZID=America/Chicago:20251204T220000
DTEND;TZID=America/Chicago:20251204T230000
DTSTAMP:20260419T201254
CREATED:20251201T185344Z
LAST-MODIFIED:20251201T185346Z
UID:10800-1764885600-1764889200@aritonbc.org
SUMMARY:Post prayer
DESCRIPTION:
URL:https://aritonbc.org/event/post-prayer-4/
END:VEVENT
BEGIN:VEVENT
DTSTART;TZID=America/Chicago:20251204T220000
DTEND;TZID=America/Chicago:20251204T230000
DTSTAMP:20260419T201254
CREATED:20251202T185348Z
LAST-MODIFIED:20251204T185345Z
UID:10941-1764885600-1764889200@aritonbc.org
SUMMARY:Post prayer
DESCRIPTION:
URL:https://aritonbc.org/event/post-prayer-139/
END:VEVENT
BEGIN:VEVENT
DTSTART;TZID=America/Chicago:20251205T220000
DTEND;TZID=America/Chicago:20251205T230000
DTSTAMP:20260419T201254
CREATED:20251201T185344Z
LAST-MODIFIED:20251201T185346Z
UID:10801-1764972000-1764975600@aritonbc.org
SUMMARY:Post prayer
DESCRIPTION:
URL:https://aritonbc.org/event/post-prayer-5/
END:VEVENT
BEGIN:VEVENT
DTSTART;TZID=America/Chicago:20251205T220000
DTEND;TZID=America/Chicago:20251205T230000
DTSTAMP:20260419T201254
CREATED:20251202T185348Z
LAST-MODIFIED:20251204T185345Z
UID:10942-1764972000-1764975600@aritonbc.org
SUMMARY:Post prayer
DESCRIPTION:
URL:https://aritonbc.org/event/post-prayer-140/
END:VEVENT
BEGIN:VEVENT
DTSTART;VALUE=DATE:20251206
DTEND;VALUE=DATE:20251207
DTSTAMP:20260419T201254
CREATED:20250317T200849Z
LAST-MODIFIED:20251120T182354Z
UID:9478-1764979200-1765065599@aritonbc.org
SUMMARY:Conecuh River Girls Youth Deer Hunt
DESCRIPTION:
URL:https://aritonbc.org/event/conecuh-river-girls-youth-deer-hunt/
END:VEVENT
BEGIN:VEVENT
DTSTART;TZID=America/Chicago:20251206T140000
DTEND;TZID=America/Chicago:20251206T152000
DTSTAMP:20260419T201254
CREATED:20251121T182350Z
LAST-MODIFIED:20251206T185348Z
UID:10751-1765029600-1765034400@aritonbc.org
SUMMARY:Shower-Baby Tuttle
DESCRIPTION:
URL:https://aritonbc.org/event/shower-baby-tuttle/
END:VEVENT
BEGIN:VEVENT
DTSTART;TZID=America/Chicago:20251206T220000
DTEND;TZID=America/Chicago:20251206T230000
DTSTAMP:20260419T201254
CREATED:20251201T185346Z
LAST-MODIFIED:20251201T185346Z
UID:10807-1765058400-1765062000@aritonbc.org
SUMMARY:Post prayer
DESCRIPTION:
URL:https://aritonbc.org/event/post-prayer-6/
END:VEVENT
BEGIN:VEVENT
DTSTART;TZID=America/Chicago:20251206T220000
DTEND;TZID=America/Chicago:20251206T230000
DTSTAMP:20260419T201254
CREATED:20251202T185348Z
LAST-MODIFIED:20251204T185345Z
UID:10944-1765058400-1765062000@aritonbc.org
SUMMARY:Post prayer
DESCRIPTION:
URL:https://aritonbc.org/event/post-prayer-141/
END:VEVENT
BEGIN:VEVENT
DTSTART;TZID=America/Chicago:20251207T080000
DTEND;TZID=America/Chicago:20251207T090000
DTSTAMP:20260419T201254
CREATED:20250319T200856Z
LAST-MODIFIED:20250717T190856Z
UID:9483-1765094400-1765098000@aritonbc.org
SUMMARY:Deacon's Meeting
DESCRIPTION:
URL:https://aritonbc.org/event/deacons-meeting-18/
END:VEVENT
BEGIN:VEVENT
DTSTART;TZID=America/Chicago:20251207T083000
DTEND;TZID=America/Chicago:20251207T093000
DTSTAMP:20260419T201254
CREATED:20250718T190913Z
LAST-MODIFIED:20251206T185349Z
UID:10258-1765096200-1765099800@aritonbc.org
SUMMARY:Deacon's Meeting
DESCRIPTION:
URL:https://aritonbc.org/event/deacons-meeting-23/
END:VEVENT
END:VCALENDAR