BEGIN:VCALENDAR
VERSION:2.0
PRODID:-//Ariton Baptist Church - ECPv6.15.13.1//NONSGML v1.0//EN
CALSCALE:GREGORIAN
METHOD:PUBLISH
X-WR-CALNAME:Ariton Baptist Church
X-ORIGINAL-URL:https://aritonbc.org
X-WR-CALDESC:Events for Ariton Baptist Church
REFRESH-INTERVAL;VALUE=DURATION:PT1H
X-Robots-Tag:noindex
X-PUBLISHED-TTL:PT1H
BEGIN:VTIMEZONE
TZID:America/Chicago
BEGIN:DAYLIGHT
TZOFFSETFROM:-0600
TZOFFSETTO:-0500
TZNAME:CDT
DTSTART:20230312T080000
END:DAYLIGHT
BEGIN:STANDARD
TZOFFSETFROM:-0500
TZOFFSETTO:-0600
TZNAME:CST
DTSTART:20231105T070000
END:STANDARD
BEGIN:DAYLIGHT
TZOFFSETFROM:-0600
TZOFFSETTO:-0500
TZNAME:CDT
DTSTART:20240310T080000
END:DAYLIGHT
BEGIN:STANDARD
TZOFFSETFROM:-0500
TZOFFSETTO:-0600
TZNAME:CST
DTSTART:20241103T070000
END:STANDARD
BEGIN:DAYLIGHT
TZOFFSETFROM:-0600
TZOFFSETTO:-0500
TZNAME:CDT
DTSTART:20250309T080000
END:DAYLIGHT
BEGIN:STANDARD
TZOFFSETFROM:-0500
TZOFFSETTO:-0600
TZNAME:CST
DTSTART:20251102T070000
END:STANDARD
END:VTIMEZONE
BEGIN:VEVENT
DTSTART;TZID=America/Chicago:20240828T173000
DTEND;TZID=America/Chicago:20240828T183000
DTSTAMP:20260419T110239
CREATED:20231108T174938Z
LAST-MODIFIED:20240610T233433Z
UID:6376-1724866200-1724869800@aritonbc.org
SUMMARY:Wednesday Night Meal
DESCRIPTION:
URL:https://aritonbc.org/event/wednesday-night-meal-87/
END:VEVENT
BEGIN:VEVENT
DTSTART;VALUE=DATE:20240828
DTEND;VALUE=DATE:20240829
DTSTAMP:20260419T110239
CREATED:20231106T173438Z
LAST-MODIFIED:20240610T233433Z
UID:6368-1724803200-1724889599@aritonbc.org
SUMMARY:Special Called Meeting-NomCom
DESCRIPTION:
URL:https://aritonbc.org/event/special-called-meeting-nomcom-2/
END:VEVENT
BEGIN:VEVENT
DTSTART;TZID=America/Chicago:20240827T093000
DTEND;TZID=America/Chicago:20240827T110000
DTSTAMP:20260419T110239
CREATED:20240119T220458Z
LAST-MODIFIED:20240126T221955Z
UID:6848-1724751000-1724756400@aritonbc.org
SUMMARY:Women's Bible Study
DESCRIPTION:
URL:https://aritonbc.org/event/womens-bible-study-45/
END:VEVENT
BEGIN:VEVENT
DTSTART;VALUE=DATE:20240827
DTEND;VALUE=DATE:20240828
DTSTAMP:20260419T110239
CREATED:20231106T173438Z
LAST-MODIFIED:20240610T233433Z
UID:6367-1724716800-1724803199@aritonbc.org
SUMMARY:Magazines Out
DESCRIPTION:
URL:https://aritonbc.org/event/magazines-out-21/
END:VEVENT
BEGIN:VEVENT
DTSTART;TZID=America/Chicago:20240825T180000
DTEND;TZID=America/Chicago:20240825T190000
DTSTAMP:20260419T110239
CREATED:20240119T220458Z
LAST-MODIFIED:20240610T233433Z
UID:6847-1724608800-1724612400@aritonbc.org
SUMMARY:Bible Recap Bible Study
DESCRIPTION:
URL:https://aritonbc.org/event/bible-recap-bible-study-32/
END:VEVENT
BEGIN:VEVENT
DTSTART;TZID=America/Chicago:20240825T170000
DTEND;TZID=America/Chicago:20240825T180000
DTSTAMP:20260419T110239
CREATED:20240116T214952Z
LAST-MODIFIED:20240610T233433Z
UID:6724-1724605200-1724608800@aritonbc.org
SUMMARY:Discipleship Training
DESCRIPTION:
URL:https://aritonbc.org/event/discipleship-training-129/
END:VEVENT
BEGIN:VEVENT
DTSTART;TZID=America/Chicago:20240825T170000
DTEND;TZID=America/Chicago:20240825T180000
DTSTAMP:20260419T110239
CREATED:20231106T173438Z
LAST-MODIFIED:20240115T214943Z
UID:6366-1724605200-1724608800@aritonbc.org
SUMMARY:Discipleship Training
DESCRIPTION:
URL:https://aritonbc.org/event/discipleship-training-86/
END:VEVENT
BEGIN:VEVENT
DTSTART;TZID=America/Chicago:20240825T110000
DTEND;TZID=America/Chicago:20240825T120000
DTSTAMP:20260419T110239
CREATED:20231106T173438Z
LAST-MODIFIED:20240610T233433Z
UID:6365-1724583600-1724587200@aritonbc.org
SUMMARY:Worship Service In-House & Posted to Facebook Later
DESCRIPTION:
URL:https://aritonbc.org/event/worship-service-in-house-posted-to-facebook-later-87/
END:VEVENT
BEGIN:VEVENT
DTSTART;TZID=America/Chicago:20240825T094500
DTEND;TZID=America/Chicago:20240825T104500
DTSTAMP:20260419T110239
CREATED:20231105T060545Z
LAST-MODIFIED:20240610T233433Z
UID:6249-1724579100-1724582700@aritonbc.org
SUMMARY:In-House Sunday School
DESCRIPTION:Large Group Adult\, Youth\, Children & Toddler SS Classes. Nursery Provided.
URL:https://aritonbc.org/event/in-house-sunday-school-86/
END:VEVENT
BEGIN:VEVENT
DTSTART;VALUE=DATE:20240822
DTEND;VALUE=DATE:20240823
DTSTAMP:20260419T110239
CREATED:20231105T060545Z
LAST-MODIFIED:20240610T233433Z
UID:6247-1724284800-1724371199@aritonbc.org
SUMMARY:Pass Out New Literature
DESCRIPTION:
URL:https://aritonbc.org/event/pass-out-new-literature-7/
END:VEVENT
BEGIN:VEVENT
DTSTART;TZID=America/Chicago:20240821T183000
DTEND;TZID=America/Chicago:20240821T193000
DTSTAMP:20260419T110239
CREATED:20231105T060545Z
LAST-MODIFIED:20240610T233433Z
UID:6248-1724265000-1724268600@aritonbc.org
SUMMARY:Wednesday Night Service
DESCRIPTION:Check Ariton Baptist Facebook page for instructions
URL:https://aritonbc.org/event/wednesday-night-service-87/
END:VEVENT
BEGIN:VEVENT
DTSTART;TZID=America/Chicago:20240821T173000
DTEND;TZID=America/Chicago:20240821T183000
DTSTAMP:20260419T110239
CREATED:20231105T060545Z
LAST-MODIFIED:20240610T233433Z
UID:6246-1724261400-1724265000@aritonbc.org
SUMMARY:Wednesday Night Meal
DESCRIPTION:
URL:https://aritonbc.org/event/wednesday-night-meal-86/
END:VEVENT
BEGIN:VEVENT
DTSTART;TZID=America/Chicago:20240821T093000
DTEND;TZID=America/Chicago:20240821T130000
DTSTAMP:20260419T110239
CREATED:20231105T060545Z
LAST-MODIFIED:20240610T233433Z
UID:6245-1724232600-1724245200@aritonbc.org
SUMMARY:BROWN BAG MINISTRY Pick-up
DESCRIPTION:
URL:https://aritonbc.org/event/brown-bag-ministry-pick-up-18/
END:VEVENT
BEGIN:VEVENT
DTSTART;TZID=America/Chicago:20240820T093000
DTEND;TZID=America/Chicago:20240820T110000
DTSTAMP:20260419T110239
CREATED:20240119T220457Z
LAST-MODIFIED:20240126T221955Z
UID:6846-1724146200-1724151600@aritonbc.org
SUMMARY:Women's Bible Study
DESCRIPTION:
URL:https://aritonbc.org/event/womens-bible-study-44/
END:VEVENT
BEGIN:VEVENT
DTSTART;VALUE=DATE:20240820
DTEND;VALUE=DATE:20240821
DTSTAMP:20260419T110239
CREATED:20231105T060545Z
LAST-MODIFIED:20240610T233433Z
UID:6244-1724112000-1724198399@aritonbc.org
SUMMARY:Pack BROWN BAGS after 2PM
DESCRIPTION:
URL:https://aritonbc.org/event/pack-brown-bags-after-2pm-18/
END:VEVENT
BEGIN:VEVENT
DTSTART;TZID=America/Chicago:20240818T180000
DTEND;TZID=America/Chicago:20240818T190000
DTSTAMP:20260419T110239
CREATED:20240119T220457Z
LAST-MODIFIED:20240610T233433Z
UID:6845-1724004000-1724007600@aritonbc.org
SUMMARY:Bible Recap Bible Study
DESCRIPTION:
URL:https://aritonbc.org/event/bible-recap-bible-study-31/
END:VEVENT
BEGIN:VEVENT
DTSTART;TZID=America/Chicago:20240818T170000
DTEND;TZID=America/Chicago:20240818T180000
DTSTAMP:20260419T110239
CREATED:20240116T214952Z
LAST-MODIFIED:20240610T233433Z
UID:6723-1724000400-1724004000@aritonbc.org
SUMMARY:Discipleship Training
DESCRIPTION:
URL:https://aritonbc.org/event/discipleship-training-128/
END:VEVENT
BEGIN:VEVENT
DTSTART;TZID=America/Chicago:20240818T170000
DTEND;TZID=America/Chicago:20240818T180000
DTSTAMP:20260419T110239
CREATED:20231105T060545Z
LAST-MODIFIED:20240115T214943Z
UID:6243-1724000400-1724004000@aritonbc.org
SUMMARY:Discipleship Training
DESCRIPTION:
URL:https://aritonbc.org/event/discipleship-training-85/
END:VEVENT
BEGIN:VEVENT
DTSTART;TZID=America/Chicago:20240818T110000
DTEND;TZID=America/Chicago:20240818T120000
DTSTAMP:20260419T110239
CREATED:20231105T060545Z
LAST-MODIFIED:20240610T233433Z
UID:6242-1723978800-1723982400@aritonbc.org
SUMMARY:Worship Service In-House & Posted to Facebook Later
DESCRIPTION:
URL:https://aritonbc.org/event/worship-service-in-house-posted-to-facebook-later-86/
END:VEVENT
BEGIN:VEVENT
DTSTART;TZID=America/Chicago:20240818T094500
DTEND;TZID=America/Chicago:20240818T104500
DTSTAMP:20260419T110239
CREATED:20231105T060545Z
LAST-MODIFIED:20240610T233433Z
UID:6241-1723974300-1723977900@aritonbc.org
SUMMARY:In-House Sunday School
DESCRIPTION:Large Group Adult\, Youth\, Children & Toddler SS Classes. Nursery Provided.
URL:https://aritonbc.org/event/in-house-sunday-school-85/
END:VEVENT
BEGIN:VEVENT
DTSTART;TZID=America/Chicago:20240815T110000
DTEND;TZID=America/Chicago:20240815T130000
DTSTAMP:20260419T110239
CREATED:20231105T060545Z
LAST-MODIFIED:20240610T233433Z
UID:6240-1723719600-1723726800@aritonbc.org
SUMMARY:Wonderful Widows Luncheon
DESCRIPTION:
URL:https://aritonbc.org/event/wonderful-widows-luncheon-10/
END:VEVENT
BEGIN:VEVENT
DTSTART;TZID=America/Chicago:20240814T183000
DTEND;TZID=America/Chicago:20240814T193000
DTSTAMP:20260419T110239
CREATED:20231105T060545Z
LAST-MODIFIED:20240610T233433Z
UID:6239-1723660200-1723663800@aritonbc.org
SUMMARY:Wednesday Night Service
DESCRIPTION:Check Ariton Baptist Facebook page for instructions
URL:https://aritonbc.org/event/wednesday-night-service-86/
END:VEVENT
BEGIN:VEVENT
DTSTART;TZID=America/Chicago:20240814T173000
DTEND;TZID=America/Chicago:20240814T183000
DTSTAMP:20260419T110239
CREATED:20231105T060545Z
LAST-MODIFIED:20240610T233433Z
UID:6238-1723656600-1723660200@aritonbc.org
SUMMARY:Wednesday Night Meal
DESCRIPTION:
URL:https://aritonbc.org/event/wednesday-night-meal-85/
END:VEVENT
BEGIN:VEVENT
DTSTART;TZID=America/Chicago:20240813T093000
DTEND;TZID=America/Chicago:20240813T110000
DTSTAMP:20260419T110239
CREATED:20240119T220457Z
LAST-MODIFIED:20240126T221954Z
UID:6844-1723541400-1723546800@aritonbc.org
SUMMARY:Women's Bible Study
DESCRIPTION:
URL:https://aritonbc.org/event/womens-bible-study-43/
END:VEVENT
BEGIN:VEVENT
DTSTART;TZID=America/Chicago:20240811T180000
DTEND;TZID=America/Chicago:20240811T190000
DTSTAMP:20260419T110239
CREATED:20240119T220457Z
LAST-MODIFIED:20240610T233433Z
UID:6843-1723399200-1723402800@aritonbc.org
SUMMARY:Bible Recap Bible Study
DESCRIPTION:
URL:https://aritonbc.org/event/bible-recap-bible-study-30/
END:VEVENT
BEGIN:VEVENT
DTSTART;TZID=America/Chicago:20240811T170000
DTEND;TZID=America/Chicago:20240811T180000
DTSTAMP:20260419T110239
CREATED:20240116T214952Z
LAST-MODIFIED:20240610T233433Z
UID:6722-1723395600-1723399200@aritonbc.org
SUMMARY:Discipleship Training
DESCRIPTION:
URL:https://aritonbc.org/event/discipleship-training-127/
END:VEVENT
BEGIN:VEVENT
DTSTART;TZID=America/Chicago:20240811T170000
DTEND;TZID=America/Chicago:20240811T180000
DTSTAMP:20260419T110239
CREATED:20231105T060545Z
LAST-MODIFIED:20240115T214943Z
UID:6237-1723395600-1723399200@aritonbc.org
SUMMARY:Discipleship Training
DESCRIPTION:
URL:https://aritonbc.org/event/discipleship-training-84/
END:VEVENT
BEGIN:VEVENT
DTSTART;TZID=America/Chicago:20240811T110000
DTEND;TZID=America/Chicago:20240811T120000
DTSTAMP:20260419T110239
CREATED:20231105T060545Z
LAST-MODIFIED:20240610T233433Z
UID:6236-1723374000-1723377600@aritonbc.org
SUMMARY:Worship Service In-House & Posted to Facebook Later
DESCRIPTION:
URL:https://aritonbc.org/event/worship-service-in-house-posted-to-facebook-later-85/
END:VEVENT
BEGIN:VEVENT
DTSTART;TZID=America/Chicago:20240811T094500
DTEND;TZID=America/Chicago:20240811T104500
DTSTAMP:20260419T110239
CREATED:20231105T060545Z
LAST-MODIFIED:20240610T233433Z
UID:6235-1723369500-1723373100@aritonbc.org
SUMMARY:In-House Sunday School
DESCRIPTION:Large Group Adult\, Youth\, Children & Toddler SS Classes. Nursery Provided.
URL:https://aritonbc.org/event/in-house-sunday-school-84/
END:VEVENT
BEGIN:VEVENT
DTSTART;TZID=America/Chicago:20240811T080000
DTEND;TZID=America/Chicago:20240811T090000
DTSTAMP:20260419T110239
CREATED:20240109T214946Z
LAST-MODIFIED:20240610T233432Z
UID:6649-1723363200-1723366800@aritonbc.org
SUMMARY:Brotherhood Breakfast
DESCRIPTION:
URL:https://aritonbc.org/event/brotherhood-breakfast-30/
END:VEVENT
END:VCALENDAR