BEGIN:VCALENDAR
VERSION:2.0
PRODID:-//Ariton Baptist Church - ECPv6.15.13.1//NONSGML v1.0//EN
CALSCALE:GREGORIAN
METHOD:PUBLISH
X-ORIGINAL-URL:https://aritonbc.org
X-WR-CALDESC:Events for Ariton Baptist Church
REFRESH-INTERVAL;VALUE=DURATION:PT1H
X-Robots-Tag:noindex
X-PUBLISHED-TTL:PT1H
BEGIN:VTIMEZONE
TZID:America/Chicago
BEGIN:DAYLIGHT
TZOFFSETFROM:-0600
TZOFFSETTO:-0500
TZNAME:CDT
DTSTART:20240310T080000
END:DAYLIGHT
BEGIN:STANDARD
TZOFFSETFROM:-0500
TZOFFSETTO:-0600
TZNAME:CST
DTSTART:20241103T070000
END:STANDARD
BEGIN:DAYLIGHT
TZOFFSETFROM:-0600
TZOFFSETTO:-0500
TZNAME:CDT
DTSTART:20250309T080000
END:DAYLIGHT
BEGIN:STANDARD
TZOFFSETFROM:-0500
TZOFFSETTO:-0600
TZNAME:CST
DTSTART:20251102T070000
END:STANDARD
BEGIN:DAYLIGHT
TZOFFSETFROM:-0600
TZOFFSETTO:-0500
TZNAME:CDT
DTSTART:20260308T080000
END:DAYLIGHT
BEGIN:STANDARD
TZOFFSETFROM:-0500
TZOFFSETTO:-0600
TZNAME:CST
DTSTART:20261101T070000
END:STANDARD
END:VTIMEZONE
BEGIN:VEVENT
DTSTART;TZID=America/Chicago:20251205T220000
DTEND;TZID=America/Chicago:20251205T230000
DTSTAMP:20260419T224250
CREATED:20251201T185344Z
LAST-MODIFIED:20251201T185346Z
UID:10801-1764972000-1764975600@aritonbc.org
SUMMARY:Post prayer
DESCRIPTION:
URL:https://aritonbc.org/event/post-prayer-5/
END:VEVENT
BEGIN:VEVENT
DTSTART;TZID=America/Chicago:20251205T220000
DTEND;TZID=America/Chicago:20251205T230000
DTSTAMP:20260419T224250
CREATED:20251202T185348Z
LAST-MODIFIED:20251204T185345Z
UID:10942-1764972000-1764975600@aritonbc.org
SUMMARY:Post prayer
DESCRIPTION:
URL:https://aritonbc.org/event/post-prayer-140/
END:VEVENT
BEGIN:VEVENT
DTSTART;VALUE=DATE:20251206
DTEND;VALUE=DATE:20251207
DTSTAMP:20260419T224250
CREATED:20250317T200849Z
LAST-MODIFIED:20251120T182354Z
UID:9478-1764979200-1765065599@aritonbc.org
SUMMARY:Conecuh River Girls Youth Deer Hunt
DESCRIPTION:
URL:https://aritonbc.org/event/conecuh-river-girls-youth-deer-hunt/
END:VEVENT
BEGIN:VEVENT
DTSTART;TZID=America/Chicago:20251206T140000
DTEND;TZID=America/Chicago:20251206T152000
DTSTAMP:20260419T224250
CREATED:20251121T182350Z
LAST-MODIFIED:20251206T185348Z
UID:10751-1765029600-1765034400@aritonbc.org
SUMMARY:Shower-Baby Tuttle
DESCRIPTION:
URL:https://aritonbc.org/event/shower-baby-tuttle/
END:VEVENT
BEGIN:VEVENT
DTSTART;TZID=America/Chicago:20251206T220000
DTEND;TZID=America/Chicago:20251206T230000
DTSTAMP:20260419T224250
CREATED:20251201T185346Z
LAST-MODIFIED:20251201T185346Z
UID:10807-1765058400-1765062000@aritonbc.org
SUMMARY:Post prayer
DESCRIPTION:
URL:https://aritonbc.org/event/post-prayer-6/
END:VEVENT
BEGIN:VEVENT
DTSTART;TZID=America/Chicago:20251206T220000
DTEND;TZID=America/Chicago:20251206T230000
DTSTAMP:20260419T224250
CREATED:20251202T185348Z
LAST-MODIFIED:20251204T185345Z
UID:10944-1765058400-1765062000@aritonbc.org
SUMMARY:Post prayer
DESCRIPTION:
URL:https://aritonbc.org/event/post-prayer-141/
END:VEVENT
BEGIN:VEVENT
DTSTART;TZID=America/Chicago:20251207T080000
DTEND;TZID=America/Chicago:20251207T090000
DTSTAMP:20260419T224250
CREATED:20250319T200856Z
LAST-MODIFIED:20250717T190856Z
UID:9483-1765094400-1765098000@aritonbc.org
SUMMARY:Deacon's Meeting
DESCRIPTION:
URL:https://aritonbc.org/event/deacons-meeting-18/
END:VEVENT
BEGIN:VEVENT
DTSTART;TZID=America/Chicago:20251207T083000
DTEND;TZID=America/Chicago:20251207T093000
DTSTAMP:20260419T224250
CREATED:20250718T190913Z
LAST-MODIFIED:20251206T185349Z
UID:10258-1765096200-1765099800@aritonbc.org
SUMMARY:Deacon's Meeting
DESCRIPTION:
URL:https://aritonbc.org/event/deacons-meeting-23/
END:VEVENT
BEGIN:VEVENT
DTSTART;TZID=America/Chicago:20251207T094500
DTEND;TZID=America/Chicago:20251207T104500
DTSTAMP:20260419T224250
CREATED:20250319T200856Z
LAST-MODIFIED:20251206T185349Z
UID:9484-1765100700-1765104300@aritonbc.org
SUMMARY:In-House Sunday School
DESCRIPTION:Large Group Adult\, Youth\, Children & Toddler SS Classes. Nursery Provided.
URL:https://aritonbc.org/event/in-house-sunday-school-153/
END:VEVENT
BEGIN:VEVENT
DTSTART;TZID=America/Chicago:20251207T110000
DTEND;TZID=America/Chicago:20251207T120000
DTSTAMP:20260419T224250
CREATED:20250320T201102Z
LAST-MODIFIED:20251206T185349Z
UID:9489-1765105200-1765108800@aritonbc.org
SUMMARY:Worship Service In-House & Posted to Facebook Later
DESCRIPTION:
URL:https://aritonbc.org/event/worship-service-in-house-posted-to-facebook-later-154/
END:VEVENT
BEGIN:VEVENT
DTSTART;TZID=America/Chicago:20251207T170000
DTEND;TZID=America/Chicago:20251207T180000
DTSTAMP:20260419T224250
CREATED:20250320T201102Z
LAST-MODIFIED:20251207T185347Z
UID:9491-1765126800-1765130400@aritonbc.org
SUMMARY:Bible Recap Bible Study
DESCRIPTION:
URL:https://aritonbc.org/event/bible-recap-bible-study-151/
END:VEVENT
BEGIN:VEVENT
DTSTART;TZID=America/Chicago:20251207T180000
DTEND;TZID=America/Chicago:20251207T190000
DTSTAMP:20260419T224250
CREATED:20250320T201102Z
LAST-MODIFIED:20251207T185347Z
UID:9490-1765130400-1765134000@aritonbc.org
SUMMARY:Sunday Evening Service
DESCRIPTION:
URL:https://aritonbc.org/event/sunday-evening-service-48/
END:VEVENT
BEGIN:VEVENT
DTSTART;TZID=America/Chicago:20251207T180000
DTEND;TZID=America/Chicago:20251207T193000
DTSTAMP:20260419T224250
CREATED:20251005T230857Z
LAST-MODIFIED:20251207T185347Z
UID:10547-1765130400-1765135800@aritonbc.org
SUMMARY:Prepare Him Room-TBD
DESCRIPTION:
URL:https://aritonbc.org/event/prepare-him-room-tbd/
END:VEVENT
BEGIN:VEVENT
DTSTART;TZID=America/Chicago:20251207T220000
DTEND;TZID=America/Chicago:20251207T230000
DTSTAMP:20260419T224250
CREATED:20251201T185346Z
LAST-MODIFIED:20251201T185346Z
UID:10808-1765144800-1765148400@aritonbc.org
SUMMARY:Post prayer
DESCRIPTION:
URL:https://aritonbc.org/event/post-prayer-7/
END:VEVENT
BEGIN:VEVENT
DTSTART;TZID=America/Chicago:20251207T220000
DTEND;TZID=America/Chicago:20251207T230000
DTSTAMP:20260419T224250
CREATED:20251202T185349Z
LAST-MODIFIED:20251204T185343Z
UID:10949-1765144800-1765148400@aritonbc.org
SUMMARY:Post prayer
DESCRIPTION:
URL:https://aritonbc.org/event/post-prayer-142/
END:VEVENT
BEGIN:VEVENT
DTSTART;TZID=America/Chicago:20251208T220000
DTEND;TZID=America/Chicago:20251208T230000
DTSTAMP:20260419T224250
CREATED:20251201T185346Z
LAST-MODIFIED:20251201T185346Z
UID:10809-1765231200-1765234800@aritonbc.org
SUMMARY:Post prayer
DESCRIPTION:
URL:https://aritonbc.org/event/post-prayer-8/
END:VEVENT
BEGIN:VEVENT
DTSTART;TZID=America/Chicago:20251208T220000
DTEND;TZID=America/Chicago:20251208T230000
DTSTAMP:20260419T224250
CREATED:20251202T185349Z
LAST-MODIFIED:20251204T185343Z
UID:10950-1765231200-1765234800@aritonbc.org
SUMMARY:Post prayer
DESCRIPTION:
URL:https://aritonbc.org/event/post-prayer-143/
END:VEVENT
BEGIN:VEVENT
DTSTART;TZID=America/Chicago:20251209T220000
DTEND;TZID=America/Chicago:20251209T230000
DTSTAMP:20260419T224250
CREATED:20251201T185346Z
LAST-MODIFIED:20251201T185346Z
UID:10810-1765317600-1765321200@aritonbc.org
SUMMARY:Post prayer
DESCRIPTION:
URL:https://aritonbc.org/event/post-prayer-9/
END:VEVENT
BEGIN:VEVENT
DTSTART;TZID=America/Chicago:20251209T220000
DTEND;TZID=America/Chicago:20251209T230000
DTSTAMP:20260419T224250
CREATED:20251202T185349Z
LAST-MODIFIED:20251204T185343Z
UID:10951-1765317600-1765321200@aritonbc.org
SUMMARY:Post prayer
DESCRIPTION:
URL:https://aritonbc.org/event/post-prayer-144/
END:VEVENT
BEGIN:VEVENT
DTSTART;TZID=America/Chicago:20251210T173000
DTEND;TZID=America/Chicago:20251210T183000
DTSTAMP:20260419T224250
CREATED:20250321T201009Z
LAST-MODIFIED:20250703T180855Z
UID:9498-1765387800-1765391400@aritonbc.org
SUMMARY:Wednesday Night Meal
DESCRIPTION:
URL:https://aritonbc.org/event/wednesday-night-meal-152/
END:VEVENT
BEGIN:VEVENT
DTSTART;TZID=America/Chicago:20251210T173000
DTEND;TZID=America/Chicago:20251210T183000
DTSTAMP:20260419T224250
CREATED:20250707T180903Z
LAST-MODIFIED:20251210T190847Z
UID:10181-1765387800-1765391400@aritonbc.org
SUMMARY:Wednesday Meal
DESCRIPTION:
URL:https://aritonbc.org/event/wednesday-meal-23/
END:VEVENT
BEGIN:VEVENT
DTSTART;TZID=America/Chicago:20251210T183000
DTEND;TZID=America/Chicago:20251210T193000
DTSTAMP:20260419T224250
CREATED:20250320T201102Z
LAST-MODIFIED:20251210T190847Z
UID:9492-1765391400-1765395000@aritonbc.org
SUMMARY:Wednesday Night Service
DESCRIPTION:Check Ariton Baptist Facebook page for instructions
URL:https://aritonbc.org/event/wednesday-night-service-153/
END:VEVENT
BEGIN:VEVENT
DTSTART;TZID=America/Chicago:20251210T220000
DTEND;TZID=America/Chicago:20251210T230000
DTSTAMP:20260419T224250
CREATED:20251201T185346Z
LAST-MODIFIED:20251201T185346Z
UID:10811-1765404000-1765407600@aritonbc.org
SUMMARY:Post prayer
DESCRIPTION:
URL:https://aritonbc.org/event/post-prayer-10/
END:VEVENT
BEGIN:VEVENT
DTSTART;TZID=America/Chicago:20251210T220000
DTEND;TZID=America/Chicago:20251210T230000
DTSTAMP:20260419T224250
CREATED:20251202T185349Z
LAST-MODIFIED:20251204T185344Z
UID:10952-1765404000-1765407600@aritonbc.org
SUMMARY:Post prayer
DESCRIPTION:
URL:https://aritonbc.org/event/post-prayer-145/
END:VEVENT
BEGIN:VEVENT
DTSTART;TZID=America/Chicago:20251211T220000
DTEND;TZID=America/Chicago:20251211T230000
DTSTAMP:20260419T224250
CREATED:20251201T185346Z
LAST-MODIFIED:20251201T185346Z
UID:10812-1765490400-1765494000@aritonbc.org
SUMMARY:Post prayer
DESCRIPTION:
URL:https://aritonbc.org/event/post-prayer-11/
END:VEVENT
BEGIN:VEVENT
DTSTART;TZID=America/Chicago:20251211T220000
DTEND;TZID=America/Chicago:20251211T230000
DTSTAMP:20260419T224250
CREATED:20251202T185349Z
LAST-MODIFIED:20251204T185344Z
UID:10953-1765490400-1765494000@aritonbc.org
SUMMARY:Post prayer
DESCRIPTION:
URL:https://aritonbc.org/event/post-prayer-146/
END:VEVENT
BEGIN:VEVENT
DTSTART;TZID=America/Chicago:20251212T220000
DTEND;TZID=America/Chicago:20251212T230000
DTSTAMP:20260419T224250
CREATED:20251201T185346Z
LAST-MODIFIED:20251201T185346Z
UID:10813-1765576800-1765580400@aritonbc.org
SUMMARY:Post prayer
DESCRIPTION:
URL:https://aritonbc.org/event/post-prayer-12/
END:VEVENT
BEGIN:VEVENT
DTSTART;TZID=America/Chicago:20251212T220000
DTEND;TZID=America/Chicago:20251212T230000
DTSTAMP:20260419T224250
CREATED:20251202T185349Z
LAST-MODIFIED:20251204T185344Z
UID:10954-1765576800-1765580400@aritonbc.org
SUMMARY:Post prayer
DESCRIPTION:
URL:https://aritonbc.org/event/post-prayer-147/
END:VEVENT
BEGIN:VEVENT
DTSTART;TZID=America/Chicago:20251213T183000
DTEND;TZID=America/Chicago:20251213T203000
DTSTAMP:20260419T224250
CREATED:20250827T205357Z
LAST-MODIFIED:20251213T192344Z
UID:10364-1765650600-1765657800@aritonbc.org
SUMMARY:Youth Christmas Play
DESCRIPTION:
URL:https://aritonbc.org/event/youth-play/
END:VEVENT
BEGIN:VEVENT
DTSTART;TZID=America/Chicago:20251213T220000
DTEND;TZID=America/Chicago:20251213T230000
DTSTAMP:20260419T224250
CREATED:20251201T185346Z
LAST-MODIFIED:20251201T185346Z
UID:10814-1765663200-1765666800@aritonbc.org
SUMMARY:Post prayer
DESCRIPTION:
URL:https://aritonbc.org/event/post-prayer-13/
END:VEVENT
END:VCALENDAR